Workbook

Sheet サマリー
A1: ="東京羽村スーパースプリントトライアスロン2026 — ゼッケン"&$B$2&" "&B5&" 結果サマリー（公式リザルトPDFより作成）" -> 東京羽村スーパースプリントトライアスロン2026 — ゼッケン142 中澤 孝介 結果サマリー（公式リザルトPDFより作成）
A2: 対象ゼッケン | B2: 142
A4: 基本情報
A5: 氏名 | B5: =INDEX(全結果!C2:C294,MATCH($B$2,全結果!$B$2:$B$294,0)) -> 中澤 孝介
A6: 性別 | B6: =INDEX(全結果!E2:E294,MATCH($B$2,全結果!$B$2:$B$294,0)) -> 男
A7: 都道府県 | B7: =INDEX(全結果!F2:F294,MATCH($B$2,全結果!$B$2:$B$294,0)) -> 東京都
A8: 区分 | B8: =INDEX(全結果!S2:S294,MATCH($B$2,全結果!$B$2:$B$294,0)) -> 30-49歳男子
A10: 種目別タイムと構成比・ペース（公式リザルトの区分：T1はバイクラップに、T2はランラップに含む／距離はスイム400m・バイク10km・ラン2.7km）
A11: 種目 | B11: タイム | C11: 構成比（総合記録に占める割合） | E11: ペース
A12: スイム | B12: =INDEX(全結果!H2:H294,MATCH($B$2,全結果!$B$2:$B$294,0)) -> 0.0051736111 | C12: =B12/$B$15 -> 0.1785857 | E12: =(B12)/4 -> 0.0012934028
A13: バイク | B13: =INDEX(全結果!J2:J294,MATCH($B$2,全結果!$B$2:$B$294,0)) -> 0.015636574 | C13: =B13/$B$15 -> 0.5397523 | E13: =10/(B13*24) -> 26.646928
A14: ラン | B14: =INDEX(全結果!N2:N294,MATCH($B$2,全結果!$B$2:$B$294,0)) -> 0.0081597222 | C14: =B14/$B$15 -> 0.28166201 | E14: =(B14)/2.7 -> 0.0030221193
A15: 総合 | B15: =INDEX(全結果!G2:G294,MATCH($B$2,全結果!$B$2:$B$294,0)) -> 0.028969907 | C15: 1
A16: 注：バイクのペース（平均速度）はT1（スイム→バイク）を、ランのペース（1kmあたり）はT2（バイク→ラン）を含むラップタイムから算出。純粋な走行・走行ペースよりわずかに遅く出ます。
A18: ="種目別 順位・上位%・トップ選手とのタイム差（総合＝OPEN以外の全完走者／"&B6&"／区分＝"&B8&"）※区分順位は総合男女表彰対象者(上位5位)を除く公式ルールに準拠" -> 種目別 順位・上位%・トップ選手とのタイム差（総合＝OPEN以外の全完走者／男／区分＝30-49歳男子）※区分順位は総合男女表彰対象者(上位5位)を除く公式ルールに準拠
A19: 種目 | B19: 対象 | C19: 順位 | D19: 母数 | E19: 上位% | F19: トップとの差 | G19: グラフ用ラベル
A20: スイム | B20: 総合 | C20: =INDEX(全結果!$I$2:$I$294,MATCH($B$2,全結果!$B$2:$B$294,0)) -> 40 | D20: =COUNT(全結果!$I$2:$I$294) -> 258 | E20: =C20/D20 -> 0.15503876 | F20: =INDEX(全結果!$H$2:$H$294,MATCH($B$2,全結果!$B$2:$B$294,0))-(SUMPRODUCT((全結果!$I$2:$I$294=1)*全結果!$H$2:$H$294)) -> 0.0012268519 | G20: ="スイム - "&B20 -> スイム - 総合
B21: =$B$6 -> 男 | C21: =SUMPRODUCT((全結果!$E$2:$E$294=$B$6)*(全結果!$I$2:$I$294<>"")*(全結果!$H$2:$H$294<INDEX(全結果!$H$2:$H$294,MATCH($B$2,全結果!$B$2:$B$294,0))))+1 -> 27 | D21: =SUMPRODUCT((全結果!$E$2:$E$294=$B$6)*(全結果!$I$2:$I$294<>"")) -> 202 | E21: =C21/D21 -> 0.13366337 | F21: =INDEX(全結果!$H$2:$H$294,MATCH($B$2,全結果!$B$2:$B$294,0))-(MIN(全結果!$V$2:$V$294)) -> 0.0012268519 | G21: ="スイム - "&B21 -> スイム - 男
B22: ="区分("&$B$8&")" -> 区分(30-49歳男子) | C22: =SUMPRODUCT((全結果!$S$2:$S$294=$B$8)*(全結果!$I$2:$I$294<>"")*(全結果!$H$2:$H$294<INDEX(全結果!$H$2:$H$294,MATCH($B$2,全結果!$B$2:$B$294,0))))+1 -> 12 | D22: =SUMPRODUCT((全結果!$S$2:$S$294=$B$8)*(全結果!$I$2:$I$294<>"")) -> 79 | E22: =C22/D22 -> 0.15189873 | F22: =INDEX(全結果!$H$2:$H$294,MATCH($B$2,全結果!$B$2:$B$294,0))-(MIN(全結果!$W$2:$W$294)) -> 0.0011921296 | G22: ="スイム - "&B22 -> スイム - 区分(30-49歳男子)
A23: バイク | B23: 総合 | C23: =INDEX(全結果!$K$2:$K$294,MATCH($B$2,全結果!$B$2:$B$294,0)) -> 13 | D23: =COUNT(全結果!$K$2:$K$294) -> 257 | E23: =C23/D23 -> 0.050583658 | F23: =INDEX(全結果!$J$2:$J$294,MATCH($B$2,全結果!$B$2:$B$294,0))-(SUMPRODUCT((全結果!$K$2:$K$294=1)*全結果!$J$2:$J$294)) -> 0.0021412037 | G23: ="バイク - "&B23 -> バイク - 総合
B24: =$B$6 -> 男 | C24: =SUMPRODUCT((全結果!$E$2:$E$294=$B$6)*(全結果!$K$2:$K$294<>"")*(全結果!$J$2:$J$294<INDEX(全結果!$J$2:$J$294,MATCH($B$2,全結果!$B$2:$B$294,0))))+1 -> 13 | D24: =SUMPRODUCT((全結果!$E$2:$E$294=$B$6)*(全結果!$K$2:$K$294<>"")) -> 201 | E24: =C24/D24 -> 0.064676617 | F24: =INDEX(全結果!$J$2:$J$294,MATCH($B$2,全結果!$B$2:$B$294,0))-(MIN(全結果!$X$2:$X$294)) -> 0.0021412037 | G24: ="バイク - "&B24 -> バイク - 男
B25: ="区分("&$B$8&")" -> 区分(30-49歳男子) | C25: =SUMPRODUCT((全結果!$S$2:$S$294=$B$8)*(全結果!$K$2:$K$294<>"")*(全結果!$J$2:$J$294<INDEX(全結果!$J$2:$J$294,MATCH($B$2,全結果!$B$2:$B$294,0))))+1 -> 8 | D25: =SUMPRODUCT((全結果!$S$2:$S$294=$B$8)*(全結果!$K$2:$K$294<>"")) -> 78 | E25: =C25/D25 -> 0.1025641 | F25: =INDEX(全結果!$J$2:$J$294,MATCH($B$2,全結果!$B$2:$B$294,0))-(MIN(全結果!$Y$2:$Y$294)) -> 0.0021412037 | G25: ="バイク - "&B25 -> バイク - 区分(30-49歳男子)
A26: ラン | B26: 総合 | C26: =INDEX(全結果!$O$2:$O$294,MATCH($B$2,全結果!$B$2:$B$294,0)) -> 49 | D26: =COUNT(全結果!$O$2:$O$294) -> 257 | E26: =C26/D26 -> 0.19066148 | F26: =INDEX(全結果!$N$2:$N$294,MATCH($B$2,全結果!$B$2:$B$294,0))-(SUMPRODUCT((全結果!$O$2:$O$294=1)*全結果!$N$2:$N$294)) -> 0.0021296296 | G26: ="ラン - "&B26 -> ラン - 総合
B27: =$B$6 -> 男 | C27: =SUMPRODUCT((全結果!$E$2:$E$294=$B$6)*(全結果!$O$2:$O$294<>"")*(全結果!$N$2:$N$294<INDEX(全結果!$N$2:$N$294,MATCH($B$2,全結果!$B$2:$B$294,0))))+1 -> 42 | D27: =SUMPRODUCT((全結果!$E$2:$E$294=$B$6)*(全結果!$O$2:$O$294<>"")) -> 201 | E27: =C27/D27 -> 0.20895522 | F27: =INDEX(全結果!$N$2:$N$294,MATCH($B$2,全結果!$B$2:$B$294,0))-(MIN(全結果!$Z$2:$Z$294)) -> 0.0021296296 | G27: ="ラン - "&B27 -> ラン - 男
B28: ="区分("&$B$8&")" -> 区分(30-49歳男子) | C28: =SUMPRODUCT((全結果!$S$2:$S$294=$B$8)*(全結果!$O$2:$O$294<>"")*(全結果!$N$2:$N$294<INDEX(全結果!$N$2:$N$294,MATCH($B$2,全結果!$B$2:$B$294,0))))+1 -> 18 | D28: =SUMPRODUCT((全結果!$S$2:$S$294=$B$8)*(全結果!$O$2:$O$294<>"")) -> 78 | E28: =C28/D28 -> 0.23076923 | F28: =INDEX(全結果!$N$2:$N$294,MATCH($B$2,全結果!$B$2:$B$294,0))-(MIN(全結果!$AA$2:$AA$294)) -> 0.0021296296 | G28: ="ラン - "&B28 -> ラン - 区分(30-49歳男子)
A29: 総合 | B29: 総合 | C29: =INDEX(全結果!$A$2:$A$294,MATCH($B$2,全結果!$B$2:$B$294,0)) -> 17 | D29: =COUNT(全結果!$A$2:$A$294) -> 257 | E29: =C29/D29 -> 0.06614786 | F29: =INDEX(全結果!$G$2:$G$294,MATCH($B$2,全結果!$B$2:$B$294,0))-(SUMPRODUCT((全結果!$A$2:$A$294=1)*全結果!$G$2:$G$294)) -> 0.0044097222 | G29: ="総合 - "&B29 -> 総合 - 総合
B30: =$B$6 -> 男 | C30: =IF(B6="男",INDEX(全結果!$Q$2:$Q$294,MATCH($B$2,全結果!$B$2:$B$294,0)),INDEX(全結果!$R$2:$R$294,MATCH($B$2,全結果!$B$2:$B$294,0))) -> 14 | D30: =IF(B6="男",COUNT(全結果!$Q$2:$Q$294),COUNT(全結果!$R$2:$R$294)) -> 201 | E30: =C30/D30 -> 0.069651741 | F30: =INDEX(全結果!$G$2:$G$294,MATCH($B$2,全結果!$B$2:$B$294,0))-(IF(B6="男",SUMPRODUCT((全結果!$Q$2:$Q$294=1)*全結果!$G$2:$G$294),SUMPRODUCT((全結果!$R$2:$R$294=1)*全結果!$G$2:$G$294))) -> 0.0044097222 | G30: ="総合 - "&B30 -> 総合 - 男
B31: ="区分("&$B$8&")" -> 区分(30-49歳男子) | C31: =INDEX(全結果!$T$2:$T$294,MATCH($B$2,全結果!$B$2:$B$294,0)) -> 6 | D31: =SUMPRODUCT((全結果!$S$2:$S$294=$B$8)*ISNUMBER(全結果!$T$2:$T$294)) -> 76 | E31: =C31/D31 -> 0.078947368 | F31: =INDEX(全結果!$G$2:$G$294,MATCH($B$2,全結果!$B$2:$B$294,0))-(SUMPRODUCT((全結果!$S$2:$S$294=$B$8)*(全結果!$T$2:$T$294=1)*全結果!$G$2:$G$294)) -> 0.0015509259 | G31: ="総合 - "&B31 -> 総合 - 区分(30-49歳男子)
A32: 注：総合の順位・母数は公式リザルトのS順/B順/R順/総合順位/男子順位/女子順位/区分順位をそのまま使用。男子・区分の種目別（スイム/バイク/ラン）順位は、公式のS順/B順/R順が付与されている（＝正式に順位判定された）選手に限定し、同条件（性別・区分）内で公式ラップタイムをもとに算出（同タイムは同順位）。区分順位は総合男女上位5位を表彰対象から除く大会公式ルールに準拠（該当者は区分順位が空欄）。「トップとの差」は各対象（総合／性別／区分）内の1位選手とのタイム差。

Sheet 全結果
A1: 総合順位 | B1: ゼッケン | C1: 氏名 | D1: 年齢 | E1: 性別 | F1: 都道府県 | G1: 総合記録 | H1: スイムラップ | I1: S順 | J1: バイクラップ | K1: B順 | L1: スプリット | M1: 通過順位 | N1: ランラップ | O1: R順 | P1: PNLT | Q1: 男子順位 | R1: 女子順位 | S1: 区分 | T1: 区分順位 | U1: バイク種類 | V1: 性別一致_スイム | W1: 区分一致_スイム | X1: 性別一致_バイク | Y1: 区分一致_バイク | Z1: 性別一致_ラン | AA1: 区分一致_ラン
A2: 1 | B2: 104 | C2: 根本 康行 | D2: 40 | E2: 男 | F2: 東京都 | G2: 0.024560185 | H2: 0.0039814815 | I2: 2 | J2: 0.01349537 | K2: 1 | L2: 0.017476852 | M2: 1 | N2: 0.0070833333 | O2: 7 | Q2: 1 | S2: 30-49歳男子 | U2: ロード・TT | V2: =IF(AND($E2=サマリー!$B$6,$I2<>""),H2,"") -> 0.0039814815 | W2: =IF(AND($S2=サマリー!$B$8,$I2<>""),H2,"") -> 0.0039814815 | X2: =IF(AND($E2=サマリー!$B$6,$K2<>""),J2,"") -> 0.01349537 | Y2: =IF(AND($S2=サマリー!$B$8,$K2<>""),J2,"") -> 0.01349537 | Z2: =IF(AND($E2=サマリー!$B$6,$O2<>""),N2,"") -> 0.0070833333 | AA2: =IF(AND($S2=サマリー!$B$8,$O2<>""),N2,"") -> 0.0070833333
A3: 2 | B3: 110 | C3: 水野 諒太郎 | D3: 40 | E3: 男 | F3: 東京都 | G3: 0.024953704 | H3: 0.0040740741 | I3: 3 | J3: 0.014085648 | K3: 3 | L3: 0.018159722 | M3: 2 | N3: 0.0067939815 | O3: 4 | Q3: 2 | S3: 30-49歳男子 | U3: ロード・TT | V3: =IF(AND($E3=サマリー!$B$6,$I3<>""),H3,"") -> 0.0040740741 | W3: =IF(AND($S3=サマリー!$B$8,$I3<>""),H3,"") -> 0.0040740741 | X3: =IF(AND($E3=サマリー!$B$6,$K3<>""),J3,"") -> 0.014085648 | Y3: =IF(AND($S3=サマリー!$B$8,$K3<>""),J3,"") -> 0.014085648 | Z3: =IF(AND($E3=サマリー!$B$6,$O3<>""),N3,"") -> 0.0067939815 | AA3: =IF(AND($S3=サマリー!$B$8,$O3<>""),N3,"") -> 0.0067939815
A4: 3 | B4: 126 | C4: 生井 和平 | D4: 54 | E4: 男 | F4: 東京都 | G4: 0.025694444 | H4: 0.0042708333 | I4: 6 | J4: 0.014050926 | K4: 2 | L4: 0.018321759 | M4: 3 | N4: 0.0073726852 | O4: 13 | Q4: 3 | S4: 50歳以上男子 | U4: ロード・TT | V4: =IF(AND($E4=サマリー!$B$6,$I4<>""),H4,"") -> 0.0042708333 | W4: =IF(AND($S4=サマリー!$B$8,$I4<>""),H4,"") | X4: =IF(AND($E4=サマリー!$B$6,$K4<>""),J4,"") -> 0.014050926 | Y4: =IF(AND($S4=サマリー!$B$8,$K4<>""),J4,"") | Z4: =IF(AND($E4=サマリー!$B$6,$O4<>""),N4,"") -> 0.0073726852 | AA4: =IF(AND($S4=サマリー!$B$8,$O4<>""),N4,"")
A5: 4 | B5: 102 | C5: 白戸 太朗 | D5: 59 | E5: 男 | F5: 東京都 | G5: 0.026655093 | H5: 0.0041319444 | I5: 4 | J5: 0.014988426 | K5: 5 | L5: 0.01912037 | M5: 4 | N5: 0.0075347222 | O5: 19 | Q5: 4 | S5: 50歳以上男子 | U5: ロード・TT | V5: =IF(AND($E5=サマリー!$B$6,$I5<>""),H5,"") -> 0.0041319444 | W5: =IF(AND($S5=サマリー!$B$8,$I5<>""),H5,"") | X5: =IF(AND($E5=サマリー!$B$6,$K5<>""),J5,"") -> 0.014988426 | Y5: =IF(AND($S5=サマリー!$B$8,$K5<>""),J5,"") | Z5: =IF(AND($E5=サマリー!$B$6,$O5<>""),N5,"") -> 0.0075347222 | AA5: =IF(AND($S5=サマリー!$B$8,$O5<>""),N5,"")
A6: 5 | B6: 115 | C6: 新井 慎一郎 | D6: 59 | E6: 男 | F6: 東京都 | G6: 0.027025463 | H6: 0.0044675926 | I6: 10 | J6: 0.015393519 | K6: 8 | L6: 0.019861111 | M6: 5 | N6: 0.0071643519 | O6: 8 | Q6: 5 | S6: 50歳以上男子 | U6: ロード・TT | V6: =IF(AND($E6=サマリー!$B$6,$I6<>""),H6,"") -> 0.0044675926 | W6: =IF(AND($S6=サマリー!$B$8,$I6<>""),H6,"") | X6: =IF(AND($E6=サマリー!$B$6,$K6<>""),J6,"") -> 0.015393519 | Y6: =IF(AND($S6=サマリー!$B$8,$K6<>""),J6,"") | Z6: =IF(AND($E6=サマリー!$B$6,$O6<>""),N6,"") -> 0.0071643519 | AA6: =IF(AND($S6=サマリー!$B$8,$O6<>""),N6,"")
A7: 6 | B7: 239 | C7: 石井 恵 | D7: 50 | E7: 女 | F7: 東京都 | G7: 0.027337963 | H7: 0.0047685185 | I7: 18 | J7: 0.015775463 | K7: 16 | L7: 0.020543981 | M7: 10 | N7: 0.0067939815 | O7: 3 | R7: 1 | S7: 50歳以上女子 | U7: ロード・TT | V7: =IF(AND($E7=サマリー!$B$6,$I7<>""),H7,"") | W7: =IF(AND($S7=サマリー!$B$8,$I7<>""),H7,"") | X7: =IF(AND($E7=サマリー!$B$6,$K7<>""),J7,"") | Y7: =IF(AND($S7=サマリー!$B$8,$K7<>""),J7,"") | Z7: =IF(AND($E7=サマリー!$B$6,$O7<>""),N7,"") | AA7: =IF(AND($S7=サマリー!$B$8,$O7<>""),N7,"")
A8: 7 | B8: 244 | C8: 佐川 公太 | D8: 33 | E8: 男 | F8: 東京都 | G8: 0.027418981 | H8: 0.0050694444 | I8: 35 | J8: 0.016319444 | K8: 27 | L8: 0.021388889 | M8: 21 | N8: 0.0060300926 | O8: 1 | Q8: 6 | S8: 30-49歳男子 | T8: 1 | U8: ロード・TT | V8: =IF(AND($E8=サマリー!$B$6,$I8<>""),H8,"") -> 0.0050694444 | W8: =IF(AND($S8=サマリー!$B$8,$I8<>""),H8,"") -> 0.0050694444 | X8: =IF(AND($E8=サマリー!$B$6,$K8<>""),J8,"") -> 0.016319444 | Y8: =IF(AND($S8=サマリー!$B$8,$K8<>""),J8,"") -> 0.016319444 | Z8: =IF(AND($E8=サマリー!$B$6,$O8<>""),N8,"") -> 0.0060300926 | AA8: =IF(AND($S8=サマリー!$B$8,$O8<>""),N8,"") -> 0.0060300926
A9: 8 | B9: 302 | C9: 小川 勉 | D9: 44 | E9: 男 | F9: 東京都 | G9: 0.027638889 | H9: 0.0049305556 | I9: 27 | J9: 0.015243056 | K9: 6 | L9: 0.020173611 | M9: 7 | N9: 0.0074652778 | O9: 15 | Q9: 7 | S9: 30-49歳男子 | T9: 2 | U9: ロード・TT | V9: =IF(AND($E9=サマリー!$B$6,$I9<>""),H9,"") -> 0.0049305556 | W9: =IF(AND($S9=サマリー!$B$8,$I9<>""),H9,"") -> 0.0049305556 | X9: =IF(AND($E9=サマリー!$B$6,$K9<>""),J9,"") -> 0.015243056 | Y9: =IF(AND($S9=サマリー!$B$8,$K9<>""),J9,"") -> 0.015243056 | Z9: =IF(AND($E9=サマリー!$B$6,$O9<>""),N9,"") -> 0.0074652778 | AA9: =IF(AND($S9=サマリー!$B$8,$O9<>""),N9,"") -> 0.0074652778
A10: 9 | B10: 222 | C10: 水口 直樹 | D10: 47 | E10: 男 | F10: 東京都 | G10: 0.027777778 | H10: 0.0055787037 | I10: 65 | J10: 0.014675926 | K10: 4 | L10: 0.02025463 | M10: 9 | N10: 0.0075231481 | O10: 18 | Q10: 8 | S10: 30-49歳男子 | T10: 3 | U10: ロード・TT | V10: =IF(AND($E10=サマリー!$B$6,$I10<>""),H10,"") -> 0.0055787037 | W10: =IF(AND($S10=サマリー!$B$8,$I10<>""),H10,"") -> 0.0055787037 | X10: =IF(AND($E10=サマリー!$B$6,$K10<>""),J10,"") -> 0.014675926 | Y10: =IF(AND($S10=サマリー!$B$8,$K10<>""),J10,"") -> 0.014675926 | Z10: =IF(AND($E10=サマリー!$B$6,$O10<>""),N10,"") -> 0.0075231481 | AA10: =IF(AND($S10=サマリー!$B$8,$O10<>""),N10,"") -> 0.0075231481
A11: 10 | B11: 211 | C11: 水谷 武司 | D11: 54 | E11: 男 | F11: 東京都 | G11: 0.027939815 | H11: 0.0047916667 | I11: 20 | J11: 0.015358796 | K11: 7 | L11: 0.020150463 | M11: 6 | N11: 0.0077893519 | O11: 27 | Q11: 9 | S11: 50歳以上男子 | T11: 1 | U11: ロード・TT | V11: =IF(AND($E11=サマリー!$B$6,$I11<>""),H11,"") -> 0.0047916667 | W11: =IF(AND($S11=サマリー!$B$8,$I11<>""),H11,"") | X11: =IF(AND($E11=サマリー!$B$6,$K11<>""),J11,"") -> 0.015358796 | Y11: =IF(AND($S11=サマリー!$B$8,$K11<>""),J11,"") | Z11: =IF(AND($E11=サマリー!$B$6,$O11<>""),N11,"") -> 0.0077893519 | AA11: =IF(AND($S11=サマリー!$B$8,$O11<>""),N11,"")
A12: 11 | B12: 207 | C12: 阿部 拓希 | D12: 30 | E12: 男 | F12: 東京都 | G12: 0.02806713 | H12: 0.0055439815 | I12: 60 | J12: 0.015486111 | K12: 11 | L12: 0.021030093 | M12: 14 | N12: 0.007037037 | O12: 6 | Q12: 10 | S12: 30-49歳男子 | T12: 4 | U12: ロード・TT | V12: =IF(AND($E12=サマリー!$B$6,$I12<>""),H12,"") -> 0.0055439815 | W12: =IF(AND($S12=サマリー!$B$8,$I12<>""),H12,"") -> 0.0055439815 | X12: =IF(AND($E12=サマリー!$B$6,$K12<>""),J12,"") -> 0.015486111 | Y12: =IF(AND($S12=サマリー!$B$8,$K12<>""),J12,"") -> 0.015486111 | Z12: =IF(AND($E12=サマリー!$B$6,$O12<>""),N12,"") -> 0.007037037 | AA12: =IF(AND($S12=サマリー!$B$8,$O12<>""),N12,"") -> 0.007037037
A13: 12 | B13: 114 | C13: 白戸 彩子 | D13: 58 | E13: 女 | F13: 東京都 | G13: 0.028321759 | H13: 0.0048032407 | I13: 21 | J13: 0.016284722 | K13: 24 | L13: 0.021087963 | M13: 16 | N13: 0.0072337963 | O13: 9 | R13: 2 | S13: 50歳以上女子 | U13: ロード・TT | V13: =IF(AND($E13=サマリー!$B$6,$I13<>""),H13,"") | W13: =IF(AND($S13=サマリー!$B$8,$I13<>""),H13,"") | X13: =IF(AND($E13=サマリー!$B$6,$K13<>""),J13,"") | Y13: =IF(AND($S13=サマリー!$B$8,$K13<>""),J13,"") | Z13: =IF(AND($E13=サマリー!$B$6,$O13<>""),N13,"") | AA13: =IF(AND($S13=サマリー!$B$8,$O13<>""),N13,"")
A14: 13 | B14: 128 | C14: 奥山 奥士 | D14: 58 | E14: 男 | F14: 東京都 | G14: 0.028414352 | H14: 0.0039467593 | I14: 1 | J14: 0.016747685 | K14: 33 | L14: 0.020694444 | M14: 11 | N14: 0.0077199074 | O14: 24 | Q14: 11 | S14: 50歳以上男子 | T14: 2 | U14: ロード・TT | V14: =IF(AND($E14=サマリー!$B$6,$I14<>""),H14,"") -> 0.0039467593 | W14: =IF(AND($S14=サマリー!$B$8,$I14<>""),H14,"") | X14: =IF(AND($E14=サマリー!$B$6,$K14<>""),J14,"") -> 0.016747685 | Y14: =IF(AND($S14=サマリー!$B$8,$K14<>""),J14,"") | Z14: =IF(AND($E14=サマリー!$B$6,$O14<>""),N14,"") -> 0.0077199074 | AA14: =IF(AND($S14=サマリー!$B$8,$O14<>""),N14,"")
A15: 14 | B15: 512 | C15: 橋本 哲二 | D15: 49 | E15: 男 | F15: 東京都 | G15: 0.028657407 | H15: 0.0049652778 | I15: 30 | J15: 0.016388889 | K15: 28 | L15: 0.021354167 | M15: 20 | N15: 0.0073032407 | O15: 11 | Q15: 12 | S15: 30-49歳男子 | T15: 5 | U15: MTB | V15: =IF(AND($E15=サマリー!$B$6,$I15<>""),H15,"") -> 0.0049652778 | W15: =IF(AND($S15=サマリー!$B$8,$I15<>""),H15,"") -> 0.0049652778 | X15: =IF(AND($E15=サマリー!$B$6,$K15<>""),J15,"") -> 0.016388889 | Y15: =IF(AND($S15=サマリー!$B$8,$K15<>""),J15,"") -> 0.016388889 | Z15: =IF(AND($E15=サマリー!$B$6,$O15<>""),N15,"") -> 0.0073032407 | AA15: =IF(AND($S15=サマリー!$B$8,$O15<>""),N15,"") -> 0.0073032407
A16: 15 | B16: 103 | C16: 太田 成美 | D16: 39 | E16: 女 | F16: 神奈川県 | G16: 0.02869213 | H16: 0.0044444444 | I16: 9 | J16: 0.016412037 | K16: 29 | L16: 0.020856481 | M16: 13 | N16: 0.0078356481 | O16: 30 | R16: 3 | S16: 30-49歳女子 | U16: ロード・TT | V16: =IF(AND($E16=サマリー!$B$6,$I16<>""),H16,"") | W16: =IF(AND($S16=サマリー!$B$8,$I16<>""),H16,"") | X16: =IF(AND($E16=サマリー!$B$6,$K16<>""),J16,"") | Y16: =IF(AND($S16=サマリー!$B$8,$K16<>""),J16,"") | Z16: =IF(AND($E16=サマリー!$B$6,$O16<>""),N16,"") | AA16: =IF(AND($S16=サマリー!$B$8,$O16<>""),N16,"")
A17: 16 | B17: 107 | C17: 三浦 遼太 | D17: 19 | E17: 男 | F17: 東京都 | G17: 0.028761574 | H17: 0.0041435185 | I17: 5 | J17: 0.016087963 | K17: 19 | L17: 0.020231481 | M17: 8 | N17: 0.0085300926 | O17: 70 | Q17: 13 | S17: 29歳以下男子 | T17: 1 | U17: ロード・TT | V17: =IF(AND($E17=サマリー!$B$6,$I17<>""),H17,"") -> 0.0041435185 | W17: =IF(AND($S17=サマリー!$B$8,$I17<>""),H17,"") | X17: =IF(AND($E17=サマリー!$B$6,$K17<>""),J17,"") -> 0.016087963 | Y17: =IF(AND($S17=サマリー!$B$8,$K17<>""),J17,"") | Z17: =IF(AND($E17=サマリー!$B$6,$O17<>""),N17,"") -> 0.0085300926 | AA17: =IF(AND($S17=サマリー!$B$8,$O17<>""),N17,"")
A18: 17 | B18: 142 | C18: 中澤 孝介 | D18: 44 | E18: 男 | F18: 東京都 | G18: 0.028969907 | H18: 0.0051736111 | I18: 40 | J18: 0.015636574 | K18: 13 | L18: 0.020810185 | M18: 12 | N18: 0.0081597222 | O18: 49 | Q18: 14 | S18: 30-49歳男子 | T18: 6 | U18: ロード・TT | V18: =IF(AND($E18=サマリー!$B$6,$I18<>""),H18,"") -> 0.0051736111 | W18: =IF(AND($S18=サマリー!$B$8,$I18<>""),H18,"") -> 0.0051736111 | X18: =IF(AND($E18=サマリー!$B$6,$K18<>""),J18,"") -> 0.015636574 | Y18: =IF(AND($S18=サマリー!$B$8,$K18<>""),J18,"") -> 0.015636574 | Z18: =IF(AND($E18=サマリー!$B$6,$O18<>""),N18,"") -> 0.0081597222 | AA18: =IF(AND($S18=サマリー!$B$8,$O18<>""),N18,"") -> 0.0081597222
A19: 18 | B19: 237 | C19: ちょう みらん | D19: 29 | E19: 女 | F19: 東京都 | G19: 0.029085648 | H19: 0.0049421296 | I19: 28 | J19: 0.016134259 | K19: 20 | L19: 0.021076389 | M19: 15 | N19: 0.0080092593 | O19: 41 | R19: 4 | S19: 29歳以下女子 | U19: ロード・TT | V19: =IF(AND($E19=サマリー!$B$6,$I19<>""),H19,"") | W19: =IF(AND($S19=サマリー!$B$8,$I19<>""),H19,"") | X19: =IF(AND($E19=サマリー!$B$6,$K19<>""),J19,"") | Y19: =IF(AND($S19=サマリー!$B$8,$K19<>""),J19,"") | Z19: =IF(AND($E19=サマリー!$B$6,$O19<>""),N19,"") | AA19: =IF(AND($S19=サマリー!$B$8,$O19<>""),N19,"")
A20: 19 | B20: 125 | C20: 木村 航士 | D20: 56 | E20: 男 | F20: 神奈川県 | G20: 0.029363426 | H20: 0.004849537 | I20: 24 | J20: 0.017766204 | K20: 60 | L20: 0.022615741 | M20: 44 | N20: 0.0067476852 | O20: 2 | Q20: 15 | S20: 50歳以上男子 | T20: 3 | U20: ロード・TT | V20: =IF(AND($E20=サマリー!$B$6,$I20<>""),H20,"") -> 0.004849537 | W20: =IF(AND($S20=サマリー!$B$8,$I20<>""),H20,"") | X20: =IF(AND($E20=サマリー!$B$6,$K20<>""),J20,"") -> 0.017766204 | Y20: =IF(AND($S20=サマリー!$B$8,$K20<>""),J20,"") | Z20: =IF(AND($E20=サマリー!$B$6,$O20<>""),N20,"") -> 0.0067476852 | AA20: =IF(AND($S20=サマリー!$B$8,$O20<>""),N20,"")
A21: 20 | B21: 306 | C21: 山口 高男 | D21: 57 | E21: 男 | F21: 東京都 | G21: 0.029375 | H21: 0.0048148148 | I21: 22 | J21: 0.016516204 | K21: 30 | L21: 0.021331019 | M21: 19 | N21: 0.0080439815 | O21: 42 | Q21: 16 | S21: 50歳以上男子 | T21: 4 | U21: ロード・TT | V21: =IF(AND($E21=サマリー!$B$6,$I21<>""),H21,"") -> 0.0048148148 | W21: =IF(AND($S21=サマリー!$B$8,$I21<>""),H21,"") | X21: =IF(AND($E21=サマリー!$B$6,$K21<>""),J21,"") -> 0.016516204 | Y21: =IF(AND($S21=サマリー!$B$8,$K21<>""),J21,"") | Z21: =IF(AND($E21=サマリー!$B$6,$O21<>""),N21,"") -> 0.0080439815 | AA21: =IF(AND($S21=サマリー!$B$8,$O21<>""),N21,"")
A22: 21 | B22: 206 | C22: 吉田 道保 | D22: 37 | E22: 男 | F22: 東京都 | G22: 0.029386574 | H22: 0.0064814815 | I22: 149 | J22: 0.015428241 | K22: 9 | L22: 0.021909722 | M22: 30 | N22: 0.0074768519 | O22: 16 | Q22: 17 | S22: 30-49歳男子 | T22: 7 | U22: ロード・TT | V22: =IF(AND($E22=サマリー!$B$6,$I22<>""),H22,"") -> 0.0064814815 | W22: =IF(AND($S22=サマリー!$B$8,$I22<>""),H22,"") -> 0.0064814815 | X22: =IF(AND($E22=サマリー!$B$6,$K22<>""),J22,"") -> 0.015428241 | Y22: =IF(AND($S22=サマリー!$B$8,$K22<>""),J22,"") -> 0.015428241 | Z22: =IF(AND($E22=サマリー!$B$6,$O22<>""),N22,"") -> 0.0074768519 | AA22: =IF(AND($S22=サマリー!$B$8,$O22<>""),N22,"") -> 0.0074768519
A23: 22 | B23: 253 | C23: 小田川 亮人 | D23: 47 | E23: 男 | F23: 神奈川県 | G23: 0.029618056 | H23: 0.0046296296 | I23: 15 | J23: 0.017002315 | K23: 38 | L23: 0.021631944 | M23: 25 | N23: 0.0079861111 | O23: 39 | Q23: 18 | S23: 30-49歳男子 | T23: 8 | U23: ロード・TT | V23: =IF(AND($E23=サマリー!$B$6,$I23<>""),H23,"") -> 0.0046296296 | W23: =IF(AND($S23=サマリー!$B$8,$I23<>""),H23,"") -> 0.0046296296 | X23: =IF(AND($E23=サマリー!$B$6,$K23<>""),J23,"") -> 0.017002315 | Y23: =IF(AND($S23=サマリー!$B$8,$K23<>""),J23,"") -> 0.017002315 | Z23: =IF(AND($E23=サマリー!$B$6,$O23<>""),N23,"") -> 0.0079861111 | AA23: =IF(AND($S23=サマリー!$B$8,$O23<>""),N23,"") -> 0.0079861111
A24: 23 | B24: 259 | C24: 草間 大貴 | D24: 39 | E24: 男 | F24: 東京都 | G24: 0.02974537 | H24: 0.0071180556 | I24: 198 | J24: 0.015671296 | K24: 14 | L24: 0.022789352 | M24: 47 | N24: 0.0069560185 | O24: 5 | Q24: 19 | S24: 30-49歳男子 | T24: 9 | U24: ロード・TT | V24: =IF(AND($E24=サマリー!$B$6,$I24<>""),H24,"") -> 0.0071180556 | W24: =IF(AND($S24=サマリー!$B$8,$I24<>""),H24,"") -> 0.0071180556 | X24: =IF(AND($E24=サマリー!$B$6,$K24<>""),J24,"") -> 0.015671296 | Y24: =IF(AND($S24=サマリー!$B$8,$K24<>""),J24,"") -> 0.015671296 | Z24: =IF(AND($E24=サマリー!$B$6,$O24<>""),N24,"") -> 0.0069560185 | AA24: =IF(AND($S24=サマリー!$B$8,$O24<>""),N24,"") -> 0.0069560185
A25: 24 | B25: 204 | C25: 小林 勇二 | D25: 48 | E25: 男 | F25: 東京都 | G25: 0.029872685 | H25: 0.0054861111 | I25: 56 | J25: 0.015740741 | K25: 15 | L25: 0.021226852 | M25: 17 | N25: 0.0086458333 | O25: 74 | Q25: 20 | S25: 30-49歳男子 | T25: 10 | U25: ロード・TT | V25: =IF(AND($E25=サマリー!$B$6,$I25<>""),H25,"") -> 0.0054861111 | W25: =IF(AND($S25=サマリー!$B$8,$I25<>""),H25,"") -> 0.0054861111 | X25: =IF(AND($E25=サマリー!$B$6,$K25<>""),J25,"") -> 0.015740741 | Y25: =IF(AND($S25=サマリー!$B$8,$K25<>""),J25,"") -> 0.015740741 | Z25: =IF(AND($E25=サマリー!$B$6,$O25<>""),N25,"") -> 0.0086458333 | AA25: =IF(AND($S25=サマリー!$B$8,$O25<>""),N25,"") -> 0.0086458333
A26: 25 | B26: 129 | C26: 中島 秀彰 | D26: 63 | E26: 男 | F26: 東京都 | G26: 0.029884259 | H26: 0.0061226852 | I26: 109 | J26: 0.015509259 | K26: 12 | L26: 0.021631944 | M26: 24 | N26: 0.0082523148 | O26: 54 | Q26: 21 | S26: 50歳以上男子 | T26: 5 | U26: ロード・TT | V26: =IF(AND($E26=サマリー!$B$6,$I26<>""),H26,"") -> 0.0061226852 | W26: =IF(AND($S26=サマリー!$B$8,$I26<>""),H26,"") | X26: =IF(AND($E26=サマリー!$B$6,$K26<>""),J26,"") -> 0.015509259 | Y26: =IF(AND($S26=サマリー!$B$8,$K26<>""),J26,"") | Z26: =IF(AND($E26=サマリー!$B$6,$O26<>""),N26,"") -> 0.0082523148 | AA26: =IF(AND($S26=サマリー!$B$8,$O26<>""),N26,"")
A27: 26 | B27: 509 | C27: 村上 大幸 | D27: 36 | E27: 男 | F27: 東京都 | G27: 0.03 | H27: 0.0052083333 | I27: 42 | J27: 0.016967593 | K27: 35 | L27: 0.022175926 | M27: 32 | N27: 0.0078240741 | O27: 29 | Q27: 22 | S27: 30-49歳男子 | T27: 11 | U27: MTB | V27: =IF(AND($E27=サマリー!$B$6,$I27<>""),H27,"") -> 0.0052083333 | W27: =IF(AND($S27=サマリー!$B$8,$I27<>""),H27,"") -> 0.0052083333 | X27: =IF(AND($E27=サマリー!$B$6,$K27<>""),J27,"") -> 0.016967593 | Y27: =IF(AND($S27=サマリー!$B$8,$K27<>""),J27,"") -> 0.016967593 | Z27: =IF(AND($E27=サマリー!$B$6,$O27<>""),N27,"") -> 0.0078240741 | AA27: =IF(AND($S27=サマリー!$B$8,$O27<>""),N27,"") -> 0.0078240741
A28: 27 | B28: 153 | C28: 繁田 陽 | D28: 39 | E28: 男 | F28: 東京都 | G28: 0.030127315 | H28: 0.0053240741 | I28: 47 | J28: 0.017002315 | K28: 39 | L28: 0.022326389 | M28: 38 | N28: 0.0078009259 | O28: 28 | Q28: 23 | S28: 30-49歳男子 | T28: 12 | U28: ロード・TT | V28: =IF(AND($E28=サマリー!$B$6,$I28<>""),H28,"") -> 0.0053240741 | W28: =IF(AND($S28=サマリー!$B$8,$I28<>""),H28,"") -> 0.0053240741 | X28: =IF(AND($E28=サマリー!$B$6,$K28<>""),J28,"") -> 0.017002315 | Y28: =IF(AND($S28=サマリー!$B$8,$K28<>""),J28,"") -> 0.017002315 | Z28: =IF(AND($E28=サマリー!$B$6,$O28<>""),N28,"") -> 0.0078009259 | AA28: =IF(AND($S28=サマリー!$B$8,$O28<>""),N28,"") -> 0.0078009259
A29: 28 | B29: 232 | C29: 池田 伸吾 | D29: 49 | E29: 男 | F29: 東京都 | G29: 0.030127315 | H29: 0.0058449074 | I29: 78 | J29: 0.015428241 | K29: 10 | L29: 0.021273148 | M29: 18 | N29: 0.0088541667 | O29: 88 | Q29: 24 | S29: 30-49歳男子 | T29: 13 | U29: ロード・TT | V29: =IF(AND($E29=サマリー!$B$6,$I29<>""),H29,"") -> 0.0058449074 | W29: =IF(AND($S29=サマリー!$B$8,$I29<>""),H29,"") -> 0.0058449074 | X29: =IF(AND($E29=サマリー!$B$6,$K29<>""),J29,"") -> 0.015428241 | Y29: =IF(AND($S29=サマリー!$B$8,$K29<>""),J29,"") -> 0.015428241 | Z29: =IF(AND($E29=サマリー!$B$6,$O29<>""),N29,"") -> 0.0088541667 | AA29: =IF(AND($S29=サマリー!$B$8,$O29<>""),N29,"") -> 0.0088541667
A30: 29 | B30: 260 | C30: 藤原 拓己 | D30: 22 | E30: 男 | F30: 東京都 | G30: 0.030185185 | H30: 0.0059837963 | I30: 91 | J30: 0.016296296 | K30: 25 | L30: 0.022280093 | M30: 36 | N30: 0.0079050926 | O30: 33 | Q30: 25 | S30: 29歳以下男子 | T30: 2 | U30: ロード・TT | V30: =IF(AND($E30=サマリー!$B$6,$I30<>""),H30,"") -> 0.0059837963 | W30: =IF(AND($S30=サマリー!$B$8,$I30<>""),H30,"") | X30: =IF(AND($E30=サマリー!$B$6,$K30<>""),J30,"") -> 0.016296296 | Y30: =IF(AND($S30=サマリー!$B$8,$K30<>""),J30,"") | Z30: =IF(AND($E30=サマリー!$B$6,$O30<>""),N30,"") -> 0.0079050926 | AA30: =IF(AND($S30=サマリー!$B$8,$O30<>""),N30,"")
A31: 30 | B31: 524 | C31: 川田 裕史 | D31: 47 | E31: 男 | F31: 東京都 | G31: 0.030324074 | H31: 0.0054398148 | I31: 53 | J31: 0.017164352 | K31: 45 | L31: 0.022604167 | M31: 43 | N31: 0.0077199074 | O31: 23 | Q31: 26 | S31: 30-49歳男子 | T31: 14 | U31: ママチャリ・シティ | V31: =IF(AND($E31=サマリー!$B$6,$I31<>""),H31,"") -> 0.0054398148 | W31: =IF(AND($S31=サマリー!$B$8,$I31<>""),H31,"") -> 0.0054398148 | X31: =IF(AND($E31=サマリー!$B$6,$K31<>""),J31,"") -> 0.017164352 | Y31: =IF(AND($S31=サマリー!$B$8,$K31<>""),J31,"") -> 0.017164352 | Z31: =IF(AND($E31=サマリー!$B$6,$O31<>""),N31,"") -> 0.0077199074 | AA31: =IF(AND($S31=サマリー!$B$8,$O31<>""),N31,"") -> 0.0077199074
A32: 31 | B32: 147 | C32: 河原井 真彦 | D32: 40 | E32: 男 | F32: 東京都 | G32: 0.030347222 | H32: 0.0055555556 | I32: 62 | J32: 0.016168981 | K32: 21 | L32: 0.021724537 | M32: 27 | N32: 0.0086226852 | O32: 73 | Q32: 27 | S32: 30-49歳男子 | T32: 15 | U32: ロード・TT | V32: =IF(AND($E32=サマリー!$B$6,$I32<>""),H32,"") -> 0.0055555556 | W32: =IF(AND($S32=サマリー!$B$8,$I32<>""),H32,"") -> 0.0055555556 | X32: =IF(AND($E32=サマリー!$B$6,$K32<>""),J32,"") -> 0.016168981 | Y32: =IF(AND($S32=サマリー!$B$8,$K32<>""),J32,"") -> 0.016168981 | Z32: =IF(AND($E32=サマリー!$B$6,$O32<>""),N32,"") -> 0.0086226852 | AA32: =IF(AND($S32=サマリー!$B$8,$O32<>""),N32,"") -> 0.0086226852
A33: 32 | B33: 113 | C33: 白井 伸枝 | D33: 51 | E33: 女 | F33: 東京都 | G33: 0.030381944 | H33: 0.0051157407 | I33: 38 | J33: 0.017106481 | K33: 42 | L33: 0.022222222 | M33: 34 | N33: 0.0081597222 | O33: 48 | R33: 5 | S33: 50歳以上女子 | U33: ロード・TT | V33: =IF(AND($E33=サマリー!$B$6,$I33<>""),H33,"") | W33: =IF(AND($S33=サマリー!$B$8,$I33<>""),H33,"") | X33: =IF(AND($E33=サマリー!$B$6,$K33<>""),J33,"") | Y33: =IF(AND($S33=サマリー!$B$8,$K33<>""),J33,"") | Z33: =IF(AND($E33=サマリー!$B$6,$O33<>""),N33,"") | AA33: =IF(AND($S33=サマリー!$B$8,$O33<>""),N33,"")
A34: 33 | B34: 124 | C34: 森田 充 | D34: 60 | E34: 男 | F34: 埼玉県 | G34: 0.030474537 | H34: 0.0048611111 | I34: 25 | J34: 0.016643519 | K34: 32 | L34: 0.02150463 | M34: 22 | N34: 0.0089699074 | O34: 97 | Q34: 28 | S34: 50歳以上男子 | T34: 6 | U34: ロード・TT | V34: =IF(AND($E34=サマリー!$B$6,$I34<>""),H34,"") -> 0.0048611111 | W34: =IF(AND($S34=サマリー!$B$8,$I34<>""),H34,"") | X34: =IF(AND($E34=サマリー!$B$6,$K34<>""),J34,"") -> 0.016643519 | Y34: =IF(AND($S34=サマリー!$B$8,$K34<>""),J34,"") | Z34: =IF(AND($E34=サマリー!$B$6,$O34<>""),N34,"") -> 0.0089699074 | AA34: =IF(AND($S34=サマリー!$B$8,$O34<>""),N34,"")
A35: 34 | B35: 154 | C35: 中村 奏汰 | D35: 24 | E35: 男 | F35: 東京都 | G35: 0.030486111 | H35: 0.0045601852 | I35: 12 | J35: 0.018148148 | K35: 72 | L35: 0.022708333 | M35: 46 | N35: 0.0077777778 | O35: 26 | Q35: 29 | S35: 29歳以下男子 | T35: 3 | U35: ロード・TT | V35: =IF(AND($E35=サマリー!$B$6,$I35<>""),H35,"") -> 0.0045601852 | W35: =IF(AND($S35=サマリー!$B$8,$I35<>""),H35,"") | X35: =IF(AND($E35=サマリー!$B$6,$K35<>""),J35,"") -> 0.018148148 | Y35: =IF(AND($S35=サマリー!$B$8,$K35<>""),J35,"") | Z35: =IF(AND($E35=サマリー!$B$6,$O35<>""),N35,"") -> 0.0077777778 | AA35: =IF(AND($S35=サマリー!$B$8,$O35<>""),N35,"")
A36: 35 | B36: 157 | C36: 尾崎 陽 | D36: 51 | E36: 男 | F36: 東京都 | G36: 0.030532407 | H36: 0.0058333333 | I36: 76 | J36: 0.016527778 | K36: 31 | L36: 0.022361111 | M36: 40 | N36: 0.0081712963 | O36: 51 | Q36: 30 | S36: 50歳以上男子 | T36: 7 | U36: ロード・TT | V36: =IF(AND($E36=サマリー!$B$6,$I36<>""),H36,"") -> 0.0058333333 | W36: =IF(AND($S36=サマリー!$B$8,$I36<>""),H36,"") | X36: =IF(AND($E36=サマリー!$B$6,$K36<>""),J36,"") -> 0.016527778 | Y36: =IF(AND($S36=サマリー!$B$8,$K36<>""),J36,"") | Z36: =IF(AND($E36=サマリー!$B$6,$O36<>""),N36,"") -> 0.0081712963 | AA36: =IF(AND($S36=サマリー!$B$8,$O36<>""),N36,"")
A37: 36 | B37: 246 | C37: 小林 之維 | D37: 45 | E37: 男 | F37: 東京都 | G37: 0.030543981 | H37: 0.0053009259 | I37: 46 | J37: 0.016319444 | K37: 26 | L37: 0.02162037 | M37: 23 | N37: 0.0089236111 | O37: 93 | Q37: 31 | S37: 30-49歳男子 | T37: 16 | U37: ロード・TT | V37: =IF(AND($E37=サマリー!$B$6,$I37<>""),H37,"") -> 0.0053009259 | W37: =IF(AND($S37=サマリー!$B$8,$I37<>""),H37,"") -> 0.0053009259 | X37: =IF(AND($E37=サマリー!$B$6,$K37<>""),J37,"") -> 0.016319444 | Y37: =IF(AND($S37=サマリー!$B$8,$K37<>""),J37,"") -> 0.016319444 | Z37: =IF(AND($E37=サマリー!$B$6,$O37<>""),N37,"") -> 0.0089236111 | AA37: =IF(AND($S37=サマリー!$B$8,$O37<>""),N37,"") -> 0.0089236111
A38: 37 | B38: 533 | C38: 井元 遥貴 | D38: 21 | E38: 男 | F38: 東京都 | G38: 0.030578704 | H38: 0.0051851852 | I38: 41 | J38: 0.017766204 | K38: 59 | L38: 0.022951389 | M38: 49 | N38: 0.0076273148 | O38: 20 | Q38: 32 | S38: 29歳以下男子 | T38: 4 | U38: ママチャリ・シティ | V38: =IF(AND($E38=サマリー!$B$6,$I38<>""),H38,"") -> 0.0051851852 | W38: =IF(AND($S38=サマリー!$B$8,$I38<>""),H38,"") | X38: =IF(AND($E38=サマリー!$B$6,$K38<>""),J38,"") -> 0.017766204 | Y38: =IF(AND($S38=サマリー!$B$8,$K38<>""),J38,"") | Z38: =IF(AND($E38=サマリー!$B$6,$O38<>""),N38,"") -> 0.0076273148 | AA38: =IF(AND($S38=サマリー!$B$8,$O38<>""),N38,"")
A39: 38 | B39: 159 | C39: 髙田 明則 | D39: 53 | E39: 男 | F39: 埼玉県 | G39: 0.030740741 | H39: 0.0052546296 | I39: 45 | J39: 0.017337963 | K39: 50 | L39: 0.022592593 | M39: 42 | N39: 0.0081481481 | O39: 47 | Q39: 33 | S39: 50歳以上男子 | T39: 8 | U39: ロード・TT | V39: =IF(AND($E39=サマリー!$B$6,$I39<>""),H39,"") -> 0.0052546296 | W39: =IF(AND($S39=サマリー!$B$8,$I39<>""),H39,"") | X39: =IF(AND($E39=サマリー!$B$6,$K39<>""),J39,"") -> 0.017337963 | Y39: =IF(AND($S39=サマリー!$B$8,$K39<>""),J39,"") | Z39: =IF(AND($E39=サマリー!$B$6,$O39<>""),N39,"") -> 0.0081481481 | AA39: =IF(AND($S39=サマリー!$B$8,$O39<>""),N39,"")
A40: 39 | B40: 503 | C40: 片山 慎吾 | D40: 43 | E40: 男 | F40: 東京都 | G40: 0.030775463 | H40: 0.0045833333 | I40: 14 | J40: 0.017627315 | K40: 54 | L40: 0.022210648 | M40: 33 | N40: 0.0085648148 | O40: 71 | Q40: 34 | S40: 30-49歳男子 | T40: 17 | U40: MTB | V40: =IF(AND($E40=サマリー!$B$6,$I40<>""),H40,"") -> 0.0045833333 | W40: =IF(AND($S40=サマリー!$B$8,$I40<>""),H40,"") -> 0.0045833333 | X40: =IF(AND($E40=サマリー!$B$6,$K40<>""),J40,"") -> 0.017627315 | Y40: =IF(AND($S40=サマリー!$B$8,$K40<>""),J40,"") -> 0.017627315 | Z40: =IF(AND($E40=サマリー!$B$6,$O40<>""),N40,"") -> 0.0085648148 | AA40: =IF(AND($S40=サマリー!$B$8,$O40<>""),N40,"") -> 0.0085648148
A41: 40 | B41: 559 | C41: 吉澤 延彦 | D41: 54 | E41: 男 | F41: 東京都 | G41: 0.030891204 | H41: 0.0055787037 | I41: 64 | J41: 0.017453704 | K41: 51 | L41: 0.023032407 | M41: 50 | N41: 0.0078587963 | O41: 31 | Q41: 35 | S41: 50歳以上男子 | T41: 9 | U41: ママチャリ・シティ | V41: =IF(AND($E41=サマリー!$B$6,$I41<>""),H41,"") -> 0.0055787037 | W41: =IF(AND($S41=サマリー!$B$8,$I41<>""),H41,"") | X41: =IF(AND($E41=サマリー!$B$6,$K41<>""),J41,"") -> 0.017453704 | Y41: =IF(AND($S41=サマリー!$B$8,$K41<>""),J41,"") | Z41: =IF(AND($E41=サマリー!$B$6,$O41<>""),N41,"") -> 0.0078587963 | AA41: =IF(AND($S41=サマリー!$B$8,$O41<>""),N41,"")
A42: 41 | B42: 308 | C42: 田岡 文利 | D42: 39 | E42: 男 | F42: 東京都 | G42: 0.030891204 | H42: 0.0054513889 | I42: 54 | J42: 0.016261574 | K42: 23 | L42: 0.021712963 | M42: 26 | N42: 0.0091782407 | O42: 110 | Q42: 36 | S42: 30-49歳男子 | T42: 18 | U42: ロード・TT | V42: =IF(AND($E42=サマリー!$B$6,$I42<>""),H42,"") -> 0.0054513889 | W42: =IF(AND($S42=サマリー!$B$8,$I42<>""),H42,"") -> 0.0054513889 | X42: =IF(AND($E42=サマリー!$B$6,$K42<>""),J42,"") -> 0.016261574 | Y42: =IF(AND($S42=サマリー!$B$8,$K42<>""),J42,"") -> 0.016261574 | Z42: =IF(AND($E42=サマリー!$B$6,$O42<>""),N42,"") -> 0.0091782407 | AA42: =IF(AND($S42=サマリー!$B$8,$O42<>""),N42,"") -> 0.0091782407
A43: 42 | B43: 109 | C43: 國谷 智宏 | D43: 51 | E43: 男 | F43: 東京都 | G43: 0.031041667 | H43: 0.0053703704 | I43: 50 | J43: 0.016979167 | K43: 37 | L43: 0.022349537 | M43: 39 | N43: 0.0086921296 | O43: 76 | Q43: 37 | S43: 50歳以上男子 | T43: 10 | U43: ロード・TT | V43: =IF(AND($E43=サマリー!$B$6,$I43<>""),H43,"") -> 0.0053703704 | W43: =IF(AND($S43=サマリー!$B$8,$I43<>""),H43,"") | X43: =IF(AND($E43=サマリー!$B$6,$K43<>""),J43,"") -> 0.016979167 | Y43: =IF(AND($S43=サマリー!$B$8,$K43<>""),J43,"") | Z43: =IF(AND($E43=サマリー!$B$6,$O43<>""),N43,"") -> 0.0086921296 | AA43: =IF(AND($S43=サマリー!$B$8,$O43<>""),N43,"")
A44: 43 | B44: 225 | C44: 坪井 修一 | D44: 65 | E44: 男 | F44: 大阪府 | G44: 0.031157407 | H44: 0.005 | I44: 32 | J44: 0.016770833 | K44: 34 | L44: 0.021770833 | M44: 28 | N44: 0.0093865741 | O44: 121 | Q44: 38 | S44: 50歳以上男子 | T44: 11 | U44: ロード・TT | V44: =IF(AND($E44=サマリー!$B$6,$I44<>""),H44,"") -> 0.005 | W44: =IF(AND($S44=サマリー!$B$8,$I44<>""),H44,"") | X44: =IF(AND($E44=サマリー!$B$6,$K44<>""),J44,"") -> 0.016770833 | Y44: =IF(AND($S44=サマリー!$B$8,$K44<>""),J44,"") | Z44: =IF(AND($E44=サマリー!$B$6,$O44<>""),N44,"") -> 0.0093865741 | AA44: =IF(AND($S44=サマリー!$B$8,$O44<>""),N44,"")
A45: 44 | B45: 312 | C45: 野口 耕平 | D45: 30 | E45: 男 | F45: 東京都 | G45: 0.031400463 | H45: 0.0062962963 | I45: 127 | J45: 0.01775463 | K45: 58 | L45: 0.024050926 | M45: 73 | N45: 0.007349537 | O45: 12 | Q45: 39 | S45: 30-49歳男子 | T45: 19 | U45: ロード・TT | V45: =IF(AND($E45=サマリー!$B$6,$I45<>""),H45,"") -> 0.0062962963 | W45: =IF(AND($S45=サマリー!$B$8,$I45<>""),H45,"") -> 0.0062962963 | X45: =IF(AND($E45=サマリー!$B$6,$K45<>""),J45,"") -> 0.01775463 | Y45: =IF(AND($S45=サマリー!$B$8,$K45<>""),J45,"") -> 0.01775463 | Z45: =IF(AND($E45=サマリー!$B$6,$O45<>""),N45,"") -> 0.007349537 | AA45: =IF(AND($S45=サマリー!$B$8,$O45<>""),N45,"") -> 0.007349537
... A52: 51 | B52: 249 | C52: 島田 正一 | D52: 57 | E52: 男 | F52: 東京都 | G52: 0.032337963 | H52: 0.0062384259 | I52: 122 | J52: 0.016979167 | K52: 36 | L52: 0.023217593 | M52: 56 | N52: 0.0091203704 | O52: 106 | Q52: 46 | S52: 50歳以上男子 | T52: 13 | U52: ロード・TT | V52: =IF(AND($E52=サマリー!$B$6,$I52<>""),H52,"") -> 0.0062384259 | W52: =IF(AND($S52=サマリー!$B$8,$I52<>""),H52,"") | X52: =IF(AND($E52=サマリー!$B$6,$K52<>""),J52,"") -> 0.016979167 | Y52: =IF(AND($S52=サマリー!$B$8,$K52<>""),J52,"") | Z52: =IF(AND($E52=サマリー!$B$6,$O52<>""),N52,"") -> 0.0091203704 | AA52: =IF(AND($S52=サマリー!$B$8,$O52<>""),N52,"")
A53: 52 | B53: 417 | C53: 西平 里恵 | D53: 53 | E53: 女 | F53: 神奈川県 | G53: 0.032349537 | H53: 0.0062962963 | I53: 126 | J53: 0.018425926 | K53: 78 | L53: 0.024722222 | M53: 81 | N53: 0.0076273148 | O53: 21 | R53: 6 | S53: 50歳以上女子 | T53: 1 | U53: ロード・TT | V53: =IF(AND($E53=サマリー!$B$6,$I53<>""),H53,"") | W53: =IF(AND($S53=サマリー!$B$8,$I53<>""),H53,"") | X53: =IF(AND($E53=サマリー!$B$6,$K53<>""),J53,"") | Y53: =IF(AND($S53=サマリー!$B$8,$K53<>""),J53,"") | Z53: =IF(AND($E53=サマリー!$B$6,$O53<>""),N53,"") | AA53: =IF(AND($S53=サマリー!$B$8,$O53<>""),N53,"")
A54: 53 | B54: 205 | C54: 播谷 泰紀 | D54: 32 | E54: 男 | F54: 千葉県 | G54: 0.032361111 | H54: 0.0060300926 | I54: 97 | J54: 0.017916667 | K54: 63 | L54: 0.023946759 | M54: 67 | N54: 0.0084143519 | O54: 61 | Q54: 47 | S54: 30-49歳男子 | T54: 24 | U54: ロード・TT | V54: =IF(AND($E54=サマリー!$B$6,$I54<>""),H54,"") -> 0.0060300926 | W54: =IF(AND($S54=サマリー!$B$8,$I54<>""),H54,"") -> 0.0060300926 | X54: =IF(AND($E54=サマリー!$B$6,$K54<>""),J54,"") -> 0.017916667 | Y54: =IF(AND($S54=サマリー!$B$8,$K54<>""),J54,"") -> 0.017916667 | Z54: =IF(AND($E54=サマリー!$B$6,$O54<>""),N54,"") -> 0.0084143519 | AA54: =IF(AND($S54=サマリー!$B$8,$O54<>""),N54,"") -> 0.0084143519
A55: 54 | B55: 146 | C55: 佐藤 和幸 | D55: 47 | E55: 男 | F55: 東京都 | G55: 0.032407407 | H55: 0.005150463 | I55: 39 | J55: 0.017106481 | K55: 43 | L55: 0.022256944 | M55: 35 | N55: 0.010150463 | O55: 157 | Q55: 48 | S55: 30-49歳男子 | T55: 25 | U55: ロード・TT | V55: =IF(AND($E55=サマリー!$B$6,$I55<>""),H55,"") -> 0.005150463 | W55: =IF(AND($S55=サマリー!$B$8,$I55<>""),H55,"") -> 0.005150463 | X55: =IF(AND($E55=サマリー!$B$6,$K55<>""),J55,"") -> 0.017106481 | Y55: =IF(AND($S55=サマリー!$B$8,$K55<>""),J55,"") -> 0.017106481 | Z55: =IF(AND($E55=サマリー!$B$6,$O55<>""),N55,"") -> 0.010150463 | AA55: =IF(AND($S55=サマリー!$B$8,$O55<>""),N55,"") -> 0.010150463
A56: 55 | B56: 218 | C56: 古川 拓 | D56: 33 | E56: 男 | F56: 東京都 | G56: 0.032407407 | H56: 0.0043055556 | I56: 7 | J56: 0.01849537 | K56: 81 | L56: 0.022800926 | M56: 48 | N56: 0.0096064815 | O56: 132 | Q56: 49 | S56: 30-49歳男子 | T56: 26 | U56: ロード・TT | V56: =IF(AND($E56=サマリー!$B$6,$I56<>""),H56,"") -> 0.0043055556 | W56: =IF(AND($S56=サマリー!$B$8,$I56<>""),H56,"") -> 0.0043055556 | X56: =IF(AND($E56=サマリー!$B$6,$K56<>""),J56,"") -> 0.01849537 | Y56: =IF(AND($S56=サマリー!$B$8,$K56<>""),J56,"") -> 0.01849537 | Z56: =IF(AND($E56=サマリー!$B$6,$O56<>""),N56,"") -> 0.0096064815 | AA56: =IF(AND($S56=サマリー!$B$8,$O56<>""),N56,"") -> 0.0096064815
A57: 56 | B57: 203 | C57: 野口 晃男 | D57: 52 | E57: 男 | F57: 東京都 | G57: 0.032430556 | H57: 0.0059722222 | I57: 88 | J57: 0.017997685 | K57: 65 | L57: 0.023969907 | M57: 71 | N57: 0.0084606481 | O57: 64 | Q57: 50 | S57: 50歳以上男子 | T57: 14 | U57: ロード・TT | V57: =IF(AND($E57=サマリー!$B$6,$I57<>""),H57,"") -> 0.0059722222 | W57: =IF(AND($S57=サマリー!$B$8,$I57<>""),H57,"") | X57: =IF(AND($E57=サマリー!$B$6,$K57<>""),J57,"") -> 0.017997685 | Y57: =IF(AND($S57=サマリー!$B$8,$K57<>""),J57,"") | Z57: =IF(AND($E57=サマリー!$B$6,$O57<>""),N57,"") -> 0.0084606481 | AA57: =IF(AND($S57=サマリー!$B$8,$O57<>""),N57,"")
A58: 57 | B58: 552 | C58: 森谷 誠 | D58: 58 | E58: 男 | F58: 東京都 | G58: 0.032465278 | H58: 0.0059837963 | I58: 89 | J58: 0.018009259 | K58: 68 | L58: 0.023993056 | M58: 72 | N58: 0.0084722222 | O58: 66 | Q58: 51 | S58: 50歳以上男子 | T58: 15 | U58: ママチャリ・シティ | V58: =IF(AND($E58=サマリー!$B$6,$I58<>""),H58,"") -> 0.0059837963 | W58: =IF(AND($S58=サマリー!$B$8,$I58<>""),H58,"") | X58: =IF(AND($E58=サマリー!$B$6,$K58<>""),J58,"") -> 0.018009259 | Y58: =IF(AND($S58=サマリー!$B$8,$K58<>""),J58,"") | Z58: =IF(AND($E58=サマリー!$B$6,$O58<>""),N58,"") -> 0.0084722222 | AA58: =IF(AND($S58=サマリー!$B$8,$O58<>""),N58,"")
A59: 58 | B59: 558 | C59: 新野 敏朗 | D59: 45 | E59: 男 | F59: 東京都 | G59: 0.032488426 | H59: 0.0056944444 | I59: 71 | J59: 0.017835648 | K59: 62 | L59: 0.023530093 | M59: 61 | N59: 0.0089583333 | O59: 96 | Q59: 52 | S59: 30-49歳男子 | T59: 27 | U59: ママチャリ・シティ | V59: =IF(AND($E59=サマリー!$B$6,$I59<>""),H59,"") -> 0.0056944444 | W59: =IF(AND($S59=サマリー!$B$8,$I59<>""),H59,"") -> 0.0056944444 | X59: =IF(AND($E59=サマリー!$B$6,$K59<>""),J59,"") -> 0.017835648 | Y59: =IF(AND($S59=サマリー!$B$8,$K59<>""),J59,"") -> 0.017835648 | Z59: =IF(AND($E59=サマリー!$B$6,$O59<>""),N59,"") -> 0.0089583333 | AA59: =IF(AND($S59=サマリー!$B$8,$O59<>""),N59,"") -> 0.0089583333
A60: 59 | B60: 343 | C60: 八幡 尚 | D60: 54 | E60: 男 | F60: 東京都 | G60: 0.032638889 | H60: 0.0074074074 | I60: 214 | J60: 0.017731481 | K60: 57 | L60: 0.025138889 | M60: 96 | N60: 0.0075 | O60: 17 | Q60: 53 | S60: 50歳以上男子 | T60: 16 | U60: ロード・TT | V60: =IF(AND($E60=サマリー!$B$6,$I60<>""),H60,"") -> 0.0074074074 | W60: =IF(AND($S60=サマリー!$B$8,$I60<>""),H60,"") | X60: =IF(AND($E60=サマリー!$B$6,$K60<>""),J60,"") -> 0.017731481 | Y60: =IF(AND($S60=サマリー!$B$8,$K60<>""),J60,"") | Z60: =IF(AND($E60=サマリー!$B$6,$O60<>""),N60,"") -> 0.0075 | AA60: =IF(AND($S60=サマリー!$B$8,$O60<>""),N60,"")
A61: 60 | B61: 137 | C61: 吉岡 朋昭 | D61: 62 | E61: 男 | F61: 東京都 | G61: 0.032662037 | H61: 0.0071875 | I61: 203 | J61: 0.015972222 | K61: 17 | L61: 0.023159722 | M61: 54 | N61: 0.0095023148 | O61: 127 | Q61: 54 | S61: 50歳以上男子 | T61: 17 | U61: ロード・TT | V61: =IF(AND($E61=サマリー!$B$6,$I61<>""),H61,"") -> 0.0071875 | W61: =IF(AND($S61=サマリー!$B$8,$I61<>""),H61,"") | X61: =IF(AND($E61=サマリー!$B$6,$K61<>""),J61,"") -> 0.015972222 | Y61: =IF(AND($S61=サマリー!$B$8,$K61<>""),J61,"") | Z61: =IF(AND($E61=サマリー!$B$6,$O61<>""),N61,"") -> 0.0095023148 | AA61: =IF(AND($S61=サマリー!$B$8,$O61<>""),N61,"")
A62: 61 | B62: 236 | C62: 若杉 美鈴 | D62: 32 | E62: 女 | F62: 東京都 | G62: 0.032662037 | H62: 0.0047106481 | I62: 16 | J62: 0.018668981 | K62: 89 | L62: 0.02337963 | M62: 57 | N62: 0.0092824074 | O62: 115 | R62: 7 | S62: 30-49歳女子 | T62: 1 | U62: ロード・TT | V62: =IF(AND($E62=サマリー!$B$6,$I62<>""),H62,"") | W62: =IF(AND($S62=サマリー!$B$8,$I62<>""),H62,"") | X62: =IF(AND($E62=サマリー!$B$6,$K62<>""),J62,"") | Y62: =IF(AND($S62=サマリー!$B$8,$K62<>""),J62,"") | Z62: =IF(AND($E62=サマリー!$B$6,$O62<>""),N62,"") | AA62: =IF(AND($S62=サマリー!$B$8,$O62<>""),N62,"")
A63: 62 | B63: 223 | C63: 河原 正英 | D63: 54 | E63: 男 | F63: 東京都 | G63: 0.032708333 | H63: 0.0059606481 | I63: 86 | J63: 0.017997685 | K63: 67 | L63: 0.023958333 | M63: 69 | N63: 0.00875 | O63: 80 | Q63: 55 | S63: 50歳以上男子 | T63: 18 | U63: ロード・TT | V63: =IF(AND($E63=サマリー!$B$6,$I63<>""),H63,"") -> 0.0059606481 | W63: =IF(AND($S63=サマリー!$B$8,$I63<>""),H63,"") | X63: =IF(AND($E63=サマリー!$B$6,$K63<>""),J63,"") -> 0.017997685 | Y63: =IF(AND($S63=サマリー!$B$8,$K63<>""),J63,"") | Z63: =IF(AND($E63=サマリー!$B$6,$O63<>""),N63,"") -> 0.00875 | AA63: =IF(AND($S63=サマリー!$B$8,$O63<>""),N63,"")
A64: 63 | B64: 422 | C64: しいの いちろう | D64: 45 | E64: 男 | F64: 東京都 | G64: 0.032719907 | H64: 0.0059143519 | I64: 81 | J64: 0.018877315 | K64: 96 | L64: 0.024791667 | M64: 83 | N64: 0.0079282407 | O64: 36 | Q64: 56 | S64: 30-49歳男子 | T64: 28 | U64: ロード・TT | V64: =IF(AND($E64=サマリー!$B$6,$I64<>""),H64,"") -> 0.0059143519 | W64: =IF(AND($S64=サマリー!$B$8,$I64<>""),H64,"") -> 0.0059143519 | X64: =IF(AND($E64=サマリー!$B$6,$K64<>""),J64,"") -> 0.018877315 | Y64: =IF(AND($S64=サマリー!$B$8,$K64<>""),J64,"") -> 0.018877315 | Z64: =IF(AND($E64=サマリー!$B$6,$O64<>""),N64,"") -> 0.0079282407 | AA64: =IF(AND($S64=サマリー!$B$8,$O64<>""),N64,"") -> 0.0079282407
A65: 64 | B65: 139 | C65: 若杉 利香 | D65: 56 | E65: 女 | F65: 大阪府 | G65: 0.03287037 | H65: 0.0052546296 | I65: 44 | J65: 0.017824074 | K65: 61 | L65: 0.023078704 | M65: 52 | N65: 0.0097916667 | O65: 138 | R65: 8 | S65: 50歳以上女子 | T65: 2 | U65: ロード・TT | V65: =IF(AND($E65=サマリー!$B$6,$I65<>""),H65,"") | W65: =IF(AND($S65=サマリー!$B$8,$I65<>""),H65,"") | X65: =IF(AND($E65=サマリー!$B$6,$K65<>""),J65,"") | Y65: =IF(AND($S65=サマリー!$B$8,$K65<>""),J65,"") | Z65: =IF(AND($E65=サマリー!$B$6,$O65<>""),N65,"") | AA65: =IF(AND($S65=サマリー!$B$8,$O65<>""),N65,"")
A66: 65 | B66: 255 | C66: 橋爪 崇 | D66: 57 | E66: 男 | F66: 東京都 | G66: 0.032881944 | H66: 0.0053587963 | I66: 49 | J66: 0.019097222 | K66: 102 | L66: 0.024456019 | M66: 79 | N66: 0.0084259259 | O66: 62 | Q66: 57 | S66: 50歳以上男子 | T66: 19 | U66: ロード・TT | V66: =IF(AND($E66=サマリー!$B$6,$I66<>""),H66,"") -> 0.0053587963 | W66: =IF(AND($S66=サマリー!$B$8,$I66<>""),H66,"") | X66: =IF(AND($E66=サマリー!$B$6,$K66<>""),J66,"") -> 0.019097222 | Y66: =IF(AND($S66=サマリー!$B$8,$K66<>""),J66,"") | Z66: =IF(AND($E66=サマリー!$B$6,$O66<>""),N66,"") -> 0.0084259259 | AA66: =IF(AND($S66=サマリー!$B$8,$O66<>""),N66,"")
A67: 66 | B67: 319 | C67: 安井 章 | D67: 56 | E67: 男 | F67: 東京都 | G67: 0.032881944 | H67: 0.0065856481 | I67: 156 | J67: 0.017592593 | K67: 52 | L67: 0.024178241 | M67: 75 | N67: 0.0087037037 | O67: 77 | Q67: 58 | S67: 50歳以上男子 | T67: 20 | U67: ロード・TT | V67: =IF(AND($E67=サマリー!$B$6,$I67<>""),H67,"") -> 0.0065856481 | W67: =IF(AND($S67=サマリー!$B$8,$I67<>""),H67,"") | X67: =IF(AND($E67=サマリー!$B$6,$K67<>""),J67,"") -> 0.017592593 | Y67: =IF(AND($S67=サマリー!$B$8,$K67<>""),J67,"") | Z67: =IF(AND($E67=サマリー!$B$6,$O67<>""),N67,"") -> 0.0087037037 | AA67: =IF(AND($S67=サマリー!$B$8,$O67<>""),N67,"")
A68: 67 | B68: 111 | C68: 小松 泰地 | D68: 26 | E68: 男 | F68: 東京都 | G68: 0.032928241 | H68: 0.004525463 | I68: 11 | J68: 0.019444444 | K68: 113 | L68: 0.023969907 | M68: 70 | N68: 0.0089583333 | O68: 95 | Q68: 59 | S68: 29歳以下男子 | T68: 6 | U68: ロード・TT | V68: =IF(AND($E68=サマリー!$B$6,$I68<>""),H68,"") -> 0.004525463 | W68: =IF(AND($S68=サマリー!$B$8,$I68<>""),H68,"") | X68: =IF(AND($E68=サマリー!$B$6,$K68<>""),J68,"") -> 0.019444444 | Y68: =IF(AND($S68=サマリー!$B$8,$K68<>""),J68,"") | Z68: =IF(AND($E68=サマリー!$B$6,$O68<>""),N68,"") -> 0.0089583333 | AA68: =IF(AND($S68=サマリー!$B$8,$O68<>""),N68,"")
A69: 68 | B69: 106 | C69: 小沼 美桜 | D69: 18 | E69: 女 | F69: 東京都 | G69: 0.032974537 | H69: 0.0054861111 | I69: 57 | J69: 0.017175926 | K69: 47 | L69: 0.022662037 | M69: 45 | N69: 0.0103125 | O69: 166 | R69: 9 | S69: 29歳以下女子 | T69: 1 | U69: ロード・TT | V69: =IF(AND($E69=サマリー!$B$6,$I69<>""),H69,"") | W69: =IF(AND($S69=サマリー!$B$8,$I69<>""),H69,"") | X69: =IF(AND($E69=サマリー!$B$6,$K69<>""),J69,"") | Y69: =IF(AND($S69=サマリー!$B$8,$K69<>""),J69,"") | Z69: =IF(AND($E69=サマリー!$B$6,$O69<>""),N69,"") | AA69: =IF(AND($S69=サマリー!$B$8,$O69<>""),N69,"")
A70: 69 | B70: 518 | C70: 梅津 巧 | D70: 28 | E70: 男 | F70: 東京都 | G70: 0.032986111 | H70: 0.0055324074 | I70: 59 | J70: 0.019710648 | K70: 118 | L70: 0.025243056 | M70: 100 | N70: 0.0077430556 | O70: 25 | Q70: 60 | S70: 29歳以下男子 | T70: 7 | U70: MTB | V70: =IF(AND($E70=サマリー!$B$6,$I70<>""),H70,"") -> 0.0055324074 | W70: =IF(AND($S70=サマリー!$B$8,$I70<>""),H70,"") | X70: =IF(AND($E70=サマリー!$B$6,$K70<>""),J70,"") -> 0.019710648 | Y70: =IF(AND($S70=サマリー!$B$8,$K70<>""),J70,"") | Z70: =IF(AND($E70=サマリー!$B$6,$O70<>""),N70,"") -> 0.0077430556 | AA70: =IF(AND($S70=サマリー!$B$8,$O70<>""),N70,"")
A71: 70 | B71: 252 | C71: 竹島 博行 | D71: 58 | E71: 男 | F71: 埼玉県 | G71: 0.033009259 | H71: 0.005462963 | I71: 55 | J71: 0.017997685 | K71: 66 | L71: 0.023460648 | M71: 58 | N71: 0.0095486111 | O71: 129 | Q71: 61 | S71: 50歳以上男子 | T71: 21 | U71: ロード・TT | V71: =IF(AND($E71=サマリー!$B$6,$I71<>""),H71,"") -> 0.005462963 | W71: =IF(AND($S71=サマリー!$B$8,$I71<>""),H71,"") | X71: =IF(AND($E71=サマリー!$B$6,$K71<>""),J71,"") -> 0.017997685 | Y71: =IF(AND($S71=サマリー!$B$8,$K71<>""),J71,"") | Z71: =IF(AND($E71=サマリー!$B$6,$O71<>""),N71,"") -> 0.0095486111 | AA71: =IF(AND($S71=サマリー!$B$8,$O71<>""),N71,"")
A72: 71 | B72: 233 | C72: 高須 雄士 | D72: 51 | E72: 男 | F72: 東京都 | G72: 0.033043981 | H72: 0.0053472222 | I72: 48 | J72: 0.019768519 | K72: 123 | L72: 0.025115741 | M72: 94 | N72: 0.0079282407 | O72: 35 | Q72: 62 | S72: 50歳以上男子 | T72: 22 | U72: ロード・TT | V72: =IF(AND($E72=サマリー!$B$6,$I72<>""),H72,"") -> 0.0053472222 | W72: =IF(AND($S72=サマリー!$B$8,$I72<>""),H72,"") | X72: =IF(AND($E72=サマリー!$B$6,$K72<>""),J72,"") -> 0.019768519 | Y72: =IF(AND($S72=サマリー!$B$8,$K72<>""),J72,"") | Z72: =IF(AND($E72=サマリー!$B$6,$O72<>""),N72,"") -> 0.0079282407 | AA72: =IF(AND($S72=サマリー!$B$8,$O72<>""),N72,"")
A73: 72 | B73: 214 | C73: 高橋 進 | D73: 51 | E73: 男 | F73: 東京都 | G73: 0.033078704 | H73: 0.0056597222 | I73: 69 | J73: 0.019733796 | K73: 121 | L73: 0.025393519 | M73: 105 | N73: 0.0076851852 | O73: 22 | Q73: 63 | S73: 50歳以上男子 | T73: 23 | U73: ロード・TT | V73: =IF(AND($E73=サマリー!$B$6,$I73<>""),H73,"") -> 0.0056597222 | W73: =IF(AND($S73=サマリー!$B$8,$I73<>""),H73,"") | X73: =IF(AND($E73=サマリー!$B$6,$K73<>""),J73,"") -> 0.019733796 | Y73: =IF(AND($S73=サマリー!$B$8,$K73<>""),J73,"") | Z73: =IF(AND($E73=サマリー!$B$6,$O73<>""),N73,"") -> 0.0076851852 | AA73: =IF(AND($S73=サマリー!$B$8,$O73<>""),N73,"")
A74: 73 | B74: 522 | C74: 荒木 雅子 | D74: 58 | E74: 女 | F74: 東京都 | G74: 0.033206019 | H74: 0.0059375 | I74: 83 | J74: 0.019166667 | K74: 106 | L74: 0.025104167 | M74: 93 | N74: 0.0081018519 | O74: 45 | R74: 10 | S74: 50歳以上女子 | T74: 3 | U74: ママチャリ・シティ | V74: =IF(AND($E74=サマリー!$B$6,$I74<>""),H74,"") | W74: =IF(AND($S74=サマリー!$B$8,$I74<>""),H74,"") | X74: =IF(AND($E74=サマリー!$B$6,$K74<>""),J74,"") | Y74: =IF(AND($S74=サマリー!$B$8,$K74<>""),J74,"") | Z74: =IF(AND($E74=サマリー!$B$6,$O74<>""),N74,"") | AA74: =IF(AND($S74=サマリー!$B$8,$O74<>""),N74,"")
A75: 74 | B75: 450 | C75: 滝本 剛史 | D75: 46 | E75: 男 | F75: 東京都 | G75: 0.033206019 | H75: 0.0059837963 | I75: 90 | J75: 0.017175926 | K75: 46 | L75: 0.023159722 | M75: 55 | N75: 0.010046296 | O75: 152 | Q75: 64 | S75: 30-49歳男子 | T75: 29 | U75: ロード・TT | V75: =IF(AND($E75=サマリー!$B$6,$I75<>""),H75,"") -> 0.0059837963 | W75: =IF(AND($S75=サマリー!$B$8,$I75<>""),H75,"") -> 0.0059837963 | X75: =IF(AND($E75=サマリー!$B$6,$K75<>""),J75,"") -> 0.017175926 | Y75: =IF(AND($S75=サマリー!$B$8,$K75<>""),J75,"") -> 0.017175926 | Z75: =IF(AND($E75=サマリー!$B$6,$O75<>""),N75,"") -> 0.010046296 | AA75: =IF(AND($S75=サマリー!$B$8,$O75<>""),N75,"") -> 0.010046296
A76: 75 | B76: 504 | C76: 平野 剛 | D76: 53 | E76: 男 | F76: 東京都 | G76: 0.033217593 | H76: 0.0070717593 | I76: 194 | J76: 0.018854167 | K76: 95 | L76: 0.025925926 | M76: 119 | N76: 0.0072916667 | O76: 10 | Q76: 65 | S76: 50歳以上男子 | T76: 24 | U76: MTB | V76: =IF(AND($E76=サマリー!$B$6,$I76<>""),H76,"") -> 0.0070717593 | W76: =IF(AND($S76=サマリー!$B$8,$I76<>""),H76,"") | X76: =IF(AND($E76=サマリー!$B$6,$K76<>""),J76,"") -> 0.018854167 | Y76: =IF(AND($S76=サマリー!$B$8,$K76<>""),J76,"") | Z76: =IF(AND($E76=サマリー!$B$6,$O76<>""),N76,"") -> 0.0072916667 | AA76: =IF(AND($S76=サマリー!$B$8,$O76<>""),N76,"")
A77: 76 | B77: 127 | C77: 秋郷 伸一 | D77: 66 | E77: 男 | F77: 東京都 | G77: 0.033252315 | H77: 0.0058564815 | I77: 79 | J77: 0.017233796 | K77: 48 | L77: 0.023090278 | M77: 53 | N77: 0.010162037 | O77: 158 | Q77: 66 | S77: 50歳以上男子 | T77: 25 | U77: ロード・TT | V77: =IF(AND($E77=サマリー!$B$6,$I77<>""),H77,"") -> 0.0058564815 | W77: =IF(AND($S77=サマリー!$B$8,$I77<>""),H77,"") | X77: =IF(AND($E77=サマリー!$B$6,$K77<>""),J77,"") -> 0.017233796 | Y77: =IF(AND($S77=サマリー!$B$8,$K77<>""),J77,"") | Z77: =IF(AND($E77=サマリー!$B$6,$O77<>""),N77,"") -> 0.010162037 | AA77: =IF(AND($S77=サマリー!$B$8,$O77<>""),N77,"")
A78: 77 | B78: 251 | C78: 柴田 俊一 | D78: 60 | E78: 男 | F78: 東京都 | G78: 0.033287037 | H78: 0.0060069444 | I78: 93 | J78: 0.018449074 | K78: 80 | L78: 0.024456019 | M78: 78 | N78: 0.0088310185 | O78: 87 | Q78: 67 | S78: 50歳以上男子 | T78: 26 | U78: ロード・TT | V78: =IF(AND($E78=サマリー!$B$6,$I78<>""),H78,"") -> 0.0060069444 | W78: =IF(AND($S78=サマリー!$B$8,$I78<>""),H78,"") | X78: =IF(AND($E78=サマリー!$B$6,$K78<>""),J78,"") -> 0.018449074 | Y78: =IF(AND($S78=サマリー!$B$8,$K78<>""),J78,"") | Z78: =IF(AND($E78=サマリー!$B$6,$O78<>""),N78,"") -> 0.0088310185 | AA78: =IF(AND($S78=サマリー!$B$8,$O78<>""),N78,"")
A79: 78 | B79: 117 | C79: 住吉谷 胡桃 | D79: 16 | E79: 女 | F79: 東京都 | G79: 0.033298611 | H79: 0.0043171296 | I79: 8 | J79: 0.020509259 | K79: 142 | L79: 0.024826389 | M79: 85 | N79: 0.0084722222 | O79: 65 | R79: 11 | S79: 29歳以下女子 | T79: 2 | U79: ロード・TT | V79: =IF(AND($E79=サマリー!$B$6,$I79<>""),H79,"") | W79: =IF(AND($S79=サマリー!$B$8,$I79<>""),H79,"") | X79: =IF(AND($E79=サマリー!$B$6,$K79<>""),J79,"") | Y79: =IF(AND($S79=サマリー!$B$8,$K79<>""),J79,"") | Z79: =IF(AND($E79=サマリー!$B$6,$O79<>""),N79,"") | AA79: =IF(AND($S79=サマリー!$B$8,$O79<>""),N79,"")
A80: 79 | B80: 116 | C80: 石川 夏希 | D80: 38 | E80: 女 | F80: 東京都 | G80: 0.033333333 | H80: 0.0048958333 | I80: 26 | J80: 0.018634259 | K80: 88 | L80: 0.023530093 | M80: 59 | N80: 0.0098032407 | O80: 139 | R80: 12 | S80: 30-49歳女子 | T80: 2 | U80: ロード・TT | V80: =IF(AND($E80=サマリー!$B$6,$I80<>""),H80,"") | W80: =IF(AND($S80=サマリー!$B$8,$I80<>""),H80,"") | X80: =IF(AND($E80=サマリー!$B$6,$K80<>""),J80,"") | Y80: =IF(AND($S80=サマリー!$B$8,$K80<>""),J80,"") | Z80: =IF(AND($E80=サマリー!$B$6,$O80<>""),N80,"") | AA80: =IF(AND($S80=サマリー!$B$8,$O80<>""),N80,"")
A81: 80 | B81: 257 | C81: 小室 博之 | D81: 61 | E81: 男 | G81: 0.033333333 | H81: 0.0055555556 | I81: 61 | J81: 0.01818287 | K81: 73 | L81: 0.023738426 | M81: 64 | N81: 0.0095949074 | O81: 131 | Q81: 68 | S81: 50歳以上男子 | T81: 27 | U81: ロード・TT | V81: =IF(AND($E81=サマリー!$B$6,$I81<>""),H81,"") -> 0.0055555556 | W81: =IF(AND($S81=サマリー!$B$8,$I81<>""),H81,"") | X81: =IF(AND($E81=サマリー!$B$6,$K81<>""),J81,"") -> 0.01818287 | Y81: =IF(AND($S81=サマリー!$B$8,$K81<>""),J81,"") | Z81: =IF(AND($E81=サマリー!$B$6,$O81<>""),N81,"") -> 0.0095949074 | AA81: =IF(AND($S81=サマリー!$B$8,$O81<>""),N81,"")
A82: 81 | B82: 158 | C82: 原田 学 | D82: 53 | E82: 男 | F82: 東京都 | G82: 0.033368056 | H82: 0.0066203704 | I82: 159 | J82: 0.018344907 | K82: 76 | L82: 0.024965278 | M82: 88 | N82: 0.0084027778 | O82: 59 | Q82: 69 | S82: 50歳以上男子 | T82: 28 | U82: ロード・TT | V82: =IF(AND($E82=サマリー!$B$6,$I82<>""),H82,"") -> 0.0066203704 | W82: =IF(AND($S82=サマリー!$B$8,$I82<>""),H82,"") | X82: =IF(AND($E82=サマリー!$B$6,$K82<>""),J82,"") -> 0.018344907 | Y82: =IF(AND($S82=サマリー!$B$8,$K82<>""),J82,"") | Z82: =IF(AND($E82=サマリー!$B$6,$O82<>""),N82,"") -> 0.0084027778 | AA82: =IF(AND($S82=サマリー!$B$8,$O82<>""),N82,"")
A83: 82 | B83: 330 | C83: 五十嵐 亘 | D83: 56 | E83: 男 | F83: 埼玉県 | G83: 0.033414352 | H83: 0.006099537 | I83: 105 | J83: 0.018287037 | K83: 75 | L83: 0.024386574 | M83: 77 | N83: 0.0090277778 | O83: 99 | Q83: 70 | S83: 50歳以上男子 | T83: 29 | U83: ロード・TT | V83: =IF(AND($E83=サマリー!$B$6,$I83<>""),H83,"") -> 0.006099537 | W83: =IF(AND($S83=サマリー!$B$8,$I83<>""),H83,"") | X83: =IF(AND($E83=サマリー!$B$6,$K83<>""),J83,"") -> 0.018287037 | Y83: =IF(AND($S83=サマリー!$B$8,$K83<>""),J83,"") | Z83: =IF(AND($E83=サマリー!$B$6,$O83<>""),N83,"") -> 0.0090277778 | AA83: =IF(AND($S83=サマリー!$B$8,$O83<>""),N83,"")
A84: 83 | B84: 134 | C84: 西村 昭俊 | D84: 61 | E84: 男 | F84: 東京都 | G84: 0.0334375 | H84: 0.0058101852 | I84: 74 | J84: 0.018506944 | K84: 82 | L84: 0.02431713 | M84: 76 | N84: 0.0091203704 | O84: 105 | Q84: 71 | S84: 50歳以上男子 | T84: 30 | U84: ロード・TT | V84: =IF(AND($E84=サマリー!$B$6,$I84<>""),H84,"") -> 0.0058101852 | W84: =IF(AND($S84=サマリー!$B$8,$I84<>""),H84,"") | X84: =IF(AND($E84=サマリー!$B$6,$K84<>""),J84,"") -> 0.018506944 | Y84: =IF(AND($S84=サマリー!$B$8,$K84<>""),J84,"") | Z84: =IF(AND($E84=サマリー!$B$6,$O84<>""),N84,"") -> 0.0091203704 | AA84: =IF(AND($S84=サマリー!$B$8,$O84<>""),N84,"")
A85: 84 | B85: 307 | C85: 柏崎 龍進 | D85: 61 | E85: 男 | F85: 東京都 | G85: 0.033449074 | H85: 0.0060069444 | I85: 95 | J85: 0.017662037 | K85: 55 | L85: 0.023668981 | M85: 63 | N85: 0.0097800926 | O85: 137 | Q85: 72 | S85: 50歳以上男子 | T85: 31 | U85: ロード・TT | V85: =IF(AND($E85=サマリー!$B$6,$I85<>""),H85,"") -> 0.0060069444 | W85: =IF(AND($S85=サマリー!$B$8,$I85<>""),H85,"") | X85: =IF(AND($E85=サマリー!$B$6,$K85<>""),J85,"") -> 0.017662037 | Y85: =IF(AND($S85=サマリー!$B$8,$K85<>""),J85,"") | Z85: =IF(AND($E85=サマリー!$B$6,$O85<>""),N85,"") -> 0.0097800926 | AA85: =IF(AND($S85=サマリー!$B$8,$O85<>""),N85,"")
A86: 85 | B86: 420 | C86: 大平 浩之 | D86: 33 | E86: 男 | F86: 埼玉県 | G86: 0.033483796 | H86: 0.0060532407 | I86: 99 | J86: 0.019027778 | K86: 100 | L86: 0.025081019 | M86: 91 | N86: 0.0084027778 | O86: 60 | Q86: 73 | S86: 30-49歳男子 | T86: 30 | U86: ロード・TT | V86: =IF(AND($E86=サマリー!$B$6,$I86<>""),H86,"") -> 0.0060532407 | W86: =IF(AND($S86=サマリー!$B$8,$I86<>""),H86,"") -> 0.0060532407 | X86: =IF(AND($E86=サマリー!$B$6,$K86<>""),J86,"") -> 0.019027778 | Y86: =IF(AND($S86=サマリー!$B$8,$K86<>""),J86,"") -> 0.019027778 | Z86: =IF(AND($E86=サマリー!$B$6,$O86<>""),N86,"") -> 0.0084027778 | AA86: =IF(AND($S86=サマリー!$B$8,$O86<>""),N86,"") -> 0.0084027778
A87: 86 | B87: 316 | C87: 渡邊 龍太 | D87: 52 | E87: 男 | F87: 東京都 | G87: 0.033530093 | H87: 0.0079976852 | I87: 235 | J87: 0.018101852 | K87: 70 | L87: 0.026099537 | M87: 123 | N87: 0.0074305556 | O87: 14 | Q87: 74 | S87: 50歳以上男子 | T87: 32 | U87: ロード・TT | V87: =IF(AND($E87=サマリー!$B$6,$I87<>""),H87,"") -> 0.0079976852 | W87: =IF(AND($S87=サマリー!$B$8,$I87<>""),H87,"") | X87: =IF(AND($E87=サマリー!$B$6,$K87<>""),J87,"") -> 0.018101852 | Y87: =IF(AND($S87=サマリー!$B$8,$K87<>""),J87,"") | Z87: =IF(AND($E87=サマリー!$B$6,$O87<>""),N87,"") -> 0.0074305556 | AA87: =IF(AND($S87=サマリー!$B$8,$O87<>""),N87,"")
A88: 87 | B88: 160 | C88: 髙田 春菜 | D88: 22 | E88: 女 | F88: 埼玉県 | G88: 0.033703704 | H88: 0.0047337963 | I88: 17 | J88: 0.018935185 | K88: 97 | L88: 0.023668981 | M88: 62 | N88: 0.010034722 | O88: 150 | R88: 13 | S88: 29歳以下女子 | T88: 3 | U88: ロード・TT | V88: =IF(AND($E88=サマリー!$B$6,$I88<>""),H88,"") | W88: =IF(AND($S88=サマリー!$B$8,$I88<>""),H88,"") | X88: =IF(AND($E88=サマリー!$B$6,$K88<>""),J88,"") | Y88: =IF(AND($S88=サマリー!$B$8,$K88<>""),J88,"") | Z88: =IF(AND($E88=サマリー!$B$6,$O88<>""),N88,"") | AA88: =IF(AND($S88=サマリー!$B$8,$O88<>""),N88,"")
A89: 88 | B89: 321 | C89: 近藤 寛 | D89: 53 | E89: 男 | F89: 東京都 | G89: 0.033715278 | H89: 0.0063888889 | I89: 137 | J89: 0.019259259 | K89: 109 | L89: 0.025648148 | M89: 112 | N89: 0.0080671296 | O89: 43 | Q89: 75 | S89: 50歳以上男子 | T89: 33 | U89: ロード・TT | V89: =IF(AND($E89=サマリー!$B$6,$I89<>""),H89,"") -> 0.0063888889 | W89: =IF(AND($S89=サマリー!$B$8,$I89<>""),H89,"") | X89: =IF(AND($E89=サマリー!$B$6,$K89<>""),J89,"") -> 0.019259259 | Y89: =IF(AND($S89=サマリー!$B$8,$K89<>""),J89,"") | Z89: =IF(AND($E89=サマリー!$B$6,$O89<>""),N89,"") -> 0.0080671296 | AA89: =IF(AND($S89=サマリー!$B$8,$O89<>""),N89,"")
A90: 89 | B90: 561 | C90: 菊池 学 | D90: 62 | E90: 男 | F90: 埼玉県 | G90: 0.033923611 | H90: 0.0060648148 | I90: 100 | J90: 0.0184375 | K90: 79 | L90: 0.024502315 | M90: 80 | N90: 0.0094212963 | O90: 123 | Q90: 76 | S90: 50歳以上男子 | T90: 34 | U90: ママチャリ・シティ | V90: =IF(AND($E90=サマリー!$B$6,$I90<>""),H90,"") -> 0.0060648148 | W90: =IF(AND($S90=サマリー!$B$8,$I90<>""),H90,"") | X90: =IF(AND($E90=サマリー!$B$6,$K90<>""),J90,"") -> 0.0184375 | Y90: =IF(AND($S90=サマリー!$B$8,$K90<>""),J90,"") | Z90: =IF(AND($E90=サマリー!$B$6,$O90<>""),N90,"") -> 0.0094212963 | AA90: =IF(AND($S90=サマリー!$B$8,$O90<>""),N90,"")
A91: 90 | B91: 215 | C91: 高柳 和貴 | D91: 28 | E91: 男 | F91: 東京都 | G91: 0.033958333 | H91: 0.0050115741 | I91: 33 | J91: 0.020428241 | K91: 139 | L91: 0.025439815 | M91: 106 | N91: 0.0085185185 | O91: 68 | Q91: 77 | S91: 29歳以下男子 | T91: 8 | U91: ロード・TT | V91: =IF(AND($E91=サマリー!$B$6,$I91<>""),H91,"") -> 0.0050115741 | W91: =IF(AND($S91=サマリー!$B$8,$I91<>""),H91,"") | X91: =IF(AND($E91=サマリー!$B$6,$K91<>""),J91,"") -> 0.020428241 | Y91: =IF(AND($S91=サマリー!$B$8,$K91<>""),J91,"") | Z91: =IF(AND($E91=サマリー!$B$6,$O91<>""),N91,"") -> 0.0085185185 | AA91: =IF(AND($S91=サマリー!$B$8,$O91<>""),N91,"")
A92: 91 | B92: 340 | C92: 足利 真夏 | D92: 24 | E92: 男 | F92: 神奈川県 | G92: 0.033958333 | H92: 0.0054976852 | I92: 58 | J92: 0.0196875 | K92: 117 | L92: 0.025185185 | M92: 98 | N92: 0.0087731481 | O92: 83 | Q92: 78 | S92: 29歳以下男子 | T92: 9 | U92: ロード・TT | V92: =IF(AND($E92=サマリー!$B$6,$I92<>""),H92,"") -> 0.0054976852 | W92: =IF(AND($S92=サマリー!$B$8,$I92<>""),H92,"") | X92: =IF(AND($E92=サマリー!$B$6,$K92<>""),J92,"") -> 0.0196875 | Y92: =IF(AND($S92=サマリー!$B$8,$K92<>""),J92,"") | Z92: =IF(AND($E92=サマリー!$B$6,$O92<>""),N92,"") -> 0.0087731481 | AA92: =IF(AND($S92=サマリー!$B$8,$O92<>""),N92,"")
A93: 92 | B93: 120 | C93: 井口 祐汰 | D93: 29 | E93: 男 | F93: 東京都 | G93: 0.033981481 | H93: 0.0059953704 | I93: 92 | J93: 0.019664352 | K93: 116 | L93: 0.025659722 | M93: 113 | N93: 0.0083217593 | O93: 58 | Q93: 79 | S93: 29歳以下男子 | T93: 10 | U93: ロード・TT | V93: =IF(AND($E93=サマリー!$B$6,$I93<>""),H93,"") -> 0.0059953704 | W93: =IF(AND($S93=サマリー!$B$8,$I93<>""),H93,"") | X93: =IF(AND($E93=サマリー!$B$6,$K93<>""),J93,"") -> 0.019664352 | Y93: =IF(AND($S93=サマリー!$B$8,$K93<>""),J93,"") | Z93: =IF(AND($E93=サマリー!$B$6,$O93<>""),N93,"") -> 0.0083217593 | AA93: =IF(AND($S93=サマリー!$B$8,$O93<>""),N93,"")
A94: 93 | B94: 336 | C94: 泉谷 泰彦 | D94: 62 | E94: 男 | F94: 東京都 | G94: 0.0340625 | H94: 0.0059722222 | I94: 87 | J94: 0.018993056 | K94: 99 | L94: 0.024965278 | M94: 89 | N94: 0.0090972222 | O94: 104 | Q94: 80 | S94: 50歳以上男子 | T94: 35 | U94: ロード・TT | V94: =IF(AND($E94=サマリー!$B$6,$I94<>""),H94,"") -> 0.0059722222 | W94: =IF(AND($S94=サマリー!$B$8,$I94<>""),H94,"") | X94: =IF(AND($E94=サマリー!$B$6,$K94<>""),J94,"") -> 0.018993056 | Y94: =IF(AND($S94=サマリー!$B$8,$K94<>""),J94,"") | Z94: =IF(AND($E94=サマリー!$B$6,$O94<>""),N94,"") -> 0.0090972222 | AA94: =IF(AND($S94=サマリー!$B$8,$O94<>""),N94,"")
A95: 94 | B95: 326 | C95: 中嶋 一郎 | D95: 50 | E95: 男 | F95: 東京都 | G95: 0.034108796 | H95: 0.0063194444 | I95: 135 | J95: 0.018611111 | K95: 87 | L95: 0.024930556 | M95: 87 | N95: 0.0091782407 | O95: 109 | Q95: 81 | S95: 50歳以上男子 | T95: 36 | U95: ロード・TT | V95: =IF(AND($E95=サマリー!$B$6,$I95<>""),H95,"") -> 0.0063194444 | W95: =IF(AND($S95=サマリー!$B$8,$I95<>""),H95,"") | X95: =IF(AND($E95=サマリー!$B$6,$K95<>""),J95,"") -> 0.018611111 | Y95: =IF(AND($S95=サマリー!$B$8,$K95<>""),J95,"") | Z95: =IF(AND($E95=サマリー!$B$6,$O95<>""),N95,"") -> 0.0091782407 | AA95: =IF(AND($S95=サマリー!$B$8,$O95<>""),N95,"")
A96: 95 | B96: 254 | C96: 武藤 靖 | D96: 46 | E96: 男 | F96: 東京都 | G96: 0.03412037 | H96: 0.0062037037 | I96: 119 | J96: 0.018993056 | K96: 98 | L96: 0.025196759 | M96: 99 | N96: 0.0089236111 | O96: 92 | Q96: 82 | S96: 30-49歳男子 | T96: 31 | U96: ロード・TT | V96: =IF(AND($E96=サマリー!$B$6,$I96<>""),H96,"") -> 0.0062037037 | W96: =IF(AND($S96=サマリー!$B$8,$I96<>""),H96,"") -> 0.0062037037 | X96: =IF(AND($E96=サマリー!$B$6,$K96<>""),J96,"") -> 0.018993056 | Y96: =IF(AND($S96=サマリー!$B$8,$K96<>""),J96,"") -> 0.018993056 | Z96: =IF(AND($E96=サマリー!$B$6,$O96<>""),N96,"") -> 0.0089236111 | AA96: =IF(AND($S96=サマリー!$B$8,$O96<>""),N96,"") -> 0.0089236111
A97: 96 | B97: 346 | C97: 鳴海 菜里衣 | D97: 37 | E97: 女 | F97: 東京都 | G97: 0.034155093 | H97: 0.0062962963 | I97: 128 | J97: 0.019189815 | K97: 107 | L97: 0.025486111 | M97: 107 | N97: 0.0086689815 | O97: 75 | R97: 14 | S97: 30-49歳女子 | T97: 3 | U97: ロード・TT | V97: =IF(AND($E97=サマリー!$B$6,$I97<>""),H97,"") | W97: =IF(AND($S97=サマリー!$B$8,$I97<>""),H97,"") | X97: =IF(AND($E97=サマリー!$B$6,$K97<>""),J97,"") | Y97: =IF(AND($S97=サマリー!$B$8,$K97<>""),J97,"") | Z97: =IF(AND($E97=サマリー!$B$6,$O97<>""),N97,"") | AA97: =IF(AND($S97=サマリー!$B$8,$O97<>""),N97,"")
A98: 97 | B98: 216 | C98: 竹谷 真一 | D98: 43 | E98: 男 | F98: 東京都 | G98: 0.034212963 | H98: 0.0056712963 | I98: 70 | J98: 0.019201389 | K98: 108 | L98: 0.024872685 | M98: 86 | N98: 0.0093402778 | O98: 119 | Q98: 83 | S98: 30-49歳男子 | T98: 32 | U98: ロード・TT | V98: =IF(AND($E98=サマリー!$B$6,$I98<>""),H98,"") -> 0.0056712963 | W98: =IF(AND($S98=サマリー!$B$8,$I98<>""),H98,"") -> 0.0056712963 | X98: =IF(AND($E98=サマリー!$B$6,$K98<>""),J98,"") -> 0.019201389 | Y98: =IF(AND($S98=サマリー!$B$8,$K98<>""),J98,"") -> 0.019201389 | Z98: =IF(AND($E98=サマリー!$B$6,$O98<>""),N98,"") -> 0.0093402778 | AA98: =IF(AND($S98=サマリー!$B$8,$O98<>""),N98,"") -> 0.0093402778
A99: 98 | B99: 119 | C99: 武井 裕行 | D99: 57 | E99: 男 | F99: 東京都 | G99: 0.034212963 | H99: 0.0060300926 | I99: 98 | J99: 0.017928241 | K99: 64 | L99: 0.023958333 | M99: 68 | N99: 0.01025463 | O99: 161 | Q99: 84 | S99: 50歳以上男子 | T99: 37 | U99: ロード・TT | V99: =IF(AND($E99=サマリー!$B$6,$I99<>""),H99,"") -> 0.0060300926 | W99: =IF(AND($S99=サマリー!$B$8,$I99<>""),H99,"") | X99: =IF(AND($E99=サマリー!$B$6,$K99<>""),J99,"") -> 0.017928241 | Y99: =IF(AND($S99=サマリー!$B$8,$K99<>""),J99,"") | Z99: =IF(AND($E99=サマリー!$B$6,$O99<>""),N99,"") -> 0.01025463 | AA99: =IF(AND($S99=サマリー!$B$8,$O99<>""),N99,"")
A100: 99 | B100: 355 | C100: 金子 禄昌 | D100: 38 | E100: 男 | F100: 東京都 | G100: 0.03431713 | H100: 0.0061226852 | I100: 108 | J100: 0.019930556 | K100: 125 | L100: 0.026053241 | M100: 121 | N100: 0.0082638889 | O100: 55 | Q100: 85 | S100: 30-49歳男子 | T100: 33 | U100: ロード・TT | V100: =IF(AND($E100=サマリー!$B$6,$I100<>""),H100,"") -> 0.0061226852 | W100: =IF(AND($S100=サマリー!$B$8,$I100<>""),H100,"") -> 0.0061226852 | X100: =IF(AND($E100=サマリー!$B$6,$K100<>""),J100,"") -> 0.019930556 | Y100: =IF(AND($S100=サマリー!$B$8,$K100<>""),J100,"") -> 0.019930556 | Z100: =IF(AND($E100=サマリー!$B$6,$O100<>""),N100,"") -> 0.0082638889 | AA100: =IF(AND($S100=サマリー!$B$8,$O100<>""),N100,"") -> 0.0082638889
A101: 100 | B101: 143 | C101: 春日 伊都子 | D101: 57 | E101: 女 | F101: 東京都 | G101: 0.034328704 | H101: 0.0063078704 | I101: 129 | J101: 0.019849537 | K101: 124 | L101: 0.026157407 | M101: 125 | N101: 0.0081712963 | O101: 50 | R101: 15 | S101: 50歳以上女子 | T101: 4 | U101: ロード・TT | V101: =IF(AND($E101=サマリー!$B$6,$I101<>""),H101,"") | W101: =IF(AND($S101=サマリー!$B$8,$I101<>""),H101,"") | X101: =IF(AND($E101=サマリー!$B$6,$K101<>""),J101,"") | Y101: =IF(AND($S101=サマリー!$B$8,$K101<>""),J101,"") | Z101: =IF(AND($E101=サマリー!$B$6,$O101<>""),N101,"") | AA101: =IF(AND($S101=サマリー!$B$8,$O101<>""),N101,"")
A102: 101 | B102: 427 | C102: 高野 広樹 | D102: 44 | E102: 男 | F102: 埼玉県 | G102: 0.034328704 | H102: 0.0063657407 | I102: 136 | J102: 0.019143519 | K102: 104 | L102: 0.025509259 | M102: 108 | N102: 0.0088194444 | O102: 86 | Q102: 86 | S102: 30-49歳男子 | T102: 34 | U102: ロード・TT | V102: =IF(AND($E102=サマリー!$B$6,$I102<>""),H102,"") -> 0.0063657407 | W102: =IF(AND($S102=サマリー!$B$8,$I102<>""),H102,"") -> 0.0063657407 | X102: =IF(AND($E102=サマリー!$B$6,$K102<>""),J102,"") -> 0.019143519 | Y102: =IF(AND($S102=サマリー!$B$8,$K102<>""),J102,"") -> 0.019143519 | Z102: =IF(AND($E102=サマリー!$B$6,$O102<>""),N102,"") -> 0.0088194444 | AA102: =IF(AND($S102=サマリー!$B$8,$O102<>""),N102,"") -> 0.0088194444
A103: 102 | B103: 229 | C103: 請盛 靖幸 | D103: 59 | E103: 男 | F103: 東京都 | G103: 0.034409722 | H103: 0.0065625 | I103: 154 | J103: 0.018796296 | K103: 92 | L103: 0.025358796 | M103: 103 | N103: 0.0090509259 | O103: 101 | Q103: 87 | S103: 50歳以上男子 | T103: 38 | U103: ロード・TT | V103: =IF(AND($E103=サマリー!$B$6,$I103<>""),H103,"") -> 0.0065625 | W103: =IF(AND($S103=サマリー!$B$8,$I103<>""),H103,"") | X103: =IF(AND($E103=サマリー!$B$6,$K103<>""),J103,"") -> 0.018796296 | Y103: =IF(AND($S103=サマリー!$B$8,$K103<>""),J103,"") | Z103: =IF(AND($E103=サマリー!$B$6,$O103<>""),N103,"") -> 0.0090509259 | AA103: =IF(AND($S103=サマリー!$B$8,$O103<>""),N103,"")
A104: 103 | B104: 507 | C104: 中村 大祐 | D104: 48 | E104: 男 | F104: 東京都 | G104: 0.03443287 | H104: 0.0060763889 | I104: 102 | J104: 0.019282407 | K104: 110 | L104: 0.025358796 | M104: 104 | N104: 0.0090740741 | O104: 102 | Q104: 88 | S104: 30-49歳男子 | T104: 35 | U104: MTB | V104: =IF(AND($E104=サマリー!$B$6,$I104<>""),H104,"") -> 0.0060763889 | W104: =IF(AND($S104=サマリー!$B$8,$I104<>""),H104,"") -> 0.0060763889 | X104: =IF(AND($E104=サマリー!$B$6,$K104<>""),J104,"") -> 0.019282407 | Y104: =IF(AND($S104=サマリー!$B$8,$K104<>""),J104,"") -> 0.019282407 | Z104: =IF(AND($E104=サマリー!$B$6,$O104<>""),N104,"") -> 0.0090740741 | AA104: =IF(AND($S104=サマリー!$B$8,$O104<>""),N104,"") -> 0.0090740741
A105: 104 | B105: 548 | C105: 尾澤 あや | D105: 60 | E105: 女 | F105: 東京都 | G105: 0.034513889 | H105: 0.0059259259 | I105: 82 | J105: 0.018229167 | K105: 74 | L105: 0.024155093 | M105: 74 | N105: 0.010358796 | O105: 169 | R105: 16 | S105: 50歳以上女子 | T105: 5 | U105: ママチャリ・シティ | V105: =IF(AND($E105=サマリー!$B$6,$I105<>""),H105,"") | W105: =IF(AND($S105=サマリー!$B$8,$I105<>""),H105,"") | X105: =IF(AND($E105=サマリー!$B$6,$K105<>""),J105,"") | Y105: =IF(AND($S105=サマリー!$B$8,$K105<>""),J105,"") | Z105: =IF(AND($E105=サマリー!$B$6,$O105<>""),N105,"") | AA105: =IF(AND($S105=サマリー!$B$8,$O105<>""),N105,"")
A106: 105 | B106: 360 | C106: 森村 ゆき | D106: 51 | E106: 女 | F106: 東京都 | G106: 0.034618056 | H106: 0.0066087963 | I106: 158 | J106: 0.018530093 | K106: 83 | L106: 0.025138889 | M106: 97 | N106: 0.0094791667 | O106: 126 | R106: 17 | S106: 50歳以上女子 | T106: 6 | U106: ロード・TT | V106: =IF(AND($E106=サマリー!$B$6,$I106<>""),H106,"") | W106: =IF(AND($S106=サマリー!$B$8,$I106<>""),H106,"") | X106: =IF(AND($E106=サマリー!$B$6,$K106<>""),J106,"") | Y106: =IF(AND($S106=サマリー!$B$8,$K106<>""),J106,"") | Z106: =IF(AND($E106=サマリー!$B$6,$O106<>""),N106,"") | AA106: =IF(AND($S106=サマリー!$B$8,$O106<>""),N106,"")
...

Sheet 29歳以下男子
A1: 区分順位 | B1: ゼッケン | C1: 氏名 | D1: 年齢 | E1: 性別 | F1: 都道府県 | G1: 総合記録 | H1: スイムラップ | I1: S順 | J1: バイクラップ | K1: B順 | L1: ランラップ | M1: R順 | N1: 総合順位 | O1: 男子順位 | P1: 女子順位 | Q1: 備考
A2: 1 | B2: 107 | C2: 三浦 遼太 | D2: 19 | E2: 男 | F2: 東京都 | G2: 0.028761574 | H2: 0.0041435185 | I2: 5 | J2: 0.016087963 | K2: 19 | L2: 0.0085300926 | M2: 70 | N2: 16 | O2: 13
A3: 2 | B3: 260 | C3: 藤原 拓己 | D3: 22 | E3: 男 | F3: 東京都 | G3: 0.030185185 | H3: 0.0059837963 | I3: 91 | J3: 0.016296296 | K3: 25 | L3: 0.0079050926 | M3: 33 | N3: 29 | O3: 25
A4: 3 | B4: 154 | C4: 中村 奏汰 | D4: 24 | E4: 男 | F4: 東京都 | G4: 0.030486111 | H4: 0.0045601852 | I4: 12 | J4: 0.018148148 | K4: 72 | L4: 0.0077777778 | M4: 26 | N4: 34 | O4: 29
A5: 4 | B5: 533 | C5: 井元 遥貴 | D5: 21 | E5: 男 | F5: 東京都 | G5: 0.030578704 | H5: 0.0051851852 | I5: 41 | J5: 0.017766204 | K5: 59 | L5: 0.0076273148 | M5: 20 | N5: 37 | O5: 32
A6: 5 | B6: 314 | C6: 高原 広太郎 | D6: 25 | E6: 男 | F6: 東京都 | G6: 0.031840278 | H6: 0.0064583333 | I6: 144 | J6: 0.017071759 | K6: 41 | L6: 0.0083101852 | M6: 57 | N6: 46 | O6: 41
A7: 6 | B7: 111 | C7: 小松 泰地 | D7: 26 | E7: 男 | F7: 東京都 | G7: 0.032928241 | H7: 0.004525463 | I7: 11 | J7: 0.019444444 | K7: 113 | L7: 0.0089583333 | M7: 95 | N7: 67 | O7: 59
A8: 7 | B8: 518 | C8: 梅津 巧 | D8: 28 | E8: 男 | F8: 東京都 | G8: 0.032986111 | H8: 0.0055324074 | I8: 59 | J8: 0.019710648 | K8: 118 | L8: 0.0077430556 | M8: 25 | N8: 69 | O8: 60
A9: 8 | B9: 215 | C9: 高柳 和貴 | D9: 28 | E9: 男 | F9: 東京都 | G9: 0.033958333 | H9: 0.0050115741 | I9: 33 | J9: 0.020428241 | K9: 139 | L9: 0.0085185185 | M9: 68 | N9: 90 | O9: 77
A10: 9 | B10: 340 | C10: 足利 真夏 | D10: 24 | E10: 男 | F10: 神奈川県 | G10: 0.033958333 | H10: 0.0054976852 | I10: 58 | J10: 0.0196875 | K10: 117 | L10: 0.0087731481 | M10: 83 | N10: 91 | O10: 78
A11: 10 | B11: 120 | C11: 井口 祐汰 | D11: 29 | E11: 男 | F11: 東京都 | G11: 0.033981481 | H11: 0.0059953704 | I11: 92 | J11: 0.019664352 | K11: 116 | L11: 0.0083217593 | M11: 58 | N11: 92 | O11: 79
A12: 11 | B12: 448 | C12: 青柳 武志 | D12: 27 | E12: 男 | F12: 神奈川県 | G12: 0.035416667 | H12: 0.0060763889 | I12: 103 | J12: 0.019050926 | K12: 101 | L12: 0.010289352 | M12: 165 | N12: 119 | O12: 99
A13: 12 | B13: 441 | C13: 森谷 歩 | D13: 22 | E13: 男 | F13: 東京都 | G13: 0.035949074 | H13: 0.0080671296 | I13: 239 | J13: 0.017604167 | K13: 53 | L13: 0.010277778 | M13: 164 | N13: 129 | O13: 106
... A19: 18 | B19: 230 | C19: 佐々木 潤也 | D19: 18 | E19: 男 | F19: 東京都 | G19: 0.048090278 | H19: 0.0061805556 | I19: 115 | J19: 0.028229167 | K19: 250 | L19: 0.013680556 | M19: 242 | N19: 244 | O19: 196
B20: 122 | C20: 武藤 駿 | D20: 17 | E20: 男 | F20: 東京都 | N20: DNS | Q20: DNS
B21: 136 | C21: 小俣 賢優 | D21: 17 | E21: 男 | F21: 神奈川県 | G21: 0.026608796 | H21: 0.0048726852 | J21: 0.014108796 | L21: 0.0076273148 | N21: DSQ | Q21: DSQ
B22: 407 | C22: 佐藤 空嘉 | D22: 19 | E22: 男 | F22: 東京都 | G22: 0.036388889 | H22: 0.0087962963 | J22: 0.022233796 | L22: 0.0053587963 | N22: DSQ | Q22: DSQ
B23: 538 | C23: 下条 幹太 | D23: 19 | E23: 男 | F23: 東京都 | N23: DNS | Q23: DNS

Sheet 30-49歳男子
A1: 区分順位 | B1: ゼッケン | C1: 氏名 | D1: 年齢 | E1: 性別 | F1: 都道府県 | G1: 総合記録 | H1: スイムラップ | I1: S順 | J1: バイクラップ | K1: B順 | L1: ランラップ | M1: R順 | N1: 総合順位 | O1: 男子順位 | P1: 女子順位 | Q1: 備考
A2: 1 | B2: 244 | C2: 佐川 公太 | D2: 33 | E2: 男 | F2: 東京都 | G2: 0.027418981 | H2: 0.0050694444 | I2: 35 | J2: 0.016319444 | K2: 27 | L2: 0.0060300926 | M2: 1 | N2: 7 | O2: 6
A3: 2 | B3: 302 | C3: 小川 勉 | D3: 44 | E3: 男 | F3: 東京都 | G3: 0.027638889 | H3: 0.0049305556 | I3: 27 | J3: 0.015243056 | K3: 6 | L3: 0.0074652778 | M3: 15 | N3: 8 | O3: 7
A4: 3 | B4: 222 | C4: 水口 直樹 | D4: 47 | E4: 男 | F4: 東京都 | G4: 0.027777778 | H4: 0.0055787037 | I4: 65 | J4: 0.014675926 | K4: 4 | L4: 0.0075231481 | M4: 18 | N4: 9 | O4: 8
A5: 4 | B5: 207 | C5: 阿部 拓希 | D5: 30 | E5: 男 | F5: 東京都 | G5: 0.02806713 | H5: 0.0055439815 | I5: 60 | J5: 0.015486111 | K5: 11 | L5: 0.007037037 | M5: 6 | N5: 11 | O5: 10
A6: 5 | B6: 512 | C6: 橋本 哲二 | D6: 49 | E6: 男 | F6: 東京都 | G6: 0.028657407 | H6: 0.0049652778 | I6: 30 | J6: 0.016388889 | K6: 28 | L6: 0.0073032407 | M6: 11 | N6: 14 | O6: 12
A7: 6 | B7: 142 | C7: 中澤 孝介 | D7: 44 | E7: 男 | F7: 東京都 | G7: 0.028969907 | H7: 0.0051736111 | I7: 40 | J7: 0.015636574 | K7: 13 | L7: 0.0081597222 | M7: 49 | N7: 17 | O7: 14
A8: 7 | B8: 206 | C8: 吉田 道保 | D8: 37 | E8: 男 | F8: 東京都 | G8: 0.029386574 | H8: 0.0064814815 | I8: 149 | J8: 0.015428241 | K8: 9 | L8: 0.0074768519 | M8: 16 | N8: 21 | O8: 17
A9: 8 | B9: 253 | C9: 小田川 亮人 | D9: 47 | E9: 男 | F9: 神奈川県 | G9: 0.029618056 | H9: 0.0046296296 | I9: 15 | J9: 0.017002315 | K9: 38 | L9: 0.0079861111 | M9: 39 | N9: 22 | O9: 18
A10: 9 | B10: 259 | C10: 草間 大貴 | D10: 39 | E10: 男 | F10: 東京都 | G10: 0.02974537 | H10: 0.0071180556 | I10: 198 | J10: 0.015671296 | K10: 14 | L10: 0.0069560185 | M10: 5 | N10: 23 | O10: 19
A11: 10 | B11: 204 | C11: 小林 勇二 | D11: 48 | E11: 男 | F11: 東京都 | G11: 0.029872685 | H11: 0.0054861111 | I11: 56 | J11: 0.015740741 | K11: 15 | L11: 0.0086458333 | M11: 74 | N11: 24 | O11: 20
A12: 11 | B12: 509 | C12: 村上 大幸 | D12: 36 | E12: 男 | F12: 東京都 | G12: 0.03 | H12: 0.0052083333 | I12: 42 | J12: 0.016967593 | K12: 35 | L12: 0.0078240741 | M12: 29 | N12: 26 | O12: 22
A13: 12 | B13: 153 | C13: 繁田 陽 | D13: 39 | E13: 男 | F13: 東京都 | G13: 0.030127315 | H13: 0.0053240741 | I13: 47 | J13: 0.017002315 | K13: 39 | L13: 0.0078009259 | M13: 28 | N13: 27 | O13: 23
... A77: 76 | B77: 557 | C77: 中澤 元 | D77: 36 | E77: 男 | F77: 神奈川県 | G77: 0.081030093 | H77: 0.0095833333 | I77: 252 | J77: 0.036203704 | K77: 257 | L77: 0.035243056 | M77: 256 | N77: 257 | O77: 201
B78: 104 | C78: 根本 康行 | D78: 40 | E78: 男 | F78: 東京都 | G78: 0.024560185 | H78: 0.0039814815 | I78: 2 | J78: 0.01349537 | K78: 1 | L78: 0.0070833333 | M78: 7 | N78: 1 | O78: 1 | Q78: 総合男女上位5位のため区分表彰対象外
B79: 110 | C79: 水野 諒太郎 | D79: 40 | E79: 男 | F79: 東京都 | G79: 0.024953704 | H79: 0.0040740741 | I79: 3 | J79: 0.014085648 | K79: 3 | L79: 0.0067939815 | M79: 4 | N79: 2 | O79: 2 | Q79: 総合男女上位5位のため区分表彰対象外
B80: 152 | C80: 小松 大祐 | D80: 49 | E80: 男 | F80: 東京都 | N80: DNS | Q80: DNS
B81: 220 | C81: 藤田 大和 | D81: 34 | E81: 男 | F81: 埼玉県 | N81: DNS | Q81: DNS
B82: 228 | C82: 近藤 和樹 | D82: 39 | E82: 男 | F82: 東京都 | H82: 0.0062268519 | I82: 121 | N82: DNF | Q82: DNF
B83: 250 | C83: 金子 文也 | D83: 31 | E83: 男 | F83: 神奈川県 | N83: DNS | Q83: DNS
B84: 317 | C84: 奥村 敦史 | D84: 48 | E84: 男 | F84: 埼玉県 | J84: 0.018472222 | L84: 0.010115741 | N84: SKIP | Q84: SKIP
B85: 432 | C85: 丹沢 茂樹 | D85: 43 | E85: 男 | F85: 東京都 | N85: DNS | Q85: DNS
B86: 445 | C86: 池澤 敦 | D86: 39 | E86: 男 | F86: 東京都 | G86: 0.061944444 | J86: 0.048958333 | L86: 0.01181713 | N86: DSQ | Q86: DSQ
B87: 514 | C87: 金澤 賢二朗 | D87: 47 | E87: 男 | F87: 東京都 | N87: DNS | Q87: DNS
B88: 515 | C88: 尹 七守 | D88: 49 | E88: 男 | F88: 東京都 | N88: DNS | Q88: DNS
B89: 554 | C89: 剱持 雄二 | D89: 49 | E89: 男 | F89: 東京都 | G89: 0.027060185 | H89: 0.0061805556 | J89: 0.017951389 | L89: 0.0029282407 | N89: DSQ | Q89: DSQ

Sheet 50歳以上男子
A1: 区分順位 | B1: ゼッケン | C1: 氏名 | D1: 年齢 | E1: 性別 | F1: 都道府県 | G1: 総合記録 | H1: スイムラップ | I1: S順 | J1: バイクラップ | K1: B順 | L1: ランラップ | M1: R順 | N1: 総合順位 | O1: 男子順位 | P1: 女子順位 | Q1: 備考
A2: 1 | B2: 211 | C2: 水谷 武司 | D2: 54 | E2: 男 | F2: 東京都 | G2: 0.027939815 | H2: 0.0047916667 | I2: 20 | J2: 0.015358796 | K2: 7 | L2: 0.0077893519 | M2: 27 | N2: 10 | O2: 9
A3: 2 | B3: 128 | C3: 奥山 奥士 | D3: 58 | E3: 男 | F3: 東京都 | G3: 0.028414352 | H3: 0.0039467593 | I3: 1 | J3: 0.016747685 | K3: 33 | L3: 0.0077199074 | M3: 24 | N3: 13 | O3: 11
A4: 3 | B4: 125 | C4: 木村 航士 | D4: 56 | E4: 男 | F4: 神奈川県 | G4: 0.029363426 | H4: 0.004849537 | I4: 24 | J4: 0.017766204 | K4: 60 | L4: 0.0067476852 | M4: 2 | N4: 19 | O4: 15
A5: 4 | B5: 306 | C5: 山口 高男 | D5: 57 | E5: 男 | F5: 東京都 | G5: 0.029375 | H5: 0.0048148148 | I5: 22 | J5: 0.016516204 | K5: 30 | L5: 0.0080439815 | M5: 42 | N5: 20 | O5: 16
A6: 5 | B6: 129 | C6: 中島 秀彰 | D6: 63 | E6: 男 | F6: 東京都 | G6: 0.029884259 | H6: 0.0061226852 | I6: 109 | J6: 0.015509259 | K6: 12 | L6: 0.0082523148 | M6: 54 | N6: 25 | O6: 21
A7: 6 | B7: 124 | C7: 森田 充 | D7: 60 | E7: 男 | F7: 埼玉県 | G7: 0.030474537 | H7: 0.0048611111 | I7: 25 | J7: 0.016643519 | K7: 32 | L7: 0.0089699074 | M7: 97 | N7: 33 | O7: 28
A8: 7 | B8: 157 | C8: 尾崎 陽 | D8: 51 | E8: 男 | F8: 東京都 | G8: 0.030532407 | H8: 0.0058333333 | I8: 76 | J8: 0.016527778 | K8: 31 | L8: 0.0081712963 | M8: 51 | N8: 35 | O8: 30
A9: 8 | B9: 159 | C9: 髙田 明則 | D9: 53 | E9: 男 | F9: 埼玉県 | G9: 0.030740741 | H9: 0.0052546296 | I9: 45 | J9: 0.017337963 | K9: 50 | L9: 0.0081481481 | M9: 47 | N9: 38 | O9: 33
A10: 9 | B10: 559 | C10: 吉澤 延彦 | D10: 54 | E10: 男 | F10: 東京都 | G10: 0.030891204 | H10: 0.0055787037 | I10: 64 | J10: 0.017453704 | K10: 51 | L10: 0.0078587963 | M10: 31 | N10: 40 | O10: 35
A11: 10 | B11: 109 | C11: 國谷 智宏 | D11: 51 | E11: 男 | F11: 東京都 | G11: 0.031041667 | H11: 0.0053703704 | I11: 50 | J11: 0.016979167 | K11: 37 | L11: 0.0086921296 | M11: 76 | N11: 42 | O11: 37
A12: 11 | B12: 225 | C12: 坪井 修一 | D12: 65 | E12: 男 | F12: 大阪府 | G12: 0.031157407 | H12: 0.005 | I12: 32 | J12: 0.016770833 | K12: 34 | L12: 0.0093865741 | M12: 121 | N12: 43 | O12: 38
A13: 12 | B13: 433 | C13: 田中 啓太 | D13: 58 | E13: 男 | F13: 東京都 | G13: 0.031909722 | H13: 0.0068171296 | I13: 170 | J13: 0.017118056 | K13: 44 | L13: 0.007974537 | M13: 37 | N13: 47 | O13: 42
... A27: 26 | B27: 251 | C27: 柴田 俊一 | D27: 60 | E27: 男 | F27: 東京都 | G27: 0.033287037 | H27: 0.0060069444 | I27: 93 | J27: 0.018449074 | K27: 80 | L27: 0.0088310185 | M27: 87 | N27: 77 | O27: 67
A28: 27 | B28: 257 | C28: 小室 博之 | D28: 61 | E28: 男 | G28: 0.033333333 | H28: 0.0055555556 | I28: 61 | J28: 0.01818287 | K28: 73 | L28: 0.0095949074 | M28: 131 | N28: 80 | O28: 68
A29: 28 | B29: 158 | C29: 原田 学 | D29: 53 | E29: 男 | F29: 東京都 | G29: 0.033368056 | H29: 0.0066203704 | I29: 159 | J29: 0.018344907 | K29: 76 | L29: 0.0084027778 | M29: 59 | N29: 81 | O29: 69
A30: 29 | B30: 330 | C30: 五十嵐 亘 | D30: 56 | E30: 男 | F30: 埼玉県 | G30: 0.033414352 | H30: 0.006099537 | I30: 105 | J30: 0.018287037 | K30: 75 | L30: 0.0090277778 | M30: 99 | N30: 82 | O30: 70
A31: 30 | B31: 134 | C31: 西村 昭俊 | D31: 61 | E31: 男 | F31: 東京都 | G31: 0.0334375 | H31: 0.0058101852 | I31: 74 | J31: 0.018506944 | K31: 82 | L31: 0.0091203704 | M31: 105 | N31: 83 | O31: 71
A32: 31 | B32: 307 | C32: 柏崎 龍進 | D32: 61 | E32: 男 | F32: 東京都 | G32: 0.033449074 | H32: 0.0060069444 | I32: 95 | J32: 0.017662037 | K32: 55 | L32: 0.0097800926 | M32: 137 | N32: 84 | O32: 72
A33: 32 | B33: 316 | C33: 渡邊 龍太 | D33: 52 | E33: 男 | F33: 東京都 | G33: 0.033530093 | H33: 0.0079976852 | I33: 235 | J33: 0.018101852 | K33: 70 | L33: 0.0074305556 | M33: 14 | N33: 86 | O33: 74
A34: 33 | B34: 321 | C34: 近藤 寛 | D34: 53 | E34: 男 | F34: 東京都 | G34: 0.033715278 | H34: 0.0063888889 | I34: 137 | J34: 0.019259259 | K34: 109 | L34: 0.0080671296 | M34: 43 | N34: 88 | O34: 75
A35: 34 | B35: 561 | C35: 菊池 学 | D35: 62 | E35: 男 | F35: 埼玉県 | G35: 0.033923611 | H35: 0.0060648148 | I35: 100 | J35: 0.0184375 | K35: 79 | L35: 0.0094212963 | M35: 123 | N35: 89 | O35: 76
A36: 35 | B36: 336 | C36: 泉谷 泰彦 | D36: 62 | E36: 男 | F36: 東京都 | G36: 0.0340625 | H36: 0.0059722222 | I36: 87 | J36: 0.018993056 | K36: 99 | L36: 0.0090972222 | M36: 104 | N36: 93 | O36: 80
A37: 36 | B37: 326 | C37: 中嶋 一郎 | D37: 50 | E37: 男 | F37: 東京都 | G37: 0.034108796 | H37: 0.0063194444 | I37: 135 | J37: 0.018611111 | K37: 87 | L37: 0.0091782407 | M37: 109 | N37: 94 | O37: 81
A38: 37 | B38: 119 | C38: 武井 裕行 | D38: 57 | E38: 男 | F38: 東京都 | G38: 0.034212963 | H38: 0.0060300926 | I38: 98 | J38: 0.017928241 | K38: 64 | L38: 0.01025463 | M38: 161 | N38: 98 | O38: 84
A39: 38 | B39: 229 | C39: 請盛 靖幸 | D39: 59 | E39: 男 | F39: 東京都 | G39: 0.034409722 | H39: 0.0065625 | I39: 154 | J39: 0.018796296 | K39: 92 | L39: 0.0090509259 | M39: 101 | N39: 102 | O39: 87
A40: 39 | B40: 247 | C40: 入谷 清和 | D40: 50 | E40: 男 | F40: 神奈川県 | G40: 0.034756944 | H40: 0.0052546296 | I40: 43 | J40: 0.018599537 | K40: 85 | L40: 0.010902778 | M40: 190 | N40: 106 | O40: 89
... A103: 102 | B103: 530 | C103: 市川 恭永 | D103: 73 | E103: 男 | F103: 東京都 | G103: 0.050416667 | H103: 0.0064699074 | I103: 147 | J103: 0.028703704 | K103: 251 | L103: 0.015243056 | M103: 249 | N103: 251 | O103: 200
B104: 126 | C104: 生井 和平 | D104: 54 | E104: 男 | F104: 東京都 | G104: 0.025694444 | H104: 0.0042708333 | I104: 6 | J104: 0.014050926 | K104: 2 | L104: 0.0073726852 | M104: 13 | N104: 3 | O104: 3 | Q104: 総合男女上位5位のため区分表彰対象外
B105: 102 | C105: 白戸 太朗 | D105: 59 | E105: 男 | F105: 東京都 | G105: 0.026655093 | H105: 0.0041319444 | I105: 4 | J105: 0.014988426 | K105: 5 | L105: 0.0075347222 | M105: 19 | N105: 4 | O105: 4 | Q105: 総合男女上位5位のため区分表彰対象外
B106: 115 | C106: 新井 慎一郎 | D106: 59 | E106: 男 | F106: 東京都 | G106: 0.027025463 | H106: 0.0044675926 | I106: 10 | J106: 0.015393519 | K106: 8 | L106: 0.0071643519 | M106: 8 | N106: 5 | O106: 5 | Q106: 総合男女上位5位のため区分表彰対象外
B107: 130 | C107: 小森 健史 | D107: 64 | E107: 男 | F107: 東京都 | N107: DNS | Q107: DNS
B108: 140 | C108: 小清水 潔 | D108: 63 | E108: 男 | F108: 神奈川県 | J108: 0.019849537 | L108: 0.016724537 | N108: SKIP | Q108: SKIP
B109: 210 | C109: 持田 啓 | D109: 50 | E109: 男 | F109: 東京都 | N109: DNS | Q109: DNS
B110: 227 | C110: 青木 亮輔 | D110: 56 | E110: 男 | F110: 東京都 | N110: DNS | Q110: DNS
B111: 303 | C111: 仁多見 貴志 | D111: 51 | E111: 男 | F111: 神奈川県 | G111: 0.024826389 | H111: 0.0051736111 | J111: 0.014305556 | L111: 0.0053472222 | N111: DSQ | Q111: DSQ
B112: 304 | C112: 長谷川 敦 | D112: 51 | E112: 男 | F112: 神奈川県 | N112: DNS | Q112: DNS
B113: 309 | C113: 羽田野 潔 | D113: 62 | E113: 男 | F113: 東京都 | N113: DNS | Q113: DNS
B114: 310 | C114: 北浦 康裕 | D114: 65 | E114: 男 | F114: 東京都 | N114: DNS | Q114: DNS
B115: 313 | C115: 青木 克樹 | D115: 60 | E115: 男 | F115: 東京都 | N115: DNS | Q115: DNS
B116: 331 | C116: 新井 正志 | D116: 53 | E116: 男 | F116: 埼玉県 | N116: DNS | Q116: DNS
B117: 341 | C117: 西村 政樹 | D117: 52 | E117: 男 | F117: 東京都 | N117: DNS | Q117: DNS
B118: 359 | C118: 鈴木 伸幸 | D118: 59 | E118: 男 | F118: 東京都 | H118: 0.010497685 | N118: DSQ | Q118: DSQ
B119: 401 | C119: 松丸 真幸 | D119: 51 | E119: 男 | F119: 茨城県 | G119: 0.023981481 | H119: 0.0041782407 | J119: 0.013043981 | L119: 0.0067592593 | N119: OPEN | Q119: OPEN
B120: 409 | C120: 山岸 義大 | D120: 51 | E120: 男 | F120: 東京都 | N120: DNS | Q120: DNS
B121: 428 | C121: 中野 重春 | D121: 76 | E121: 男 | F121: 東京都 | J121: 0.020520833 | L121: 0.014421296 | N121: SKIP | Q121: SKIP
B122: 447 | C122: 山田 秀人 | D122: 67 | E122: 男 | F122: 神奈川県 | N122: DNS | Q122: DNS
B123: 505 | C123: 田村 勉 | D123: 70 | E123: 男 | F123: 東京都 | N123: DNS | Q123: DNS
B124: 516 | C124: 舘野 章 | D124: 64 | E124: 男 | F124: 東京都 | G124: 0.036400463 | H124: 0.0066435185 | J124: 0.023368056 | L124: 0.0063888889 | N124: DSQ | Q124: DSQ
B125: 555 | C125: 佐藤 勝裕 | D125: 55 | E125: 男 | F125: 東京都 | H125: 0.0091435185 | L125: 0.0094675926 | N125: SKIP | Q125: SKIP

Sheet 29歳以下女子
A1: 区分順位 | B1: ゼッケン | C1: 氏名 | D1: 年齢 | E1: 性別 | F1: 都道府県 | G1: 総合記録 | H1: スイムラップ | I1: S順 | J1: バイクラップ | K1: B順 | L1: ランラップ | M1: R順 | N1: 総合順位 | O1: 男子順位 | P1: 女子順位 | Q1: 備考
A2: 1 | B2: 106 | C2: 小沼 美桜 | D2: 18 | E2: 女 | F2: 東京都 | G2: 0.032974537 | H2: 0.0054861111 | I2: 57 | J2: 0.017175926 | K2: 47 | L2: 0.0103125 | M2: 166 | N2: 68 | P2: 9
A3: 2 | B3: 117 | C3: 住吉谷 胡桃 | D3: 16 | E3: 女 | F3: 東京都 | G3: 0.033298611 | H3: 0.0043171296 | I3: 8 | J3: 0.020509259 | K3: 142 | L3: 0.0084722222 | M3: 65 | N3: 78 | P3: 11
A4: 3 | B4: 160 | C4: 髙田 春菜 | D4: 22 | E4: 女 | F4: 埼玉県 | G4: 0.033703704 | H4: 0.0047337963 | I4: 17 | J4: 0.018935185 | K4: 97 | L4: 0.010034722 | M4: 150 | N4: 87 | P4: 13
A5: 4 | B5: 528 | C5: Maruyama Kana | D5: 27 | E5: 女 | F5: 埼玉県 | G5: 0.035902778 | H5: 0.004849537 | I5: 23 | J5: 0.020219907 | K5: 134 | L5: 0.010833333 | M5: 185 | N5: 127 | P5: 23
A6: 5 | B6: 535 | C6: 布田 香澄 | D6: 29 | E6: 女 | F6: 東京都 | G6: 0.036377315 | H6: 0.0045601852 | I6: 13 | J6: 0.021979167 | K6: 183 | L6: 0.009837963 | M6: 140 | N6: 136 | P6: 25
A7: 6 | B7: 544 | C7: 高橋 茉弓 | D7: 29 | E7: 女 | F7: 東京都 | G7: 0.038009259 | H7: 0.0097106481 | I7: 255 | J7: 0.020046296 | K7: 129 | L7: 0.0082523148 | M7: 53 | N7: 163 | P7: 27
A8: 7 | B8: 105 | C8: 小沼 紗弥 | D8: 21 | E8: 女 | F8: 東京都 | G8: 0.03869213 | H8: 0.0069560185 | I8: 183 | J8: 0.02068287 | K8: 145 | L8: 0.011053241 | M8: 196 | N8: 172 | P8: 28
A9: 8 | B9: 156 | C9: 松本 綾菜 | D9: 29 | E9: 女 | F9: 東京都 | G9: 0.038703704 | H9: 0.0059143519 | I9: 80 | J9: 0.023530093 | K9: 217 | L9: 0.0092592593 | M9: 112 | N9: 173 | P9: 29
A10: 9 | B10: 414 | C10: 稲福 咲紀 | D10: 28 | E10: 女 | F10: 東京都 | G10: 0.051168981 | H10: 0.0086458333 | I10: 246 | J10: 0.027361111 | K10: 244 | L10: 0.015162037 | M10: 248 | N10: 252 | P10: 52
B11: 237 | C11: ちょう みらん | D11: 29 | E11: 女 | F11: 東京都 | G11: 0.029085648 | H11: 0.0049421296 | I11: 28 | J11: 0.016134259 | K11: 20 | L11: 0.0080092593 | M11: 41 | N11: 18 | P11: 4 | Q11: 総合男女上位5位のため区分表彰対象外
B12: 208 | C12: 藤坂 侑実 | D12: 27 | E12: 女 | F12: 神奈川県 | N12: DNS | Q12: DNS
B13: 318 | C13: 野口 珠里 | D13: 27 | E13: 女 | F13: 東京都 | N13: DNS | Q13: DNS

Sheet 30-49歳女子
A1: 区分順位 | B1: ゼッケン | C1: 氏名 | D1: 年齢 | E1: 性別 | F1: 都道府県 | G1: 総合記録 | H1: スイムラップ | I1: S順 | J1: バイクラップ | K1: B順 | L1: ランラップ | M1: R順 | N1: 総合順位 | O1: 男子順位 | P1: 女子順位 | Q1: 備考
A2: 1 | B2: 236 | C2: 若杉 美鈴 | D2: 32 | E2: 女 | F2: 東京都 | G2: 0.032662037 | H2: 0.0047106481 | I2: 16 | J2: 0.018668981 | K2: 89 | L2: 0.0092824074 | M2: 115 | N2: 61 | P2: 7
A3: 2 | B3: 116 | C3: 石川 夏希 | D3: 38 | E3: 女 | F3: 東京都 | G3: 0.033333333 | H3: 0.0048958333 | I3: 26 | J3: 0.018634259 | K3: 88 | L3: 0.0098032407 | M3: 139 | N3: 79 | P3: 12
A4: 3 | B4: 346 | C4: 鳴海 菜里衣 | D4: 37 | E4: 女 | F4: 東京都 | G4: 0.034155093 | H4: 0.0062962963 | I4: 128 | J4: 0.019189815 | K4: 107 | L4: 0.0086689815 | M4: 75 | N4: 96 | P4: 14
A5: 4 | B5: 118 | C5: 阿賀岡 恵 | D5: 48 | E5: 女 | F5: 東京都 | G5: 0.034768519 | H5: 0.0054050926 | I5: 52 | J5: 0.017673611 | K5: 56 | L5: 0.011689815 | M5: 214 | N5: 107 | P5: 18
A6: 5 | B6: 240 | C6: 義田 陽菜子 | D6: 31 | E6: 女 | F6: 東京都 | G6: 0.034768519 | H6: 0.006412037 | I6: 139 | J6: 0.018402778 | K6: 77 | L6: 0.0099537037 | M6: 146 | N6: 108 | P6: 19
A7: 6 | B7: 527 | C7: 湯越 美由紀 | D7: 35 | E7: 女 | F7: 東京都 | G7: 0.039641204 | H7: 0.0049537037 | I7: 29 | J7: 0.022719907 | K7: 198 | L7: 0.011967593 | M7: 223 | N7: 192 | P7: 31
A8: 7 | B8: 337 | C8: 小島 玲子 | D8: 46 | E8: 女 | F8: 神奈川県 | G8: 0.039965278 | H8: 0.0067939815 | I8: 168 | J8: 0.021331019 | K8: 167 | L8: 0.011840278 | M8: 222 | N8: 198 | P8: 34
A9: 8 | B9: 403 | C9: 亀山 亜矢子 | D9: 48 | E9: 女 | F9: 神奈川県 | G9: 0.040891204 | H9: 0.0069675926 | I9: 187 | J9: 0.0228125 | K9: 202 | L9: 0.011111111 | M9: 198 | N9: 202 | P9: 35
A10: 9 | B10: 413 | C10: 田代 星乃 | D10: 40 | E10: 女 | F10: 東京都 | G10: 0.042627315 | H10: 0.0084606481 | I10: 243 | J10: 0.022893519 | K10: 206 | L10: 0.011273148 | M10: 203 | N10: 219 | P10: 42
A11: 10 | B11: 549 | C11: 和田 怜子 | D11: 44 | E11: 女 | F11: 東京都 | G11: 0.043356481 | H11: 0.0076736111 | I11: 222 | J11: 0.025150463 | K11: 237 | L11: 0.010532407 | M11: 174 | N11: 223 | P11: 43
A12: 11 | B12: 345 | C12: 吉田 まわら | D12: 44 | E12: 女 | F12: 東京都 | G12: 0.044282407 | H12: 0.0064236111 | I12: 140 | J12: 0.026331019 | K12: 241 | L12: 0.011527778 | M12: 209 | N12: 229 | P12: 44
A13: 12 | B13: 541 | C13: 冨永 真美 | D13: 42 | E13: 女 | F13: 東京都 | G13: 0.044398148 | H13: 0.0070949074 | I13: 196 | J13: 0.025324074 | K13: 239 | L13: 0.011979167 | M13: 224 | N13: 230 | P13: 45
... A16: 15 | B16: 242 | C16: 保住 典子 | D16: 45 | E16: 女 | F16: 東京都 | G16: 0.048622685 | H16: 0.0072453704 | I16: 208 | J16: 0.023599537 | K16: 219 | L16: 0.017777778 | M16: 254 | N16: 246 | P16: 49
B17: 103 | C17: 太田 成美 | D17: 39 | E17: 女 | F17: 神奈川県 | G17: 0.02869213 | H17: 0.0044444444 | I17: 9 | J17: 0.016412037 | K17: 29 | L17: 0.0078356481 | M17: 30 | N17: 15 | P17: 3 | Q17: 総合男女上位5位のため区分表彰対象外
B18: 546 | C18: 石川 明日香 | D18: 34 | E18: 女 | F18: 東京都 | N18: DNS | Q18: DNS

Sheet 50歳以上女子
A1: 区分順位 | B1: ゼッケン | C1: 氏名 | D1: 年齢 | E1: 性別 | F1: 都道府県 | G1: 総合記録 | H1: スイムラップ | I1: S順 | J1: バイクラップ | K1: B順 | L1: ランラップ | M1: R順 | N1: 総合順位 | O1: 男子順位 | P1: 女子順位 | Q1: 備考
A2: 1 | B2: 417 | C2: 西平 里恵 | D2: 53 | E2: 女 | F2: 神奈川県 | G2: 0.032349537 | H2: 0.0062962963 | I2: 126 | J2: 0.018425926 | K2: 78 | L2: 0.0076273148 | M2: 21 | N2: 52 | P2: 6
A3: 2 | B3: 139 | C3: 若杉 利香 | D3: 56 | E3: 女 | F3: 大阪府 | G3: 0.03287037 | H3: 0.0052546296 | I3: 44 | J3: 0.017824074 | K3: 61 | L3: 0.0097916667 | M3: 138 | N3: 64 | P3: 8
A4: 3 | B4: 522 | C4: 荒木 雅子 | D4: 58 | E4: 女 | F4: 東京都 | G4: 0.033206019 | H4: 0.0059375 | I4: 83 | J4: 0.019166667 | K4: 106 | L4: 0.0081018519 | M4: 45 | N4: 73 | P4: 10
A5: 4 | B5: 143 | C5: 春日 伊都子 | D5: 57 | E5: 女 | F5: 東京都 | G5: 0.034328704 | H5: 0.0063078704 | I5: 129 | J5: 0.019849537 | K5: 124 | L5: 0.0081712963 | M5: 50 | N5: 100 | P5: 15
A6: 5 | B6: 548 | C6: 尾澤 あや | D6: 60 | E6: 女 | F6: 東京都 | G6: 0.034513889 | H6: 0.0059259259 | I6: 82 | J6: 0.018229167 | K6: 74 | L6: 0.010358796 | M6: 169 | N6: 104 | P6: 16
A7: 6 | B7: 360 | C7: 森村 ゆき | D7: 51 | E7: 女 | F7: 東京都 | G7: 0.034618056 | H7: 0.0066087963 | I7: 158 | J7: 0.018530093 | K7: 83 | L7: 0.0094791667 | M7: 126 | N7: 105 | P7: 17
A8: 7 | B8: 339 | C8: 高野 祐子 | D8: 55 | E8: 女 | F8: 東京都 | G8: 0.03505787 | H8: 0.0056018519 | I8: 66 | J8: 0.020729167 | K8: 149 | L8: 0.0087268519 | M8: 78 | N8: 114 | P8: 20
A9: 8 | B9: 405 | C9: 犬塚 多恵 | D9: 50 | E9: 女 | F9: 茨城県 | G9: 0.035543981 | H9: 0.0071064815 | I9: 197 | J9: 0.018599537 | K9: 84 | L9: 0.009837963 | M9: 141 | N9: 120 | P9: 21
A10: 9 | B10: 241 | C10: 依田 はなえ | D10: 50 | E10: 女 | F10: 神奈川県 | G10: 0.035833333 | H10: 0.0062847222 | I10: 125 | J10: 0.020115741 | K10: 131 | L10: 0.0094328704 | M10: 124 | N10: 126 | P10: 22
A11: 10 | B11: 547 | C11: 平山 佳美 | D11: 50 | E11: 女 | F11: 埼玉県 | G11: 0.036273148 | H11: 0.0051041667 | I11: 37 | J11: 0.022141204 | K11: 189 | L11: 0.0090277778 | M11: 100 | N11: 135 | P11: 24
A12: 11 | B12: 519 | C12: 長澤 昌美 | D12: 59 | E12: 女 | F12: 神奈川県 | G12: 0.037523148 | H12: 0.0061689815 | I12: 114 | J12: 0.022627315 | K12: 197 | L12: 0.0087268519 | M12: 79 | N12: 159 | P12: 26
A13: 12 | B13: 543 | C13: 風間 理江 | D13: 52 | E13: 女 | F13: 東京都 | G13: 0.039085648 | H13: 0.0066203704 | I13: 160 | J13: 0.021747685 | K13: 179 | L13: 0.010717593 | M13: 183 | N13: 183 | P13: 30
... A28: 27 | B28: 545 | C28: 村山 彩雲 | D28: 79 | E28: 女 | F28: 東京都 | G28: 0.081018519 | H28: 0.0095833333 | I28: 253 | J28: 0.03619213 | K28: 256 | L28: 0.035243056 | M28: 257 | N28: 256 | P28: 56
B29: 239 | C29: 石井 恵 | D29: 50 | E29: 女 | F29: 東京都 | G29: 0.027337963 | H29: 0.0047685185 | I29: 18 | J29: 0.015775463 | K29: 16 | L29: 0.0067939815 | M29: 3 | N29: 6 | P29: 1 | Q29: 総合男女上位5位のため区分表彰対象外
B30: 114 | C30: 白戸 彩子 | D30: 58 | E30: 女 | F30: 東京都 | G30: 0.028321759 | H30: 0.0048032407 | I30: 21 | J30: 0.016284722 | K30: 24 | L30: 0.0072337963 | M30: 9 | N30: 12 | P30: 2 | Q30: 総合男女上位5位のため区分表彰対象外
B31: 113 | C31: 白井 伸枝 | D31: 51 | E31: 女 | F31: 東京都 | G31: 0.030381944 | H31: 0.0051157407 | I31: 38 | J31: 0.017106481 | K31: 42 | L31: 0.0081597222 | M31: 48 | N31: 32 | P31: 5 | Q31: 総合男女上位5位のため区分表彰対象外
