Workbook

Sheet サマリー
A1: ="東京羽村スーパースプリントトライアスロン2026 — ゼッケン"&$B$2&" "&B5&" 結果サマリー（公式リザルトPDFより作成）" -> 東京羽村スーパースプリントトライアスロン2026 — ゼッケン142 中澤 孝介 結果サマリー（公式リザルトPDFより作成）
A2: 対象ゼッケン | B2: 142
A4: 基本情報
A5: 氏名 | B5: =INDEX(全結果!C2:C294,MATCH($B$2,全結果!$B$2:$B$294,0)) -> 中澤 孝介
A6: 性別 | B6: =INDEX(全結果!E2:E294,MATCH($B$2,全結果!$B$2:$B$294,0)) -> 男
A7: 都道府県 | B7: =INDEX(全結果!F2:F294,MATCH($B$2,全結果!$B$2:$B$294,0)) -> 東京都
A8: 区分 | B8: =INDEX(全結果!S2:S294,MATCH($B$2,全結果!$B$2:$B$294,0)) -> 30-49歳男子
A10: 種目別タイムと構成比・ペース（公式リザルトの区分：T1はバイクラップに、T2はランラップに含む／距離はスイム400m・バイク10km・ラン2.7km）
A11: 種目 | B11: タイム | C11: 構成比（総合記録に占める割合） | E11: ペース
A12: スイム | B12: =INDEX(全結果!H2:H294,MATCH($B$2,全結果!$B$2:$B$294,0)) -> 0.0051736111 | C12: =B12/$B$15 -> 0.1785857 | E12: =(B12)/4 -> 0.0012934028
A13: バイク | B13: =INDEX(全結果!J2:J294,MATCH($B$2,全結果!$B$2:$B$294,0)) -> 0.015636574 | C13: =B13/$B$15 -> 0.5397523 | E13: =10/(B13*24) -> 26.646928
A14: ラン | B14: =INDEX(全結果!N2:N294,MATCH($B$2,全結果!$B$2:$B$294,0)) -> 0.0081597222 | C14: =B14/$B$15 -> 0.28166201 | E14: =(B14)/2.7 -> 0.0030221193
A15: 総合 | B15: =INDEX(全結果!G2:G294,MATCH($B$2,全結果!$B$2:$B$294,0)) -> 0.028969907 | C15: 1
A16: 注：バイクのペース（平均速度）はT1（スイム→バイク）を、ランのペース（1kmあたり）はT2（バイク→ラン）を含むラップタイムから算出。純粋な走行・走行ペースよりわずかに遅く出ます。
A18: ="種目別 順位・上位%・トップ選手とのタイム差（総合＝OPEN以外の全完走者／"&B6&"／区分＝"&B8&"）※区分順位は総合男女表彰対象者(上位5位)を除く公式ルールに準拠" -> 種目別 順位・上位%・トップ選手とのタイム差（総合＝OPEN以外の全完走者／男／区分＝30-49歳男子）※区分順位は総合男女表彰対象者(上位5位)を除く公式ルールに準拠
A19: 種目 | B19: 対象 | C19: 順位 | D19: 母数 | E19: 上位% | F19: トップとの差 | G19: グラフ用ラベル
A20: スイム | B20: 総合 | C20: =INDEX(全結果!$I$2:$I$294,MATCH($B$2,全結果!$B$2:$B$294,0)) -> 40 | D20: =COUNT(全結果!$I$2:$I$294) -> 258 | E20: =C20/D20 -> 0.15503876 | F20: =INDEX(全結果!$H$2:$H$294,MATCH($B$2,全結果!$B$2:$B$294,0))-(SUMPRODUCT((全結果!$I$2:$I$294=1)*全結果!$H$2:$H$294)) -> 0.0012268519 | G20: ="スイム - "&B20 -> スイム - 総合
B21: =$B$6 -> 男 | C21: =SUMPRODUCT((全結果!$E$2:$E$294=$B$6)*(全結果!$I$2:$I$294<>"")*(全結果!$H$2:$H$294<INDEX(全結果!$H$2:$H$294,MATCH($B$2,全結果!$B$2:$B$294,0))))+1 -> 27 | D21: =SUMPRODUCT((全結果!$E$2:$E$294=$B$6)*(全結果!$I$2:$I$294<>"")) -> 202 | E21: =C21/D21 -> 0.13366337 | F21: =INDEX(全結果!$H$2:$H$294,MATCH($B$2,全結果!$B$2:$B$294,0))-(MIN(全結果!$V$2:$V$294)) -> 0.0012268519 | G21: ="スイム - "&B21 -> スイム - 男
B22: ="区分("&$B$8&")" -> 区分(30-49歳男子) | C22: =SUMPRODUCT((全結果!$S$2:$S$294=$B$8)*(全結果!$I$2:$I$294<>"")*(全結果!$H$2:$H$294<INDEX(全結果!$H$2:$H$294,MATCH($B$2,全結果!$B$2:$B$294,0))))+1 -> 12 | D22: =SUMPRODUCT((全結果!$S$2:$S$294=$B$8)*(全結果!$I$2:$I$294<>"")) -> 79 | E22: =C22/D22 -> 0.15189873 | F22: =INDEX(全結果!$H$2:$H$294,MATCH($B$2,全結果!$B$2:$B$294,0))-(MIN(全結果!$W$2:$W$294)) -> 0.0011921296 | G22: ="スイム - "&B22 -> スイム - 区分(30-49歳男子)
A23: バイク | B23: 総合 | C23: =INDEX(全結果!$K$2:$K$294,MATCH($B$2,全結果!$B$2:$B$294,0)) -> 13 | D23: =COUNT(全結果!$K$2:$K$294) -> 257 | E23: =C23/D23 -> 0.050583658 | F23: =INDEX(全結果!$J$2:$J$294,MATCH($B$2,全結果!$B$2:$B$294,0))-(SUMPRODUCT((全結果!$K$2:$K$294=1)*全結果!$J$2:$J$294)) -> 0.0021412037 | G23: ="バイク - "&B23 -> バイク - 総合
B24: =$B$6 -> 男 | C24: =SUMPRODUCT((全結果!$E$2:$E$294=$B$6)*(全結果!$K$2:$K$294<>"")*(全結果!$J$2:$J$294<INDEX(全結果!$J$2:$J$294,MATCH($B$2,全結果!$B$2:$B$294,0))))+1 -> 13 | D24: =SUMPRODUCT((全結果!$E$2:$E$294=$B$6)*(全結果!$K$2:$K$294<>"")) -> 201 | E24: =C24/D24 -> 0.064676617 | F24: =INDEX(全結果!$J$2:$J$294,MATCH($B$2,全結果!$B$2:$B$294,0))-(MIN(全結果!$X$2:$X$294)) -> 0.0021412037 | G24: ="バイク - "&B24 -> バイク - 男
B25: ="区分("&$B$8&")" -> 区分(30-49歳男子) | C25: =SUMPRODUCT((全結果!$S$2:$S$294=$B$8)*(全結果!$K$2:$K$294<>"")*(全結果!$J$2:$J$294<INDEX(全結果!$J$2:$J$294,MATCH($B$2,全結果!$B$2:$B$294,0))))+1 -> 8 | D25: =SUMPRODUCT((全結果!$S$2:$S$294=$B$8)*(全結果!$K$2:$K$294<>"")) -> 78 | E25: =C25/D25 -> 0.1025641 | F25: =INDEX(全結果!$J$2:$J$294,MATCH($B$2,全結果!$B$2:$B$294,0))-(MIN(全結果!$Y$2:$Y$294)) -> 0.0021412037 | G25: ="バイク - "&B25 -> バイク - 区分(30-49歳男子)
A26: ラン | B26: 総合 | C26: =INDEX(全結果!$O$2:$O$294,MATCH($B$2,全結果!$B$2:$B$294,0)) -> 49 | D26: =COUNT(全結果!$O$2:$O$294) -> 257 | E26: =C26/D26 -> 0.19066148 | F26: =INDEX(全結果!$N$2:$N$294,MATCH($B$2,全結果!$B$2:$B$294,0))-(SUMPRODUCT((全結果!$O$2:$O$294=1)*全結果!$N$2:$N$294)) -> 0.0021296296 | G26: ="ラン - "&B26 -> ラン - 総合
B27: =$B$6 -> 男 | C27: =SUMPRODUCT((全結果!$E$2:$E$294=$B$6)*(全結果!$O$2:$O$294<>"")*(全結果!$N$2:$N$294<INDEX(全結果!$N$2:$N$294,MATCH($B$2,全結果!$B$2:$B$294,0))))+1 -> 42 | D27: =SUMPRODUCT((全結果!$E$2:$E$294=$B$6)*(全結果!$O$2:$O$294<>"")) -> 201 | E27: =C27/D27 -> 0.20895522 | F27: =INDEX(全結果!$N$2:$N$294,MATCH($B$2,全結果!$B$2:$B$294,0))-(MIN(全結果!$Z$2:$Z$294)) -> 0.0021296296 | G27: ="ラン - "&B27 -> ラン - 男
B28: ="区分("&$B$8&")" -> 区分(30-49歳男子) | C28: =SUMPRODUCT((全結果!$S$2:$S$294=$B$8)*(全結果!$O$2:$O$294<>"")*(全結果!$N$2:$N$294<INDEX(全結果!$N$2:$N$294,MATCH($B$2,全結果!$B$2:$B$294,0))))+1 -> 18 | D28: =SUMPRODUCT((全結果!$S$2:$S$294=$B$8)*(全結果!$O$2:$O$294<>"")) -> 78 | E28: =C28/D28 -> 0.23076923 | F28: =INDEX(全結果!$N$2:$N$294,MATCH($B$2,全結果!$B$2:$B$294,0))-(MIN(全結果!$AA$2:$AA$294)) -> 0.0021296296 | G28: ="ラン - "&B28 -> ラン - 区分(30-49歳男子)
A29: 総合 | B29: 総合 | C29: =INDEX(全結果!$A$2:$A$294,MATCH($B$2,全結果!$B$2:$B$294,0)) -> 17 | D29: =COUNT(全結果!$A$2:$A$294) -> 257 | E29: =C29/D29 -> 0.06614786 | F29: =INDEX(全結果!$G$2:$G$294,MATCH($B$2,全結果!$B$2:$B$294,0))-(SUMPRODUCT((全結果!$A$2:$A$294=1)*全結果!$G$2:$G$294)) -> 0.0044097222 | G29: ="総合 - "&B29 -> 総合 - 総合
B30: =$B$6 -> 男 | C30: =IF(B6="男",INDEX(全結果!$Q$2:$Q$294,MATCH($B$2,全結果!$B$2:$B$294,0)),INDEX(全結果!$R$2:$R$294,MATCH($B$2,全結果!$B$2:$B$294,0))) -> 14 | D30: =IF(B6="男",COUNT(全結果!$Q$2:$Q$294),COUNT(全結果!$R$2:$R$294)) -> 201 | E30: =C30/D30 -> 0.069651741 | F30: =INDEX(全結果!$G$2:$G$294,MATCH($B$2,全結果!$B$2:$B$294,0))-(IF(B6="男",SUMPRODUCT((全結果!$Q$2:$Q$294=1)*全結果!$G$2:$G$294),SUMPRODUCT((全結果!$R$2:$R$294=1)*全結果!$G$2:$G$294))) -> 0.0044097222 | G30: ="総合 - "&B30 -> 総合 - 男
B31: ="区分("&$B$8&")" -> 区分(30-49歳男子) | C31: =INDEX(全結果!$T$2:$T$294,MATCH($B$2,全結果!$B$2:$B$294,0)) -> 6 | D31: =SUMPRODUCT((全結果!$S$2:$S$294=$B$8)*ISNUMBER(全結果!$T$2:$T$294)) -> 76 | E31: =C31/D31 -> 0.078947368 | F31: =INDEX(全結果!$G$2:$G$294,MATCH($B$2,全結果!$B$2:$B$294,0))-(SUMPRODUCT((全結果!$S$2:$S$294=$B$8)*(全結果!$T$2:$T$294=1)*全結果!$G$2:$G$294)) -> 0.0015509259 | G31: ="総合 - "&B31 -> 総合 - 区分(30-49歳男子)
A32: 注：総合の順位・母数は公式リザルトのS順/B順/R順/総合順位/男子順位/女子順位/区分順位をそのまま使用。男子・区分の種目別（スイム/バイク/ラン）順位は、公式のS順/B順/R順が付与されている（＝正式に順位判定された）選手に限定し、同条件（性別・区分）内で公式ラップタイムをもとに算出（同タイムは同順位）。区分順位は総合男女上位5位を表彰対象から除く大会公式ルールに準拠（該当者は区分順位が空欄）。「トップとの差」は各対象（総合／性別／区分）内の1位選手とのタイム差。

Sheet 全結果
A1: 総合順位 | B1: ゼッケン | C1: 氏名 | D1: 年齢 | E1: 性別 | F1: 都道府県 | G1: 総合記録 | H1: スイムラップ | I1: S順 | J1: バイクラップ | K1: B順 | L1: スプリット | M1: 通過順位 | N1: ランラップ | O1: R順 | P1: PNLT | Q1: 男子順位 | R1: 女子順位 | S1: 区分 | T1: 区分順位 | U1: バイク種類 | V1: 性別一致_スイム | W1: 区分一致_スイム | X1: 性別一致_バイク | Y1: 区分一致_バイク | Z1: 性別一致_ラン | AA1: 区分一致_ラン
A2: 1 | B2: 104 | C2: 根本 康行 | D2: 40 | E2: 男 | F2: 東京都 | G2: 0.024560185 | H2: 0.0039814815 | I2: 2 | J2: 0.01349537 | K2: 1 | L2: 0.017476852 | M2: 1 | N2: 0.0070833333 | O2: 7 | Q2: 1 | S2: 30-49歳男子 | U2: ロード・TT | V2: =IF(AND($E2=サマリー!$B$6,$I2<>""),H2,"") -> 0.0039814815 | W2: =IF(AND($S2=サマリー!$B$8,$I2<>""),H2,"") -> 0.0039814815 | X2: =IF(AND($E2=サマリー!$B$6,$K2<>""),J2,"") -> 0.01349537 | Y2: =IF(AND($S2=サマリー!$B$8,$K2<>""),J2,"") -> 0.01349537 | Z2: =IF(AND($E2=サマリー!$B$6,$O2<>""),N2,"") -> 0.0070833333 | AA2: =IF(AND($S2=サマリー!$B$8,$O2<>""),N2,"") -> 0.0070833333
A3: 2 | B3: 110 | C3: 水野 諒太郎 | D3: 40 | E3: 男 | F3: 東京都 | G3: 0.024953704 | H3: 0.0040740741 | I3: 3 | J3: 0.014085648 | K3: 3 | L3: 0.018159722 | M3: 2 | N3: 0.0067939815 | O3: 4 | Q3: 2 | S3: 30-49歳男子 | U3: ロード・TT | V3: =IF(AND($E3=サマリー!$B$6,$I3<>""),H3,"") -> 0.0040740741 | W3: =IF(AND($S3=サマリー!$B$8,$I3<>""),H3,"") -> 0.0040740741 | X3: =IF(AND($E3=サマリー!$B$6,$K3<>""),J3,"") -> 0.014085648 | Y3: =IF(AND($S3=サマリー!$B$8,$K3<>""),J3,"") -> 0.014085648 | Z3: =IF(AND($E3=サマリー!$B$6,$O3<>""),N3,"") -> 0.0067939815 | AA3: =IF(AND($S3=サマリー!$B$8,$O3<>""),N3,"") -> 0.0067939815
A4: 3 | B4: 126 | C4: 生井 和平 | D4: 54 | E4: 男 | F4: 東京都 | G4: 0.025694444 | H4: 0.0042708333 | I4: 6 | J4: 0.014050926 | K4: 2 | L4: 0.018321759 | M4: 3 | N4: 0.0073726852 | O4: 13 | Q4: 3 | S4: 50歳以上男子 | U4: ロード・TT | V4: =IF(AND($E4=サマリー!$B$6,$I4<>""),H4,"") -> 0.0042708333 | W4: =IF(AND($S4=サマリー!$B$8,$I4<>""),H4,"") | X4: =IF(AND($E4=サマリー!$B$6,$K4<>""),J4,"") -> 0.014050926 | Y4: =IF(AND($S4=サマリー!$B$8,$K4<>""),J4,"") | Z4: =IF(AND($E4=サマリー!$B$6,$O4<>""),N4,"") -> 0.0073726852 | AA4: =IF(AND($S4=サマリー!$B$8,$O4<>""),N4,"")
A5: 4 | B5: 102 | C5: 白戸 太朗 | D5: 59 | E5: 男 | F5: 東京都 | G5: 0.026655093 | H5: 0.0041319444 | I5: 4 | J5: 0.014988426 | K5: 5 | L5: 0.01912037 | M5: 4 | N5: 0.0075347222 | O5: 19 | Q5: 4 | S5: 50歳以上男子 | U5: ロード・TT | V5: =IF(AND($E5=サマリー!$B$6,$I5<>""),H5,"") -> 0.0041319444 | W5: =IF(AND($S5=サマリー!$B$8,$I5<>""),H5,"") | X5: =IF(AND($E5=サマリー!$B$6,$K5<>""),J5,"") -> 0.014988426 | Y5: =IF(AND($S5=サマリー!$B$8,$K5<>""),J5,"") | Z5: =IF(AND($E5=サマリー!$B$6,$O5<>""),N5,"") -> 0.0075347222 | AA5: =IF(AND($S5=サマリー!$B$8,$O5<>""),N5,"")
A6: 5 | B6: 115 | C6: 新井 慎一郎 | D6: 59 | E6: 男 | F6: 東京都 | G6: 0.027025463 | H6: 0.0044675926 | I6: 10 | J6: 0.015393519 | K6: 8 | L6: 0.019861111 | M6: 5 | N6: 0.0071643519 | O6: 8 | Q6: 5 | S6: 50歳以上男子 | U6: ロード・TT | V6: =IF(AND($E6=サマリー!$B$6,$I6<>""),H6,"") -> 0.0044675926 | W6: =IF(AND($S6=サマリー!$B$8,$I6<>""),H6,"") | X6: =IF(AND($E6=サマリー!$B$6,$K6<>""),J6,"") -> 0.015393519 | Y6: =IF(AND($S6=サマリー!$B$8,$K6<>""),J6,"") | Z6: =IF(AND($E6=サマリー!$B$6,$O6<>""),N6,"") -> 0.0071643519 | AA6: =IF(AND($S6=サマリー!$B$8,$O6<>""),N6,"")
A7: 6 | B7: 239 | C7: 石井 恵 | D7: 50 | E7: 女 | F7: 東京都 | G7: 0.027337963 | H7: 0.0047685185 | I7: 18 | J7: 0.015775463 | K7: 16 | L7: 0.020543981 | M7: 10 | N7: 0.0067939815 | O7: 3 | R7: 1 | S7: 50歳以上女子 | U7: ロード・TT | V7: =IF(AND($E7=サマリー!$B$6,$I7<>""),H7,"") | W7: =IF(AND($S7=サマリー!$B$8,$I7<>""),H7,"") | X7: =IF(AND($E7=サマリー!$B$6,$K7<>""),J7,"") | Y7: =IF(AND($S7=サマリー!$B$8,$K7<>""),J7,"") | Z7: =IF(AND($E7=サマリー!$B$6,$O7<>""),N7,"") | AA7: =IF(AND($S7=サマリー!$B$8,$O7<>""),N7,"")
A8: 7 | B8: 244 | C8: 佐川 公太 | D8: 33 | E8: 男 | F8: 東京都 | G8: 0.027418981 | H8: 0.0050694444 | I8: 35 | J8: 0.016319444 | K8: 27 | L8: 0.021388889 | M8: 21 | N8: 0.0060300926 | O8: 1 | Q8: 6 | S8: 30-49歳男子 | T8: 1 | U8: ロード・TT | V8: =IF(AND($E8=サマリー!$B$6,$I8<>""),H8,"") -> 0.0050694444 | W8: =IF(AND($S8=サマリー!$B$8,$I8<>""),H8,"") -> 0.0050694444 | X8: =IF(AND($E8=サマリー!$B$6,$K8<>""),J8,"") -> 0.016319444 | Y8: =IF(AND($S8=サマリー!$B$8,$K8<>""),J8,"") -> 0.016319444 | Z8: =IF(AND($E8=サマリー!$B$6,$O8<>""),N8,"") -> 0.0060300926 | AA8: =IF(AND($S8=サマリー!$B$8,$O8<>""),N8,"") -> 0.0060300926
A9: 8 | B9: 302 | C9: 小川 勉 | D9: 44 | E9: 男 | F9: 東京都 | G9: 0.027638889 | H9: 0.0049305556 | I9: 27 | J9: 0.015243056 | K9: 6 | L9: 0.020173611 | M9: 7 | N9: 0.0074652778 | O9: 15 | Q9: 7 | S9: 30-49歳男子 | T9: 2 | U9: ロード・TT | V9: =IF(AND($E9=サマリー!$B$6,$I9<>""),H9,"") -> 0.0049305556 | W9: =IF(AND($S9=サマリー!$B$8,$I9<>""),H9,"") -> 0.0049305556 | X9: =IF(AND($E9=サマリー!$B$6,$K9<>""),J9,"") -> 0.015243056 | Y9: =IF(AND($S9=サマリー!$B$8,$K9<>""),J9,"") -> 0.015243056 | Z9: =IF(AND($E9=サマリー!$B$6,$O9<>""),N9,"") -> 0.0074652778 | AA9: =IF(AND($S9=サマリー!$B$8,$O9<>""),N9,"") -> 0.0074652778
A10: 9 | B10: 222 | C10: 水口 直樹 | D10: 47 | E10: 男 | F10: 東京都 | G10: 0.027777778 | H10: 0.0055787037 | I10: 65 | J10: 0.014675926 | K10: 4 | L10: 0.02025463 | M10: 9 | N10: 0.0075231481 | O10: 18 | Q10: 8 | S10: 30-49歳男子 | T10: 3 | U10: ロード・TT | V10: =IF(AND($E10=サマリー!$B$6,$I10<>""),H10,"") -> 0.0055787037 | W10: =IF(AND($S10=サマリー!$B$8,$I10<>""),H10,"") -> 0.0055787037 | X10: =IF(AND($E10=サマリー!$B$6,$K10<>""),J10,"") -> 0.014675926 | Y10: =IF(AND($S10=サマリー!$B$8,$K10<>""),J10,"") -> 0.014675926 | Z10: =IF(AND($E10=サマリー!$B$6,$O10<>""),N10,"") -> 0.0075231481 | AA10: =IF(AND($S10=サマリー!$B$8,$O10<>""),N10,"") -> 0.0075231481
A11: 10 | B11: 211 | C11: 水谷 武司 | D11: 54 | E11: 男 | F11: 東京都 | G11: 0.027939815 | H11: 0.0047916667 | I11: 20 | J11: 0.015358796 | K11: 7 | L11: 0.020150463 | M11: 6 | N11: 0.0077893519 | O11: 27 | Q11: 9 | S11: 50歳以上男子 | T11: 1 | U11: ロード・TT | V11: =IF(AND($E11=サマリー!$B$6,$I11<>""),H11,"") -> 0.0047916667 | W11: =IF(AND($S11=サマリー!$B$8,$I11<>""),H11,"") | X11: =IF(AND($E11=サマリー!$B$6,$K11<>""),J11,"") -> 0.015358796 | Y11: =IF(AND($S11=サマリー!$B$8,$K11<>""),J11,"") | Z11: =IF(AND($E11=サマリー!$B$6,$O11<>""),N11,"") -> 0.0077893519 | AA11: =IF(AND($S11=サマリー!$B$8,$O11<>""),N11,"")
A12: 11 | B12: 207 | C12: 阿部 拓希 | D12: 30 | E12: 男 | F12: 東京都 | G12: 0.02806713 | H12: 0.0055439815 | I12: 60 | J12: 0.015486111 | K12: 11 | L12: 0.021030093 | M12: 14 | N12: 0.007037037 | O12: 6 | Q12: 10 | S12: 30-49歳男子 | T12: 4 | U12: ロード・TT | V12: =IF(AND($E12=サマリー!$B$6,$I12<>""),H12,"") -> 0.0055439815 | W12: =IF(AND($S12=サマリー!$B$8,$I12<>""),H12,"") -> 0.0055439815 | X12: =IF(AND($E12=サマリー!$B$6,$K12<>""),J12,"") -> 0.015486111 | Y12: =IF(AND($S12=サマリー!$B$8,$K12<>""),J12,"") -> 0.015486111 | Z12: =IF(AND($E12=サマリー!$B$6,$O12<>""),N12,"") -> 0.007037037 | AA12: =IF(AND($S12=サマリー!$B$8,$O12<>""),N12,"") -> 0.007037037
A13: 12 | B13: 114 | C13: 白戸 彩子 | D13: 58 | E13: 女 | F13: 東京都 | G13: 0.028321759 | H13: 0.0048032407 | I13: 21 | J13: 0.016284722 | K13: 24 | L13: 0.021087963 | M13: 16 | N13: 0.0072337963 | O13: 9 | R13: 2 | S13: 50歳以上女子 | U13: ロード・TT | V13: =IF(AND($E13=サマリー!$B$6,$I13<>""),H13,"") | W13: =IF(AND($S13=サマリー!$B$8,$I13<>""),H13,"") | X13: =IF(AND($E13=サマリー!$B$6,$K13<>""),J13,"") | Y13: =IF(AND($S13=サマリー!$B$8,$K13<>""),J13,"") | Z13: =IF(AND($E13=サマリー!$B$6,$O13<>""),N13,"") | AA13: =IF(AND($S13=サマリー!$B$8,$O13<>""),N13,"")
A14: 13 | B14: 128 | C14: 奥山 奥士 | D14: 58 | E14: 男 | F14: 東京都 | G14: 0.028414352 | H14: 0.0039467593 | I14: 1 | J14: 0.016747685 | K14: 33 | L14: 0.020694444 | M14: 11 | N14: 0.0077199074 | O14: 24 | Q14: 11 | S14: 50歳以上男子 | T14: 2 | U14: ロード・TT | V14: =IF(AND($E14=サマリー!$B$6,$I14<>""),H14,"") -> 0.0039467593 | W14: =IF(AND($S14=サマリー!$B$8,$I14<>""),H14,"") | X14: =IF(AND($E14=サマリー!$B$6,$K14<>""),J14,"") -> 0.016747685 | Y14: =IF(AND($S14=サマリー!$B$8,$K14<>""),J14,"") | Z14: =IF(AND($E14=サマリー!$B$6,$O14<>""),N14,"") -> 0.0077199074 | AA14: =IF(AND($S14=サマリー!$B$8,$O14<>""),N14,"")
A15: 14 | B15: 512 | C15: 橋本 哲二 | D15: 49 | E15: 男 | F15: 東京都 | G15: 0.028657407 | H15: 0.0049652778 | I15: 30 | J15: 0.016388889 | K15: 28 | L15: 0.021354167 | M15: 20 | N15: 0.0073032407 | O15: 11 | Q15: 12 | S15: 30-49歳男子 | T15: 5 | U15: MTB | V15: =IF(AND($E15=サマリー!$B$6,$I15<>""),H15,"") -> 0.0049652778 | W15: =IF(AND($S15=サマリー!$B$8,$I15<>""),H15,"") -> 0.0049652778 | X15: =IF(AND($E15=サマリー!$B$6,$K15<>""),J15,"") -> 0.016388889 | Y15: =IF(AND($S15=サマリー!$B$8,$K15<>""),J15,"") -> 0.016388889 | Z15: =IF(AND($E15=サマリー!$B$6,$O15<>""),N15,"") -> 0.0073032407 | AA15: =IF(AND($S15=サマリー!$B$8,$O15<>""),N15,"") -> 0.0073032407
A16: 15 | B16: 103 | C16: 太田 成美 | D16: 39 | E16: 女 | F16: 神奈川県 | G16: 0.02869213 | H16: 0.0044444444 | I16: 9 | J16: 0.016412037 | K16: 29 | L16: 0.020856481 | M16: 13 | N16: 0.0078356481 | O16: 30 | R16: 3 | S16: 30-49歳女子 | U16: ロード・TT | V16: =IF(AND($E16=サマリー!$B$6,$I16<>""),H16,"") | W16: =IF(AND($S16=サマリー!$B$8,$I16<>""),H16,"") | X16: =IF(AND($E16=サマリー!$B$6,$K16<>""),J16,"") | Y16: =IF(AND($S16=サマリー!$B$8,$K16<>""),J16,"") | Z16: =IF(AND($E16=サマリー!$B$6,$O16<>""),N16,"") | AA16: =IF(AND($S16=サマリー!$B$8,$O16<>""),N16,"")
A17: 16 | B17: 107 | C17: 三浦 遼太 | D17: 19 | E17: 男 | F17: 東京都 | G17: 0.028761574 | H17: 0.0041435185 | I17: 5 | J17: 0.016087963 | K17: 19 | L17: 0.020231481 | M17: 8 | N17: 0.0085300926 | O17: 70 | Q17: 13 | S17: 29歳以下男子 | T17: 1 | U17: ロード・TT | V17: =IF(AND($E17=サマリー!$B$6,$I17<>""),H17,"") -> 0.0041435185 | W17: =IF(AND($S17=サマリー!$B$8,$I17<>""),H17,"") | X17: =IF(AND($E17=サマリー!$B$6,$K17<>""),J17,"") -> 0.016087963 | Y17: =IF(AND($S17=サマリー!$B$8,$K17<>""),J17,"") | Z17: =IF(AND($E17=サマリー!$B$6,$O17<>""),N17,"") -> 0.0085300926 | AA17: =IF(AND($S17=サマリー!$B$8,$O17<>""),N17,"")
A18: 17 | B18: 142 | C18: 中澤 孝介 | D18: 44 | E18: 男 | F18: 東京都 | G18: 0.028969907 | H18: 0.0051736111 | I18: 40 | J18: 0.015636574 | K18: 13 | L18: 0.020810185 | M18: 12 | N18: 0.0081597222 | O18: 49 | Q18: 14 | S18: 30-49歳男子 | T18: 6 | U18: ロード・TT | V18: =IF(AND($E18=サマリー!$B$6,$I18<>""),H18,"") -> 0.0051736111 | W18: =IF(AND($S18=サマリー!$B$8,$I18<>""),H18,"") -> 0.0051736111 | X18: =IF(AND($E18=サマリー!$B$6,$K18<>""),J18,"") -> 0.015636574 | Y18: =IF(AND($S18=サマリー!$B$8,$K18<>""),J18,"") -> 0.015636574 | Z18: =IF(AND($E18=サマリー!$B$6,$O18<>""),N18,"") -> 0.0081597222 | AA18: =IF(AND($S18=サマリー!$B$8,$O18<>""),N18,"") -> 0.0081597222
A19: 18 | B19: 237 | C19: ちょう みらん | D19: 29 | E19: 女 | F19: 東京都 | G19: 0.029085648 | H19: 0.0049421296 | I19: 28 | J19: 0.016134259 | K19: 20 | L19: 0.021076389 | M19: 15 | N19: 0.0080092593 | O19: 41 | R19: 4 | S19: 29歳以下女子 | U19: ロード・TT | V19: =IF(AND($E19=サマリー!$B$6,$I19<>""),H19,"") | W19: =IF(AND($S19=サマリー!$B$8,$I19<>""),H19,"") | X19: =IF(AND($E19=サマリー!$B$6,$K19<>""),J19,"") | Y19: =IF(AND($S19=サマリー!$B$8,$K19<>""),J19,"") | Z19: =IF(AND($E19=サマリー!$B$6,$O19<>""),N19,"") | AA19: =IF(AND($S19=サマリー!$B$8,$O19<>""),N19,"")
A20: 19 | B20: 125 | C20: 木村 航士 | D20: 56 | E20: 男 | F20: 神奈川県 | G20: 0.029363426 | H20: 0.004849537 | I20: 24 | J20: 0.017766204 | K20: 60 | L20: 0.022615741 | M20: 44 | N20: 0.0067476852 | O20: 2 | Q20: 15 | S20: 50歳以上男子 | T20: 3 | U20: ロード・TT | V20: =IF(AND($E20=サマリー!$B$6,$I20<>""),H20,"") -> 0.004849537 | W20: =IF(AND($S20=サマリー!$B$8,$I20<>""),H20,"") | X20: =IF(AND($E20=サマリー!$B$6,$K20<>""),J20,"") -> 0.017766204 | Y20: =IF(AND($S20=サマリー!$B$8,$K20<>""),J20,"") | Z20: =IF(AND($E20=サマリー!$B$6,$O20<>""),N20,"") -> 0.0067476852 | AA20: =IF(AND($S20=サマリー!$B$8,$O20<>""),N20,"")
A21: 20 | B21: 306 | C21: 山口 高男 | D21: 57 | E21: 男 | F21: 東京都 | G21: 0.029375 | H21: 0.0048148148 | I21: 22 | J21: 0.016516204 | K21: 30 | L21: 0.021331019 | M21: 19 | N21: 0.0080439815 | O21: 42 | Q21: 16 | S21: 50歳以上男子 | T21: 4 | U21: ロード・TT | V21: =IF(AND($E21=サマリー!$B$6,$I21<>""),H21,"") -> 0.0048148148 | W21: =IF(AND($S21=サマリー!$B$8,$I21<>""),H21,"") | X21: =IF(AND($E21=サマリー!$B$6,$K21<>""),J21,"") -> 0.016516204 | Y21: =IF(AND($S21=サマリー!$B$8,$K21<>""),J21,"") | Z21: =IF(AND($E21=サマリー!$B$6,$O21<>""),N21,"") -> 0.0080439815 | AA21: =IF(AND($S21=サマリー!$B$8,$O21<>""),N21,"")
A22: 21 | B22: 206 | C22: 吉田 道保 | D22: 37 | E22: 男 | F22: 東京都 | G22: 0.029386574 | H22: 0.0064814815 | I22: 149 | J22: 0.015428241 | K22: 9 | L22: 0.021909722 | M22: 30 | N22: 0.0074768519 | O22: 16 | Q22: 17 | S22: 30-49歳男子 | T22: 7 | U22: ロード・TT | V22: =IF(AND($E22=サマリー!$B$6,$I22<>""),H22,"") -> 0.0064814815 | W22: =IF(AND($S22=サマリー!$B$8,$I22<>""),H22,"") -> 0.0064814815 | X22: =IF(AND($E22=サマリー!$B$6,$K22<>""),J22,"") -> 0.015428241 | Y22: =IF(AND($S22=サマリー!$B$8,$K22<>""),J22,"") -> 0.015428241 | Z22: =IF(AND($E22=サマリー!$B$6,$O22<>""),N22,"") -> 0.0074768519 | AA22: =IF(AND($S22=サマリー!$B$8,$O22<>""),N22,"") -> 0.0074768519
A23: 22 | B23: 253 | C23: 小田川 亮人 | D23: 47 | E23: 男 | F23: 神奈川県 | G23: 0.029618056 | H23: 0.0046296296 | I23: 15 | J23: 0.017002315 | K23: 38 | L23: 0.021631944 | M23: 25 | N23: 0.0079861111 | O23: 39 | Q23: 18 | S23: 30-49歳男子 | T23: 8 | U23: ロード・TT | V23: =IF(AND($E23=サマリー!$B$6,$I23<>""),H23,"") -> 0.0046296296 | W23: =IF(AND($S23=サマリー!$B$8,$I23<>""),H23,"") -> 0.0046296296 | X23: =IF(AND($E23=サマリー!$B$6,$K23<>""),J23,"") -> 0.017002315 | Y23: =IF(AND($S23=サマリー!$B$8,$K23<>""),J23,"") -> 0.017002315 | Z23: =IF(AND($E23=サマリー!$B$6,$O23<>""),N23,"") -> 0.0079861111 | AA23: =IF(AND($S23=サマリー!$B$8,$O23<>""),N23,"") -> 0.0079861111
A24: 23 | B24: 259 | C24: 草間 大貴 | D24: 39 | E24: 男 | F24: 東京都 | G24: 0.02974537 | H24: 0.0071180556 | I24: 198 | J24: 0.015671296 | K24: 14 | L24: 0.022789352 | M24: 47 | N24: 0.0069560185 | O24: 5 | Q24: 19 | S24: 30-49歳男子 | T24: 9 | U24: ロード・TT | V24: =IF(AND($E24=サマリー!$B$6,$I24<>""),H24,"") -> 0.0071180556 | W24: =IF(AND($S24=サマリー!$B$8,$I24<>""),H24,"") -> 0.0071180556 | X24: =IF(AND($E24=サマリー!$B$6,$K24<>""),J24,"") -> 0.015671296 | Y24: =IF(AND($S24=サマリー!$B$8,$K24<>""),J24,"") -> 0.015671296 | Z24: =IF(AND($E24=サマリー!$B$6,$O24<>""),N24,"") -> 0.0069560185 | AA24: =IF(AND($S24=サマリー!$B$8,$O24<>""),N24,"") -> 0.0069560185
A25: 24 | B25: 204 | C25: 小林 勇二 | D25: 48 | E25: 男 | F25: 東京都 | G25: 0.029872685 | H25: 0.0054861111 | I25: 56 | J25: 0.015740741 | K25: 15 | L25: 0.021226852 | M25: 17 | N25: 0.0086458333 | O25: 74 | Q25: 20 | S25: 30-49歳男子 | T25: 10 | U25: ロード・TT | V25: =IF(AND($E25=サマリー!$B$6,$I25<>""),H25,"") -> 0.0054861111 | W25: =IF(AND($S25=サマリー!$B$8,$I25<>""),H25,"") -> 0.0054861111 | X25: =IF(AND($E25=サマリー!$B$6,$K25<>""),J25,"") -> 0.015740741 | Y25: =IF(AND($S25=サマリー!$B$8,$K25<>""),J25,"") -> 0.015740741 | Z25: =IF(AND($E25=サマリー!$B$6,$O25<>""),N25,"") -> 0.0086458333 | AA25: =IF(AND($S25=サマリー!$B$8,$O25<>""),N25,"") -> 0.0086458333
A26: 25 | B26: 129 | C26: 中島 秀彰 | D26: 63 | E26: 男 | F26: 東京都 | G26: 0.029884259 | H26: 0.0061226852 | I26: 109 | J26: 0.015509259 | K26: 12 | L26: 0.021631944 | M26: 24 | N26: 0.0082523148 | O26: 54 | Q26: 21 | S26: 50歳以上男子 | T26: 5 | U26: ロード・TT | V26: =IF(AND($E26=サマリー!$B$6,$I26<>""),H26,"") -> 0.0061226852 | W26: =IF(AND($S26=サマリー!$B$8,$I26<>""),H26,"") | X26: =IF(AND($E26=サマリー!$B$6,$K26<>""),J26,"") -> 0.015509259 | Y26: =IF(AND($S26=サマリー!$B$8,$K26<>""),J26,"") | Z26: =IF(AND($E26=サマリー!$B$6,$O26<>""),N26,"") -> 0.0082523148 | AA26: =IF(AND($S26=サマリー!$B$8,$O26<>""),N26,"")
A27: 26 | B27: 509 | C27: 村上 大幸 | D27: 36 | E27: 男 | F27: 東京都 | G27: 0.03 | H27: 0.0052083333 | I27: 42 | J27: 0.016967593 | K27: 35 | L27: 0.022175926 | M27: 32 | N27: 0.0078240741 | O27: 29 | Q27: 22 | S27: 30-49歳男子 | T27: 11 | U27: MTB | V27: =IF(AND($E27=サマリー!$B$6,$I27<>""),H27,"") -> 0.0052083333 | W27: =IF(AND($S27=サマリー!$B$8,$I27<>""),H27,"") -> 0.0052083333 | X27: =IF(AND($E27=サマリー!$B$6,$K27<>""),J27,"") -> 0.016967593 | Y27: =IF(AND($S27=サマリー!$B$8,$K27<>""),J27,"") -> 0.016967593 | Z27: =IF(AND($E27=サマリー!$B$6,$O27<>""),N27,"") -> 0.0078240741 | AA27: =IF(AND($S27=サマリー!$B$8,$O27<>""),N27,"") -> 0.0078240741
A28: 27 | B28: 153 | C28: 繁田 陽 | D28: 39 | E28: 男 | F28: 東京都 | G28: 0.030127315 | H28: 0.0053240741 | I28: 47 | J28: 0.017002315 | K28: 39 | L28: 0.022326389 | M28: 38 | N28: 0.0078009259 | O28: 28 | Q28: 23 | S28: 30-49歳男子 | T28: 12 | U28: ロード・TT | V28: =IF(AND($E28=サマリー!$B$6,$I28<>""),H28,"") -> 0.0053240741 | W28: =IF(AND($S28=サマリー!$B$8,$I28<>""),H28,"") -> 0.0053240741 | X28: =IF(AND($E28=サマリー!$B$6,$K28<>""),J28,"") -> 0.017002315 | Y28: =IF(AND($S28=サマリー!$B$8,$K28<>""),J28,"") -> 0.017002315 | Z28: =IF(AND($E28=サマリー!$B$6,$O28<>""),N28,"") -> 0.0078009259 | AA28: =IF(AND($S28=サマリー!$B$8,$O28<>""),N28,"") -> 0.0078009259
A29: 28 | B29: 232 | C29: 池田 伸吾 | D29: 49 | E29: 男 | F29: 東京都 | G29: 0.030127315 | H29: 0.0058449074 | I29: 78 | J29: 0.015428241 | K29: 10 | L29: 0.021273148 | M29: 18 | N29: 0.0088541667 | O29: 88 | Q29: 24 | S29: 30-49歳男子 | T29: 13 | U29: ロード・TT | V29: =IF(AND($E29=サマリー!$B$6,$I29<>""),H29,"") -> 0.0058449074 | W29: =IF(AND($S29=サマリー!$B$8,$I29<>""),H29,"") -> 0.0058449074 | X29: =IF(AND($E29=サマリー!$B$6,$K29<>""),J29,"") -> 0.015428241 | Y29: =IF(AND($S29=サマリー!$B$8,$K29<>""),J29,"") -> 0.015428241 | Z29: =IF(AND($E29=サマリー!$B$6,$O29<>""),N29,"") -> 0.0088541667 | AA29: =IF(AND($S29=サマリー!$B$8,$O29<>""),N29,"") -> 0.0088541667
A30: 29 | B30: 260 | C30: 藤原 拓己 | D30: 22 | E30: 男 | F30: 東京都 | G30: 0.030185185 | H30: 0.0059837963 | I30: 91 | J30: 0.016296296 | K30: 25 | L30: 0.022280093 | M30: 36 | N30: 0.0079050926 | O30: 33 | Q30: 25 | S30: 29歳以下男子 | T30: 2 | U30: ロード・TT | V30: =IF(AND($E30=サマリー!$B$6,$I30<>""),H30,"") -> 0.0059837963 | W30: =IF(AND($S30=サマリー!$B$8,$I30<>""),H30,"") | X30: =IF(AND($E30=サマリー!$B$6,$K30<>""),J30,"") -> 0.016296296 | Y30: =IF(AND($S30=サマリー!$B$8,$K30<>""),J30,"") | Z30: =IF(AND($E30=サマリー!$B$6,$O30<>""),N30,"") -> 0.0079050926 | AA30: =IF(AND($S30=サマリー!$B$8,$O30<>""),N30,"")
A31: 30 | B31: 524 | C31: 川田 裕史 | D31: 47 | E31: 男 | F31: 東京都 | G31: 0.030324074 | H31: 0.0054398148 | I31: 53 | J31: 0.017164352 | K31: 45 | L31: 0.022604167 | M31: 43 | N31: 0.0077199074 | O31: 23 | Q31: 26 | S31: 30-49歳男子 | T31: 14 | U31: ママチャリ・シティ | V31: =IF(AND($E31=サマリー!$B$6,$I31<>""),H31,"") -> 0.0054398148 | W31: =IF(AND($S31=サマリー!$B$8,$I31<>""),H31,"") -> 0.0054398148 | X31: =IF(AND($E31=サマリー!$B$6,$K31<>""),J31,"") -> 0.017164352 | Y31: =IF(AND($S31=サマリー!$B$8,$K31<>""),J31,"") -> 0.017164352 | Z31: =IF(AND($E31=サマリー!$B$6,$O31<>""),N31,"") -> 0.0077199074 | AA31: =IF(AND($S31=サマリー!$B$8,$O31<>""),N31,"") -> 0.0077199074
A32: 31 | B32: 147 | C32: 河原井 真彦 | D32: 40 | E32: 男 | F32: 東京都 | G32: 0.030347222 | H32: 0.0055555556 | I32: 62 | J32: 0.016168981 | K32: 21 | L32: 0.021724537 | M32: 27 | N32: 0.0086226852 | O32: 73 | Q32: 27 | S32: 30-49歳男子 | T32: 15 | U32: ロード・TT | V32: =IF(AND($E32=サマリー!$B$6,$I32<>""),H32,"") -> 0.0055555556 | W32: =IF(AND($S32=サマリー!$B$8,$I32<>""),H32,"") -> 0.0055555556 | X32: =IF(AND($E32=サマリー!$B$6,$K32<>""),J32,"") -> 0.016168981 | Y32: =IF(AND($S32=サマリー!$B$8,$K32<>""),J32,"") -> 0.016168981 | Z32: =IF(AND($E32=サマリー!$B$6,$O32<>""),N32,"") -> 0.0086226852 | AA32: =IF(AND($S32=サマリー!$B$8,$O32<>""),N32,"") -> 0.0086226852
A33: 32 | B33: 113 | C33: 白井 伸枝 | D33: 51 | E33: 女 | F33: 東京都 | G33: 0.030381944 | H33: 0.0051157407 | I33: 38 | J33: 0.017106481 | K33: 42 | L33: 0.022222222 | M33: 34 | N33: 0.0081597222 | O33: 48 | R33: 5 | S33: 50歳以上女子 | U33: ロード・TT | V33: =IF(AND($E33=サマリー!$B$6,$I33<>""),H33,"") | W33: =IF(AND($S33=サマリー!$B$8,$I33<>""),H33,"") | X33: =IF(AND($E33=サマリー!$B$6,$K33<>""),J33,"") | Y33: =IF(AND($S33=サマリー!$B$8,$K33<>""),J33,"") | Z33: =IF(AND($E33=サマリー!$B$6,$O33<>""),N33,"") | AA33: =IF(AND($S33=サマリー!$B$8,$O33<>""),N33,"")
A34: 33 | B34: 124 | C34: 森田 充 | D34: 60 | E34: 男 | F34: 埼玉県 | G34: 0.030474537 | H34: 0.0048611111 | I34: 25 | J34: 0.016643519 | K34: 32 | L34: 0.02150463 | M34: 22 | N34: 0.0089699074 | O34: 97 | Q34: 28 | S34: 50歳以上男子 | T34: 6 | U34: ロード・TT | V34: =IF(AND($E34=サマリー!$B$6,$I34<>""),H34,"") -> 0.0048611111 | W34: =IF(AND($S34=サマリー!$B$8,$I34<>""),H34,"") | X34: =IF(AND($E34=サマリー!$B$6,$K34<>""),J34,"") -> 0.016643519 | Y34: =IF(AND($S34=サマリー!$B$8,$K34<>""),J34,"") | Z34: =IF(AND($E34=サマリー!$B$6,$O34<>""),N34,"") -> 0.0089699074 | AA34: =IF(AND($S34=サマリー!$B$8,$O34<>""),N34,"")
A35: 34 | B35: 154 | C35: 中村 奏汰 | D35: 24 | E35: 男 | F35: 東京都 | G35: 0.030486111 | H35: 0.0045601852 | I35: 12 | J35: 0.018148148 | K35: 72 | L35: 0.022708333 | M35: 46 | N35: 0.0077777778 | O35: 26 | Q35: 29 | S35: 29歳以下男子 | T35: 3 | U35: ロード・TT | V35: =IF(AND($E35=サマリー!$B$6,$I35<>""),H35,"") -> 0.0045601852 | W35: =IF(AND($S35=サマリー!$B$8,$I35<>""),H35,"") | X35: =IF(AND($E35=サマリー!$B$6,$K35<>""),J35,"") -> 0.018148148 | Y35: =IF(AND($S35=サマリー!$B$8,$K35<>""),J35,"") | Z35: =IF(AND($E35=サマリー!$B$6,$O35<>""),N35,"") -> 0.0077777778 | AA35: =IF(AND($S35=サマリー!$B$8,$O35<>""),N35,"")
A36: 35 | B36: 157 | C36: 尾崎 陽 | D36: 51 | E36: 男 | F36: 東京都 | G36: 0.030532407 | H36: 0.0058333333 | I36: 76 | J36: 0.016527778 | K36: 31 | L36: 0.022361111 | M36: 40 | N36: 0.0081712963 | O36: 51 | Q36: 30 | S36: 50歳以上男子 | T36: 7 | U36: ロード・TT | V36: =IF(AND($E36=サマリー!$B$6,$I36<>""),H36,"") -> 0.0058333333 | W36: =IF(AND($S36=サマリー!$B$8,$I36<>""),H36,"") | X36: =IF(AND($E36=サマリー!$B$6,$K36<>""),J36,"") -> 0.016527778 | Y36: =IF(AND($S36=サマリー!$B$8,$K36<>""),J36,"") | Z36: =IF(AND($E36=サマリー!$B$6,$O36<>""),N36,"") -> 0.0081712963 | AA36: =IF(AND($S36=サマリー!$B$8,$O36<>""),N36,"")
A37: 36 | B37: 246 | C37: 小林 之維 | D37: 45 | E37: 男 | F37: 東京都 | G37: 0.030543981 | H37: 0.0053009259 | I37: 46 | J37: 0.016319444 | K37: 26 | L37: 0.02162037 | M37: 23 | N37: 0.0089236111 | O37: 93 | Q37: 31 | S37: 30-49歳男子 | T37: 16 | U37: ロード・TT | V37: =IF(AND($E37=サマリー!$B$6,$I37<>""),H37,"") -> 0.0053009259 | W37: =IF(AND($S37=サマリー!$B$8,$I37<>""),H37,"") -> 0.0053009259 | X37: =IF(AND($E37=サマリー!$B$6,$K37<>""),J37,"") -> 0.016319444 | Y37: =IF(AND($S37=サマリー!$B$8,$K37<>""),J37,"") -> 0.016319444 | Z37: =IF(AND($E37=サマリー!$B$6,$O37<>""),N37,"") -> 0.0089236111 | AA37: =IF(AND($S37=サマリー!$B$8,$O37<>""),N37,"") -> 0.0089236111
A38: 37 | B38: 533 | C38: 井元 遥貴 | D38: 21 | E38: 男 | F38: 東京都 | G38: 0.030578704 | H38: 0.0051851852 | I38: 41 | J38: 0.017766204 | K38: 59 | L38: 0.022951389 | M38: 49 | N38: 0.0076273148 | O38: 20 | Q38: 32 | S38: 29歳以下男子 | T38: 4 | U38: ママチャリ・シティ | V38: =IF(AND($E38=サマリー!$B$6,$I38<>""),H38,"") -> 0.0051851852 | W38: =IF(AND($S38=サマリー!$B$8,$I38<>""),H38,"") | X38: =IF(AND($E38=サマリー!$B$6,$K38<>""),J38,"") -> 0.017766204 | Y38: =IF(AND($S38=サマリー!$B$8,$K38<>""),J38,"") | Z38: =IF(AND($E38=サマリー!$B$6,$O38<>""),N38,"") -> 0.0076273148 | AA38: =IF(AND($S38=サマリー!$B$8,$O38<>""),N38,"")
A39: 38 | B39: 159 | C39: 髙田 明則 | D39: 53 | E39: 男 | F39: 埼玉県 | G39: 0.030740741 | H39: 0.0052546296 | I39: 45 | J39: 0.017337963 | K39: 50 | L39: 0.022592593 | M39: 42 | N39: 0.0081481481 | O39: 47 | Q39: 33 | S39: 50歳以上男子 | T39: 8 | U39: ロード・TT | V39: =IF(AND($E39=サマリー!$B$6,$I39<>""),H39,"") -> 0.0052546296 | W39: =IF(AND($S39=サマリー!$B$8,$I39<>""),H39,"") | X39: =IF(AND($E39=サマリー!$B$6,$K39<>""),J39,"") -> 0.017337963 | Y39: =IF(AND($S39=サマリー!$B$8,$K39<>""),J39,"") | Z39: =IF(AND($E39=サマリー!$B$6,$O39<>""),N39,"") -> 0.0081481481 | AA39: =IF(AND($S39=サマリー!$B$8,$O39<>""),N39,"")
A40: 39 | B40: 503 | C40: 片山 慎吾 | D40: 43 | E40: 男 | F40: 東京都 | G40: 0.030775463 | H40: 0.0045833333 | I40: 14 | J40: 0.017627315 | K40: 54 | L40: 0.022210648 | M40: 33 | N40: 0.0085648148 | O40: 71 | Q40: 34 | S40: 30-49歳男子 | T40: 17 | U40: MTB | V40: =IF(AND($E40=サマリー!$B$6,$I40<>""),H40,"") -> 0.0045833333 | W40: =IF(AND($S40=サマリー!$B$8,$I40<>""),H40,"") -> 0.0045833333 | X40: =IF(AND($E40=サマリー!$B$6,$K40<>""),J40,"") -> 0.017627315 | Y40: =IF(AND($S40=サマリー!$B$8,$K40<>""),J40,"") -> 0.017627315 | Z40: =IF(AND($E40=サマリー!$B$6,$O40<>""),N40,"") -> 0.0085648148 | AA40: =IF(AND($S40=サマリー!$B$8,$O40<>""),N40,"") -> 0.0085648148
...

Sheet 29歳以下男子
A1: 区分順位 | B1: ゼッケン | C1: 氏名 | D1: 年齢 | E1: 性別 | F1: 都道府県 | G1: 総合記録 | H1: スイムラップ | I1: S順 | J1: バイクラップ | K1: B順 | L1: ランラップ | M1: R順 | N1: 総合順位 | O1: 男子順位 | P1: 女子順位 | Q1: 備考
A2: 1 | B2: 107 | C2: 三浦 遼太 | D2: 19 | E2: 男 | F2: 東京都 | G2: 0.028761574 | H2: 0.0041435185 | I2: 5 | J2: 0.016087963 | K2: 19 | L2: 0.0085300926 | M2: 70 | N2: 16 | O2: 13
A3: 2 | B3: 260 | C3: 藤原 拓己 | D3: 22 | E3: 男 | F3: 東京都 | G3: 0.030185185 | H3: 0.0059837963 | I3: 91 | J3: 0.016296296 | K3: 25 | L3: 0.0079050926 | M3: 33 | N3: 29 | O3: 25
A4: 3 | B4: 154 | C4: 中村 奏汰 | D4: 24 | E4: 男 | F4: 東京都 | G4: 0.030486111 | H4: 0.0045601852 | I4: 12 | J4: 0.018148148 | K4: 72 | L4: 0.0077777778 | M4: 26 | N4: 34 | O4: 29
A5: 4 | B5: 533 | C5: 井元 遥貴 | D5: 21 | E5: 男 | F5: 東京都 | G5: 0.030578704 | H5: 0.0051851852 | I5: 41 | J5: 0.017766204 | K5: 59 | L5: 0.0076273148 | M5: 20 | N5: 37 | O5: 32
A6: 5 | B6: 314 | C6: 高原 広太郎 | D6: 25 | E6: 男 | F6: 東京都 | G6: 0.031840278 | H6: 0.0064583333 | I6: 144 | J6: 0.017071759 | K6: 41 | L6: 0.0083101852 | M6: 57 | N6: 46 | O6: 41
A7: 6 | B7: 111 | C7: 小松 泰地 | D7: 26 | E7: 男 | F7: 東京都 | G7: 0.032928241 | H7: 0.004525463 | I7: 11 | J7: 0.019444444 | K7: 113 | L7: 0.0089583333 | M7: 95 | N7: 67 | O7: 59
A8: 7 | B8: 518 | C8: 梅津 巧 | D8: 28 | E8: 男 | F8: 東京都 | G8: 0.032986111 | H8: 0.0055324074 | I8: 59 | J8: 0.019710648 | K8: 118 | L8: 0.0077430556 | M8: 25 | N8: 69 | O8: 60
A9: 8 | B9: 215 | C9: 高柳 和貴 | D9: 28 | E9: 男 | F9: 東京都 | G9: 0.033958333 | H9: 0.0050115741 | I9: 33 | J9: 0.020428241 | K9: 139 | L9: 0.0085185185 | M9: 68 | N9: 90 | O9: 77
A10: 9 | B10: 340 | C10: 足利 真夏 | D10: 24 | E10: 男 | F10: 神奈川県 | G10: 0.033958333 | H10: 0.0054976852 | I10: 58 | J10: 0.0196875 | K10: 117 | L10: 0.0087731481 | M10: 83 | N10: 91 | O10: 78
A11: 10 | B11: 120 | C11: 井口 祐汰 | D11: 29 | E11: 男 | F11: 東京都 | G11: 0.033981481 | H11: 0.0059953704 | I11: 92 | J11: 0.019664352 | K11: 116 | L11: 0.0083217593 | M11: 58 | N11: 92 | O11: 79
A12: 11 | B12: 448 | C12: 青柳 武志 | D12: 27 | E12: 男 | F12: 神奈川県 | G12: 0.035416667 | H12: 0.0060763889 | I12: 103 | J12: 0.019050926 | K12: 101 | L12: 0.010289352 | M12: 165 | N12: 119 | O12: 99
A13: 12 | B13: 441 | C13: 森谷 歩 | D13: 22 | E13: 男 | F13: 東京都 | G13: 0.035949074 | H13: 0.0080671296 | I13: 239 | J13: 0.017604167 | K13: 53 | L13: 0.010277778 | M13: 164 | N13: 129 | O13: 106
... A19: 18 | B19: 230 | C19: 佐々木 潤也 | D19: 18 | E19: 男 | F19: 東京都 | G19: 0.048090278 | H19: 0.0061805556 | I19: 115 | J19: 0.028229167 | K19: 250 | L19: 0.013680556 | M19: 242 | N19: 244 | O19: 196
B20: 122 | C20: 武藤 駿 | D20: 17 | E20: 男 | F20: 東京都 | N20: DNS | Q20: DNS
B21: 136 | C21: 小俣 賢優 | D21: 17 | E21: 男 | F21: 神奈川県 | G21: 0.026608796 | H21: 0.0048726852 | J21: 0.014108796 | L21: 0.0076273148 | N21: DSQ | Q21: DSQ
B22: 407 | C22: 佐藤 空嘉 | D22: 19 | E22: 男 | F22: 東京都 | G22: 0.036388889 | H22: 0.0087962963 | J22: 0.022233796 | L22: 0.0053587963 | N22: DSQ | Q22: DSQ
B23: 538 | C23: 下条 幹太 | D23: 19 | E23: 男 | F23: 東京都 | N23: DNS | Q23: DNS

Sheet 30-49歳男子
A1: 区分順位 | B1: ゼッケン | C1: 氏名 | D1: 年齢 | E1: 性別 | F1: 都道府県 | G1: 総合記録 | H1: スイムラップ | I1: S順 | J1: バイクラップ | K1: B順 | L1: ランラップ | M1: R順 | N1: 総合順位 | O1: 男子順位 | P1: 女子順位 | Q1: 備考
A2: 1 | B2: 244 | C2: 佐川 公太 | D2: 33 | E2: 男 | F2: 東京都 | G2: 0.027418981 | H2: 0.0050694444 | I2: 35 | J2: 0.016319444 | K2: 27 | L2: 0.0060300926 | M2: 1 | N2: 7 | O2: 6
A3: 2 | B3: 302 | C3: 小川 勉 | D3: 44 | E3: 男 | F3: 東京都 | G3: 0.027638889 | H3: 0.0049305556 | I3: 27 | J3: 0.015243056 | K3: 6 | L3: 0.0074652778 | M3: 15 | N3: 8 | O3: 7
A4: 3 | B4: 222 | C4: 水口 直樹 | D4: 47 | E4: 男 | F4: 東京都 | G4: 0.027777778 | H4: 0.0055787037 | I4: 65 | J4: 0.014675926 | K4: 4 | L4: 0.0075231481 | M4: 18 | N4: 9 | O4: 8
A5: 4 | B5: 207 | C5: 阿部 拓希 | D5: 30 | E5: 男 | F5: 東京都 | G5: 0.02806713 | H5: 0.0055439815 | I5: 60 | J5: 0.015486111 | K5: 11 | L5: 0.007037037 | M5: 6 | N5: 11 | O5: 10
A6: 5 | B6: 512 | C6: 橋本 哲二 | D6: 49 | E6: 男 | F6: 東京都 | G6: 0.028657407 | H6: 0.0049652778 | I6: 30 | J6: 0.016388889 | K6: 28 | L6: 0.0073032407 | M6: 11 | N6: 14 | O6: 12
A7: 6 | B7: 142 | C7: 中澤 孝介 | D7: 44 | E7: 男 | F7: 東京都 | G7: 0.028969907 | H7: 0.0051736111 | I7: 40 | J7: 0.015636574 | K7: 13 | L7: 0.0081597222 | M7: 49 | N7: 17 | O7: 14
A8: 7 | B8: 206 | C8: 吉田 道保 | D8: 37 | E8: 男 | F8: 東京都 | G8: 0.029386574 | H8: 0.0064814815 | I8: 149 | J8: 0.015428241 | K8: 9 | L8: 0.0074768519 | M8: 16 | N8: 21 | O8: 17
A9: 8 | B9: 253 | C9: 小田川 亮人 | D9: 47 | E9: 男 | F9: 神奈川県 | G9: 0.029618056 | H9: 0.0046296296 | I9: 15 | J9: 0.017002315 | K9: 38 | L9: 0.0079861111 | M9: 39 | N9: 22 | O9: 18
A10: 9 | B10: 259 | C10: 草間 大貴 | D10: 39 | E10: 男 | F10: 東京都 | G10: 0.02974537 | H10: 0.0071180556 | I10: 198 | J10: 0.015671296 | K10: 14 | L10: 0.0069560185 | M10: 5 | N10: 23 | O10: 19
A11: 10 | B11: 204 | C11: 小林 勇二 | D11: 48 | E11: 男 | F11: 東京都 | G11: 0.029872685 | H11: 0.0054861111 | I11: 56 | J11: 0.015740741 | K11: 15 | L11: 0.0086458333 | M11: 74 | N11: 24 | O11: 20
A12: 11 | B12: 509 | C12: 村上 大幸 | D12: 36 | E12: 男 | F12: 東京都 | G12: 0.03 | H12: 0.0052083333 | I12: 42 | J12: 0.016967593 | K12: 35 | L12: 0.0078240741 | M12: 29 | N12: 26 | O12: 22
A13: 12 | B13: 153 | C13: 繁田 陽 | D13: 39 | E13: 男 | F13: 東京都 | G13: 0.030127315 | H13: 0.0053240741 | I13: 47 | J13: 0.017002315 | K13: 39 | L13: 0.0078009259 | M13: 28 | N13: 27 | O13: 23
... A77: 76 | B77: 557 | C77: 中澤 元 | D77: 36 | E77: 男 | F77: 神奈川県 | G77: 0.081030093 | H77: 0.0095833333 | I77: 252 | J77: 0.036203704 | K77: 257 | L77: 0.035243056 | M77: 256 | N77: 257 | O77: 201
B78: 104 | C78: 根本 康行 | D78: 40 | E78: 男 | F78: 東京都 | G78: 0.024560185 | H78: 0.0039814815 | I78: 2 | J78: 0.01349537 | K78: 1 | L78: 0.0070833333 | M78: 7 | N78: 1 | O78: 1 | Q78: 総合男女上位5位のため区分表彰対象外
B79: 110 | C79: 水野 諒太郎 | D79: 40 | E79: 男 | F79: 東京都 | G79: 0.024953704 | H79: 0.0040740741 | I79: 3 | J79: 0.014085648 | K79: 3 | L79: 0.0067939815 | M79: 4 | N79: 2 | O79: 2 | Q79: 総合男女上位5位のため区分表彰対象外
B80: 152 | C80: 小松 大祐 | D80: 49 | E80: 男 | F80: 東京都 | N80: DNS | Q80: DNS
B81: 220 | C81: 藤田 大和 | D81: 34 | E81: 男 | F81: 埼玉県 | N81: DNS | Q81: DNS
B82: 228 | C82: 近藤 和樹 | D82: 39 | E82: 男 | F82: 東京都 | H82: 0.0062268519 | I82: 121 | N82: DNF | Q82: DNF
B83: 250 | C83: 金子 文也 | D83: 31 | E83: 男 | F83: 神奈川県 | N83: DNS | Q83: DNS
B84: 317 | C84: 奥村 敦史 | D84: 48 | E84: 男 | F84: 埼玉県 | J84: 0.018472222 | L84: 0.010115741 | N84: SKIP | Q84: SKIP
B85: 432 | C85: 丹沢 茂樹 | D85: 43 | E85: 男 | F85: 東京都 | N85: DNS | Q85: DNS
B86: 445 | C86: 池澤 敦 | D86: 39 | E86: 男 | F86: 東京都 | G86: 0.061944444 | J86: 0.048958333 | L86: 0.01181713 | N86: DSQ | Q86: DSQ
B87: 514 | C87: 金澤 賢二朗 | D87: 47 | E87: 男 | F87: 東京都 | N87: DNS | Q87: DNS
B88: 515 | C88: 尹 七守 | D88: 49 | E88: 男 | F88: 東京都 | N88: DNS | Q88: DNS
B89: 554 | C89: 剱持 雄二 | D89: 49 | E89: 男 | F89: 東京都 | G89: 0.027060185 | H89: 0.0061805556 | J89: 0.017951389 | L89: 0.0029282407 | N89: DSQ | Q89: DSQ

Sheet 50歳以上男子
A1: 区分順位 | B1: ゼッケン | C1: 氏名 | D1: 年齢 | E1: 性別 | F1: 都道府県 | G1: 総合記録 | H1: スイムラップ | I1: S順 | J1: バイクラップ | K1: B順 | L1: ランラップ | M1: R順 | N1: 総合順位 | O1: 男子順位 | P1: 女子順位 | Q1: 備考
A2: 1 | B2: 211 | C2: 水谷 武司 | D2: 54 | E2: 男 | F2: 東京都 | G2: 0.027939815 | H2: 0.0047916667 | I2: 20 | J2: 0.015358796 | K2: 7 | L2: 0.0077893519 | M2: 27 | N2: 10 | O2: 9
A3: 2 | B3: 128 | C3: 奥山 奥士 | D3: 58 | E3: 男 | F3: 東京都 | G3: 0.028414352 | H3: 0.0039467593 | I3: 1 | J3: 0.016747685 | K3: 33 | L3: 0.0077199074 | M3: 24 | N3: 13 | O3: 11
A4: 3 | B4: 125 | C4: 木村 航士 | D4: 56 | E4: 男 | F4: 神奈川県 | G4: 0.029363426 | H4: 0.004849537 | I4: 24 | J4: 0.017766204 | K4: 60 | L4: 0.0067476852 | M4: 2 | N4: 19 | O4: 15
A5: 4 | B5: 306 | C5: 山口 高男 | D5: 57 | E5: 男 | F5: 東京都 | G5: 0.029375 | H5: 0.0048148148 | I5: 22 | J5: 0.016516204 | K5: 30 | L5: 0.0080439815 | M5: 42 | N5: 20 | O5: 16
A6: 5 | B6: 129 | C6: 中島 秀彰 | D6: 63 | E6: 男 | F6: 東京都 | G6: 0.029884259 | H6: 0.0061226852 | I6: 109 | J6: 0.015509259 | K6: 12 | L6: 0.0082523148 | M6: 54 | N6: 25 | O6: 21
A7: 6 | B7: 124 | C7: 森田 充 | D7: 60 | E7: 男 | F7: 埼玉県 | G7: 0.030474537 | H7: 0.0048611111 | I7: 25 | J7: 0.016643519 | K7: 32 | L7: 0.0089699074 | M7: 97 | N7: 33 | O7: 28
A8: 7 | B8: 157 | C8: 尾崎 陽 | D8: 51 | E8: 男 | F8: 東京都 | G8: 0.030532407 | H8: 0.0058333333 | I8: 76 | J8: 0.016527778 | K8: 31 | L8: 0.0081712963 | M8: 51 | N8: 35 | O8: 30
A9: 8 | B9: 159 | C9: 髙田 明則 | D9: 53 | E9: 男 | F9: 埼玉県 | G9: 0.030740741 | H9: 0.0052546296 | I9: 45 | J9: 0.017337963 | K9: 50 | L9: 0.0081481481 | M9: 47 | N9: 38 | O9: 33
A10: 9 | B10: 559 | C10: 吉澤 延彦 | D10: 54 | E10: 男 | F10: 東京都 | G10: 0.030891204 | H10: 0.0055787037 | I10: 64 | J10: 0.017453704 | K10: 51 | L10: 0.0078587963 | M10: 31 | N10: 40 | O10: 35
A11: 10 | B11: 109 | C11: 國谷 智宏 | D11: 51 | E11: 男 | F11: 東京都 | G11: 0.031041667 | H11: 0.0053703704 | I11: 50 | J11: 0.016979167 | K11: 37 | L11: 0.0086921296 | M11: 76 | N11: 42 | O11: 37
A12: 11 | B12: 225 | C12: 坪井 修一 | D12: 65 | E12: 男 | F12: 大阪府 | G12: 0.031157407 | H12: 0.005 | I12: 32 | J12: 0.016770833 | K12: 34 | L12: 0.0093865741 | M12: 121 | N12: 43 | O12: 38
A13: 12 | B13: 433 | C13: 田中 啓太 | D13: 58 | E13: 男 | F13: 東京都 | G13: 0.031909722 | H13: 0.0068171296 | I13: 170 | J13: 0.017118056 | K13: 44 | L13: 0.007974537 | M13: 37 | N13: 47 | O13: 42
... A27: 26 | B27: 251 | C27: 柴田 俊一 | D27: 60 | E27: 男 | F27: 東京都 | G27: 0.033287037 | H27: 0.0060069444 | I27: 93 | J27: 0.018449074 | K27: 80 | L27: 0.0088310185 | M27: 87 | N27: 77 | O27: 67
A28: 27 | B28: 257 | C28: 小室 博之 | D28: 61 | E28: 男 | G28: 0.033333333 | H28: 0.0055555556 | I28: 61 | J28: 0.01818287 | K28: 73 | L28: 0.0095949074 | M28: 131 | N28: 80 | O28: 68
A29: 28 | B29: 158 | C29: 原田 学 | D29: 53 | E29: 男 | F29: 東京都 | G29: 0.033368056 | H29: 0.0066203704 | I29: 159 | J29: 0.018344907 | K29: 76 | L29: 0.0084027778 | M29: 59 | N29: 81 | O29: 69
A30: 29 | B30: 330 | C30: 五十嵐 亘 | D30: 56 | E30: 男 | F30: 埼玉県 | G30: 0.033414352 | H30: 0.006099537 | I30: 105 | J30: 0.018287037 | K30: 75 | L30: 0.0090277778 | M30: 99 | N30: 82 | O30: 70
A31: 30 | B31: 134 | C31: 西村 昭俊 | D31: 61 | E31: 男 | F31: 東京都 | G31: 0.0334375 | H31: 0.0058101852 | I31: 74 | J31: 0.018506944 | K31: 82 | L31: 0.0091203704 | M31: 105 | N31: 83 | O31: 71
A32: 31 | B32: 307 | C32: 柏崎 龍進 | D32: 61 | E32: 男 | F32: 東京都 | G32: 0.033449074 | H32: 0.0060069444 | I32: 95 | J32: 0.017662037 | K32: 55 | L32: 0.0097800926 | M32: 137 | N32: 84 | O32: 72
A33: 32 | B33: 316 | C33: 渡邊 龍太 | D33: 52 | E33: 男 | F33: 東京都 | G33: 0.033530093 | H33: 0.0079976852 | I33: 235 | J33: 0.018101852 | K33: 70 | L33: 0.0074305556 | M33: 14 | N33: 86 | O33: 74
A34: 33 | B34: 321 | C34: 近藤 寛 | D34: 53 | E34: 男 | F34: 東京都 | G34: 0.033715278 | H34: 0.0063888889 | I34: 137 | J34: 0.019259259 | K34: 109 | L34: 0.0080671296 | M34: 43 | N34: 88 | O34: 75
A35: 34 | B35: 561 | C35: 菊池 学 | D35: 62 | E35: 男 | F35: 埼玉県 | G35: 0.033923611 | H35: 0.0060648148 | I35: 100 | J35: 0.0184375 | K35: 79 | L35: 0.0094212963 | M35: 123 | N35: 89 | O35: 76
A36: 35 | B36: 336 | C36: 泉谷 泰彦 | D36: 62 | E36: 男 | F36: 東京都 | G36: 0.0340625 | H36: 0.0059722222 | I36: 87 | J36: 0.018993056 | K36: 99 | L36: 0.0090972222 | M36: 104 | N36: 93 | O36: 80
A37: 36 | B37: 326 | C37: 中嶋 一郎 | D37: 50 | E37: 男 | F37: 東京都 | G37: 0.034108796 | H37: 0.0063194444 | I37: 135 | J37: 0.018611111 | K37: 87 | L37: 0.0091782407 | M37: 109 | N37: 94 | O37: 81
A38: 37 | B38: 119 | C38: 武井 裕行 | D38: 57 | E38: 男 | F38: 東京都 | G38: 0.034212963 | H38: 0.0060300926 | I38: 98 | J38: 0.017928241 | K38: 64 | L38: 0.01025463 | M38: 161 | N38: 98 | O38: 84
A39: 38 | B39: 229 | C39: 請盛 靖幸 | D39: 59 | E39: 男 | F39: 東京都 | G39: 0.034409722 | H39: 0.0065625 | I39: 154 | J39: 0.018796296 | K39: 92 | L39: 0.0090509259 | M39: 101 | N39: 102 | O39: 87
A40: 39 | B40: 247 | C40: 入谷 清和 | D40: 50 | E40: 男 | F40: 神奈川県 | G40: 0.034756944 | H40: 0.0052546296 | I40: 43 | J40: 0.018599537 | K40: 85 | L40: 0.010902778 | M40: 190 | N40: 106 | O40: 89
... A103: 102 | B103: 530 | C103: 市川 恭永 | D103: 73 | E103: 男 | F103: 東京都 | G103: 0.050416667 | H103: 0.0064699074 | I103: 147 | J103: 0.028703704 | K103: 251 | L103: 0.015243056 | M103: 249 | N103: 251 | O103: 200
B104: 126 | C104: 生井 和平 | D104: 54 | E104: 男 | F104: 東京都 | G104: 0.025694444 | H104: 0.0042708333 | I104: 6 | J104: 0.014050926 | K104: 2 | L104: 0.0073726852 | M104: 13 | N104: 3 | O104: 3 | Q104: 総合男女上位5位のため区分表彰対象外
B105: 102 | C105: 白戸 太朗 | D105: 59 | E105: 男 | F105: 東京都 | G105: 0.026655093 | H105: 0.0041319444 | I105: 4 | J105: 0.014988426 | K105: 5 | L105: 0.0075347222 | M105: 19 | N105: 4 | O105: 4 | Q105: 総合男女上位5位のため区分表彰対象外
B106: 115 | C106: 新井 慎一郎 | D106: 59 | E106: 男 | F106: 東京都 | G106: 0.027025463 | H106: 0.0044675926 | I106: 10 | J106: 0.015393519 | K106: 8 | L106: 0.0071643519 | M106: 8 | N106: 5 | O106: 5 | Q106: 総合男女上位5位のため区分表彰対象外
B107: 130 | C107: 小森 健史 | D107: 64 | E107: 男 | F107: 東京都 | N107: DNS | Q107: DNS
B108: 140 | C108: 小清水 潔 | D108: 63 | E108: 男 | F108: 神奈川県 | J108: 0.019849537 | L108: 0.016724537 | N108: SKIP | Q108: SKIP
B109: 210 | C109: 持田 啓 | D109: 50 | E109: 男 | F109: 東京都 | N109: DNS | Q109: DNS
B110: 227 | C110: 青木 亮輔 | D110: 56 | E110: 男 | F110: 東京都 | N110: DNS | Q110: DNS
B111: 303 | C111: 仁多見 貴志 | D111: 51 | E111: 男 | F111: 神奈川県 | G111: 0.024826389 | H111: 0.0051736111 | J111: 0.014305556 | L111: 0.0053472222 | N111: DSQ | Q111: DSQ
B112: 304 | C112: 長谷川 敦 | D112: 51 | E112: 男 | F112: 神奈川県 | N112: DNS | Q112: DNS
B113: 309 | C113: 羽田野 潔 | D113: 62 | E113: 男 | F113: 東京都 | N113: DNS | Q113: DNS
B114: 310 | C114: 北浦 康裕 | D114: 65 | E114: 男 | F114: 東京都 | N114: DNS | Q114: DNS
B115: 313 | C115: 青木 克樹 | D115: 60 | E115: 男 | F115: 東京都 | N115: DNS | Q115: DNS
...

Sheet 29歳以下女子
A1: 区分順位 | B1: ゼッケン | C1: 氏名 | D1: 年齢 | E1: 性別 | F1: 都道府県 | G1: 総合記録 | H1: スイムラップ | I1: S順 | J1: バイクラップ | K1: B順 | L1: ランラップ | M1: R順 | N1: 総合順位 | O1: 男子順位 | P1: 女子順位 | Q1: 備考
A2: 1 | B2: 106 | C2: 小沼 美桜 | D2: 18 | E2: 女 | F2: 東京都 | G2: 0.032974537 | H2: 0.0054861111 | I2: 57 | J2: 0.017175926 | K2: 47 | L2: 0.0103125 | M2: 166 | N2: 68 | P2: 9
A3: 2 | B3: 117 | C3: 住吉谷 胡桃 | D3: 16 | E3: 女 | F3: 東京都 | G3: 0.033298611 | H3: 0.0043171296 | I3: 8 | J3: 0.020509259 | K3: 142 | L3: 0.0084722222 | M3: 65 | N3: 78 | P3: 11
A4: 3 | B4: 160 | C4: 髙田 春菜 | D4: 22 | E4: 女 | F4: 埼玉県 | G4: 0.033703704 | H4: 0.0047337963 | I4: 17 | J4: 0.018935185 | K4: 97 | L4: 0.010034722 | M4: 150 | N4: 87 | P4: 13
A5: 4 | B5: 528 | C5: Maruyama Kana | D5: 27 | E5: 女 | F5: 埼玉県 | G5: 0.035902778 | H5: 0.004849537 | I5: 23 | J5: 0.020219907 | K5: 134 | L5: 0.010833333 | M5: 185 | N5: 127 | P5: 23
A6: 5 | B6: 535 | C6: 布田 香澄 | D6: 29 | E6: 女 | F6: 東京都 | G6: 0.036377315 | H6: 0.0045601852 | I6: 13 | J6: 0.021979167 | K6: 183 | L6: 0.009837963 | M6: 140 | N6: 136 | P6: 25
A7: 6 | B7: 544 | C7: 高橋 茉弓 | D7: 29 | E7: 女 | F7: 東京都 | G7: 0.038009259 | H7: 0.0097106481 | I7: 255 | J7: 0.020046296 | K7: 129 | L7: 0.0082523148 | M7: 53 | N7: 163 | P7: 27
A8: 7 | B8: 105 | C8: 小沼 紗弥 | D8: 21 | E8: 女 | F8: 東京都 | G8: 0.03869213 | H8: 0.0069560185 | I8: 183 | J8: 0.02068287 | K8: 145 | L8: 0.011053241 | M8: 196 | N8: 172 | P8: 28
A9: 8 | B9: 156 | C9: 松本 綾菜 | D9: 29 | E9: 女 | F9: 東京都 | G9: 0.038703704 | H9: 0.0059143519 | I9: 80 | J9: 0.023530093 | K9: 217 | L9: 0.0092592593 | M9: 112 | N9: 173 | P9: 29
A10: 9 | B10: 414 | C10: 稲福 咲紀 | D10: 28 | E10: 女 | F10: 東京都 | G10: 0.051168981 | H10: 0.0086458333 | I10: 246 | J10: 0.027361111 | K10: 244 | L10: 0.015162037 | M10: 248 | N10: 252 | P10: 52
B11: 237 | C11: ちょう みらん | D11: 29 | E11: 女 | F11: 東京都 | G11: 0.029085648 | H11: 0.0049421296 | I11: 28 | J11: 0.016134259 | K11: 20 | L11: 0.0080092593 | M11: 41 | N11: 18 | P11: 4 | Q11: 総合男女上位5位のため区分表彰対象外
B12: 208 | C12: 藤坂 侑実 | D12: 27 | E12: 女 | F12: 神奈川県 | N12: DNS | Q12: DNS
B13: 318 | C13: 野口 珠里 | D13: 27 | E13: 女 | F13: 東京都 | N13: DNS | Q13: DNS

Sheet 30-49歳女子
A1: 区分順位 | B1: ゼッケン | C1: 氏名 | D1: 年齢 | E1: 性別 | F1: 都道府県 | G1: 総合記録 | H1: スイムラップ | I1: S順 | J1: バイクラップ | K1: B順 | L1: ランラップ | M1: R順 | N1: 総合順位 | O1: 男子順位 | P1: 女子順位 | Q1: 備考
A2: 1 | B2: 236 | C2: 若杉 美鈴 | D2: 32 | E2: 女 | F2: 東京都 | G2: 0.032662037 | H2: 0.0047106481 | I2: 16 | J2: 0.018668981 | K2: 89 | L2: 0.0092824074 | M2: 115 | N2: 61 | P2: 7
A3: 2 | B3: 116 | C3: 石川 夏希 | D3: 38 | E3: 女 | F3: 東京都 | G3: 0.033333333 | H3: 0.0048958333 | I3: 26 | J3: 0.018634259 | K3: 88 | L3: 0.0098032407 | M3: 139 | N3: 79 | P3: 12
A4: 3 | B4: 346 | C4: 鳴海 菜里衣 | D4: 37 | E4: 女 | F4: 東京都 | G4: 0.034155093 | H4: 0.0062962963 | I4: 128 | J4: 0.019189815 | K4: 107 | L4: 0.0086689815 | M4: 75 | N4: 96 | P4: 14
A5: 4 | B5: 118 | C5: 阿賀岡 恵 | D5: 48 | E5: 女 | F5: 東京都 | G5: 0.034768519 | H5: 0.0054050926 | I5: 52 | J5: 0.017673611 | K5: 56 | L5: 0.011689815 | M5: 214 | N5: 107 | P5: 18
A6: 5 | B6: 240 | C6: 義田 陽菜子 | D6: 31 | E6: 女 | F6: 東京都 | G6: 0.034768519 | H6: 0.006412037 | I6: 139 | J6: 0.018402778 | K6: 77 | L6: 0.0099537037 | M6: 146 | N6: 108 | P6: 19
A7: 6 | B7: 527 | C7: 湯越 美由紀 | D7: 35 | E7: 女 | F7: 東京都 | G7: 0.039641204 | H7: 0.0049537037 | I7: 29 | J7: 0.022719907 | K7: 198 | L7: 0.011967593 | M7: 223 | N7: 192 | P7: 31
A8: 7 | B8: 337 | C8: 小島 玲子 | D8: 46 | E8: 女 | F8: 神奈川県 | G8: 0.039965278 | H8: 0.0067939815 | I8: 168 | J8: 0.021331019 | K8: 167 | L8: 0.011840278 | M8: 222 | N8: 198 | P8: 34
A9: 8 | B9: 403 | C9: 亀山 亜矢子 | D9: 48 | E9: 女 | F9: 神奈川県 | G9: 0.040891204 | H9: 0.0069675926 | I9: 187 | J9: 0.0228125 | K9: 202 | L9: 0.011111111 | M9: 198 | N9: 202 | P9: 35
A10: 9 | B10: 413 | C10: 田代 星乃 | D10: 40 | E10: 女 | F10: 東京都 | G10: 0.042627315 | H10: 0.0084606481 | I10: 243 | J10: 0.022893519 | K10: 206 | L10: 0.011273148 | M10: 203 | N10: 219 | P10: 42
A11: 10 | B11: 549 | C11: 和田 怜子 | D11: 44 | E11: 女 | F11: 東京都 | G11: 0.043356481 | H11: 0.0076736111 | I11: 222 | J11: 0.025150463 | K11: 237 | L11: 0.010532407 | M11: 174 | N11: 223 | P11: 43
A12: 11 | B12: 345 | C12: 吉田 まわら | D12: 44 | E12: 女 | F12: 東京都 | G12: 0.044282407 | H12: 0.0064236111 | I12: 140 | J12: 0.026331019 | K12: 241 | L12: 0.011527778 | M12: 209 | N12: 229 | P12: 44
A13: 12 | B13: 541 | C13: 冨永 真美 | D13: 42 | E13: 女 | F13: 東京都 | G13: 0.044398148 | H13: 0.0070949074 | I13: 196 | J13: 0.025324074 | K13: 239 | L13: 0.011979167 | M13: 224 | N13: 230 | P13: 45
... A16: 15 | B16: 242 | C16: 保住 典子 | D16: 45 | E16: 女 | F16: 東京都 | G16: 0.048622685 | H16: 0.0072453704 | I16: 208 | J16: 0.023599537 | K16: 219 | L16: 0.017777778 | M16: 254 | N16: 246 | P16: 49
B17: 103 | C17: 太田 成美 | D17: 39 | E17: 女 | F17: 神奈川県 | G17: 0.02869213 | H17: 0.0044444444 | I17: 9 | J17: 0.016412037 | K17: 29 | L17: 0.0078356481 | M17: 30 | N17: 15 | P17: 3 | Q17: 総合男女上位5位のため区分表彰対象外
B18: 546 | C18: 石川 明日香 | D18: 34 | E18: 女 | F18: 東京都 | N18: DNS | Q18: DNS

Sheet 50歳以上女子
A1: 区分順位 | B1: ゼッケン | C1: 氏名 | D1: 年齢 | E1: 性別 | F1: 都道府県 | G1: 総合記録 | H1: スイムラップ | I1: S順 | J1: バイクラップ | K1: B順 | L1: ランラップ | M1: R順 | N1: 総合順位 | O1: 男子順位 | P1: 女子順位 | Q1: 備考
A2: 1 | B2: 417 | C2: 西平 里恵 | D2: 53 | E2: 女 | F2: 神奈川県 | G2: 0.032349537 | H2: 0.0062962963 | I2: 126 | J2: 0.018425926 | K2: 78 | L2: 0.0076273148 | M2: 21 | N2: 52 | P2: 6
A3: 2 | B3: 139 | C3: 若杉 利香 | D3: 56 | E3: 女 | F3: 大阪府 | G3: 0.03287037 | H3: 0.0052546296 | I3: 44 | J3: 0.017824074 | K3: 61 | L3: 0.0097916667 | M3: 138 | N3: 64 | P3: 8
A4: 3 | B4: 522 | C4: 荒木 雅子 | D4: 58 | E4: 女 | F4: 東京都 | G4: 0.033206019 | H4: 0.0059375 | I4: 83 | J4: 0.019166667 | K4: 106 | L4: 0.0081018519 | M4: 45 | N4: 73 | P4: 10
A5: 4 | B5: 143 | C5: 春日 伊都子 | D5: 57 | E5: 女 | F5: 東京都 | G5: 0.034328704 | H5: 0.0063078704 | I5: 129 | J5: 0.019849537 | K5: 124 | L5: 0.0081712963 | M5: 50 | N5: 100 | P5: 15
A6: 5 | B6: 548 | C6: 尾澤 あや | D6: 60 | E6: 女 | F6: 東京都 | G6: 0.034513889 | H6: 0.0059259259 | I6: 82 | J6: 0.018229167 | K6: 74 | L6: 0.010358796 | M6: 169 | N6: 104 | P6: 16
A7: 6 | B7: 360 | C7: 森村 ゆき | D7: 51 | E7: 女 | F7: 東京都 | G7: 0.034618056 | H7: 0.0066087963 | I7: 158 | J7: 0.018530093 | K7: 83 | L7: 0.0094791667 | M7: 126 | N7: 105 | P7: 17
A8: 7 | B8: 339 | C8: 高野 祐子 | D8: 55 | E8: 女 | F8: 東京都 | G8: 0.03505787 | H8: 0.0056018519 | I8: 66 | J8: 0.020729167 | K8: 149 | L8: 0.0087268519 | M8: 78 | N8: 114 | P8: 20
A9: 8 | B9: 405 | C9: 犬塚 多恵 | D9: 50 | E9: 女 | F9: 茨城県 | G9: 0.035543981 | H9: 0.0071064815 | I9: 197 | J9: 0.018599537 | K9: 84 | L9: 0.009837963 | M9: 141 | N9: 120 | P9: 21
A10: 9 | B10: 241 | C10: 依田 はなえ | D10: 50 | E10: 女 | F10: 神奈川県 | G10: 0.035833333 | H10: 0.0062847222 | I10: 125 | J10: 0.020115741 | K10: 131 | L10: 0.0094328704 | M10: 124 | N10: 126 | P10: 22
A11: 10 | B11: 547 | C11: 平山 佳美 | D11: 50 | E11: 女 | F11: 埼玉県 | G11: 0.036273148 | H11: 0.0051041667 | I11: 37 | J11: 0.022141204 | K11: 189 | L11: 0.0090277778 | M11: 100 | N11: 135 | P11: 24
A12: 11 | B12: 519 | C12: 長澤 昌美 | D12: 59 | E12: 女 | F12: 神奈川県 | G12: 0.037523148 | H12: 0.0061689815 | I12: 114 | J12: 0.022627315 | K12: 197 | L12: 0.0087268519 | M12: 79 | N12: 159 | P12: 26
A13: 12 | B13: 543 | C13: 風間 理江 | D13: 52 | E13: 女 | F13: 東京都 | G13: 0.039085648 | H13: 0.0066203704 | I13: 160 | J13: 0.021747685 | K13: 179 | L13: 0.010717593 | M13: 183 | N13: 183 | P13: 30
... A28: 27 | B28: 545 | C28: 村山 彩雲 | D28: 79 | E28: 女 | F28: 東京都 | G28: 0.081018519 | H28: 0.0095833333 | I28: 253 | J28: 0.03619213 | K28: 256 | L28: 0.035243056 | M28: 257 | N28: 256 | P28: 56
B29: 239 | C29: 石井 恵 | D29: 50 | E29: 女 | F29: 東京都 | G29: 0.027337963 | H29: 0.0047685185 | I29: 18 | J29: 0.015775463 | K29: 16 | L29: 0.0067939815 | M29: 3 | N29: 6 | P29: 1 | Q29: 総合男女上位5位のため区分表彰対象外
B30: 114 | C30: 白戸 彩子 | D30: 58 | E30: 女 | F30: 東京都 | G30: 0.028321759 | H30: 0.0048032407 | I30: 21 | J30: 0.016284722 | K30: 24 | L30: 0.0072337963 | M30: 9 | N30: 12 | P30: 2 | Q30: 総合男女上位5位のため区分表彰対象外
B31: 113 | C31: 白井 伸枝 | D31: 51 | E31: 女 | F31: 東京都 | G31: 0.030381944 | H31: 0.0051157407 | I31: 38 | J31: 0.017106481 | K31: 42 | L31: 0.0081597222 | M31: 48 | N31: 32 | P31: 5 | Q31: 総合男女上位5位のため区分表彰対象外
